BEGIN:VCALENDAR
VERSION:2.0
PRODID:-//Rocksound - ECPv6.15.18//NONSGML v1.0//EN
CALSCALE:GREGORIAN
METHOD:PUBLISH
X-WR-CALNAME:Rocksound
X-ORIGINAL-URL:https://rocksound.cz
X-WR-CALDESC:Akce na Rocksound
REFRESH-INTERVAL;VALUE=DURATION:PT1H
X-Robots-Tag:noindex
X-PUBLISHED-TTL:PT1H
BEGIN:VTIMEZONE
TZID:Europe/Prague
BEGIN:DAYLIGHT
TZOFFSETFROM:+0100
TZOFFSETTO:+0200
TZNAME:CEST
DTSTART:20210328T010000
END:DAYLIGHT
BEGIN:STANDARD
TZOFFSETFROM:+0200
TZOFFSETTO:+0100
TZNAME:CET
DTSTART:20211031T010000
END:STANDARD
BEGIN:DAYLIGHT
TZOFFSETFROM:+0100
TZOFFSETTO:+0200
TZNAME:CEST
DTSTART:20220327T010000
END:DAYLIGHT
BEGIN:STANDARD
TZOFFSETFROM:+0200
TZOFFSETTO:+0100
TZNAME:CET
DTSTART:20221030T010000
END:STANDARD
BEGIN:DAYLIGHT
TZOFFSETFROM:+0100
TZOFFSETTO:+0200
TZNAME:CEST
DTSTART:20230326T010000
END:DAYLIGHT
BEGIN:STANDARD
TZOFFSETFROM:+0200
TZOFFSETTO:+0100
TZNAME:CET
DTSTART:20231029T010000
END:STANDARD
END:VTIMEZONE
BEGIN:VEVENT
DTSTART;TZID=Europe/Prague:20220612T190000
DTEND;TZID=Europe/Prague:20220612T220000
DTSTAMP:20260419T134622
CREATED:20220510T183440Z
LAST-MODIFIED:20220510T183440Z
UID:53288-1655060400-1655071200@rocksound.cz
SUMMARY:Nick Mason's Saucerful Of Secrets - Praha
DESCRIPTION:NICK MASON A PATTI SMITH PŘESOUVAJÍ SVÉ PRAŽSKÉ KONCERTY NA ROK 2022 \n\n\nSVĚTOVÁ PANDEMIE BOHUŽEL HUDEBNÍKŮM NEPŘEJE.  SVÁ PLÁNOVANÁ TURNÉ PŘESOUVAJÍ SVĚTOVÉ HVĚZDY NA ROK PŘÍŠTÍ. STEJNĚ TAK TOMU JE V PŘÍPADĚ BUBENÍKA LEGENDÁRNÍCH PINK FLOYD NICKA MASONA A JEHO SAUCERFUL OF SECRETS A AMERICKÉ PÍSNIČKÁŘKY PATTI SMITH. OBA MĚLI V RÁMCI SVÝCH EVROPSKÝCH TURNÉ PLÁNOVANOU ZASTÁVKU V PRAZE. JEJICH MANAGEMENT V TĚCHTO DNECH OHLÁSIL PŘESUN NA ROK 2022.\n\nKONCERT NICKA MASON JE PŘESUNUT NA 12. ČERVNA A PATTI SMITH NA 19. ČERVENCE 2022. PŮVODNĚ PLÁNOVANÉ MÍSTO\, TEDY FORUM KARLÍN\, PLATÍ STÁLE PRO OBA KONCERTY. JE NÁM TO SAMOZŘEJMĚ LÍTO\, ALE V SOUČASNÉ SVĚTOVÉ SITUACI S TÍM MNOHO NENADĚLÁME. PEVNĚ VĚŘÍM\, ŽE O TO VÍCE SI PŘÍZNIVCI OBOU LEGEND PAK KONCERTY UŽIJÍ\, “ ŘÍKÁ ZÁSTUPCE POŘÁDAJÍCÍ AGENTURY 10:15 ENTERTAINMENT MILENA PALEČKOVÁ.\n\nJIŽ ZAKOUPENÉ VSTUPENKY ZŮSTÁVAJÍ V PLATNOSTI. \nNICK MASON’S SAUCERFUL OF SECRETS \nDATUM KONÁNÍ: 12. ČERVNA 2022\, 20:00 HOD \nMÍSTO KONÁNÍ: FORUM KARLÍN\, PRAHA \nVSTUPENKY: V PŘEDPRODEJI V SÍTI TICKETMASTER A GOOUT \nCENA VSTUPENKY: SEZENÍ 2.500\,- / STÁNÍ 1.200\,- CZK
URL:https://rocksound.cz/akce/nick-masons-saucerful-of-secrets-praha/
LOCATION:Forum Karlín\, Pernerova 51\, Praha
ATTACH;FMTTYPE=image/jpeg:https://rocksound.cz/wp-content/uploads/2022/05/76730719_2729655503764082_1423376119221977088_n.jpg
END:VEVENT
END:VCALENDAR