BEGIN:VCALENDAR
VERSION:2.0
PRODID:-//Rocksound - ECPv6.15.18//NONSGML v1.0//EN
CALSCALE:GREGORIAN
METHOD:PUBLISH
X-WR-CALNAME:Rocksound
X-ORIGINAL-URL:https://rocksound.cz
X-WR-CALDESC:Akce na Rocksound
REFRESH-INTERVAL;VALUE=DURATION:PT1H
X-Robots-Tag:noindex
X-PUBLISHED-TTL:PT1H
BEGIN:VTIMEZONE
TZID:Europe/Prague
BEGIN:DAYLIGHT
TZOFFSETFROM:+0100
TZOFFSETTO:+0200
TZNAME:CEST
DTSTART:20180325T010000
END:DAYLIGHT
BEGIN:STANDARD
TZOFFSETFROM:+0200
TZOFFSETTO:+0100
TZNAME:CET
DTSTART:20181028T010000
END:STANDARD
BEGIN:DAYLIGHT
TZOFFSETFROM:+0100
TZOFFSETTO:+0200
TZNAME:CEST
DTSTART:20190331T010000
END:DAYLIGHT
BEGIN:STANDARD
TZOFFSETFROM:+0200
TZOFFSETTO:+0100
TZNAME:CET
DTSTART:20191027T010000
END:STANDARD
BEGIN:DAYLIGHT
TZOFFSETFROM:+0100
TZOFFSETTO:+0200
TZNAME:CEST
DTSTART:20200329T010000
END:DAYLIGHT
BEGIN:STANDARD
TZOFFSETFROM:+0200
TZOFFSETTO:+0100
TZNAME:CET
DTSTART:20201025T010000
END:STANDARD
END:VTIMEZONE
BEGIN:VEVENT
DTSTART;TZID=Europe/Prague:20191221T183000
DTEND;TZID=Europe/Prague:20191221T233000
DTSTAMP:20260422T213111
CREATED:20190926T200022Z
LAST-MODIFIED:20190926T200022Z
UID:23143-1576953000-1576971000@rocksound.cz
SUMMARY:Hypnos 20 let
DESCRIPTION:Tradiční death metalový koncert domácí skupiny HYPNOS\, který se koná každoročně poslední sobotu před Vánoci. \n\n\nLetos bude spojený s oslavou 20 let od založení. \nZe zahraničních hostů se představí deatheři Parental Advisory z Rakouska a techničtí Planet Hell z Polska. Za domácí pak alternativní Postcards from Arkham a nadějní mladíci Refore.
URL:https://rocksound.cz/akce/hypnos-20-let/
LOCATION:Klub Mír\, náměstí Míru 76\, Uherské Hradiště
END:VEVENT
END:VCALENDAR