BEGIN:VCALENDAR
VERSION:2.0
PRODID:-//Rocksound - ECPv6.15.18//NONSGML v1.0//EN
CALSCALE:GREGORIAN
METHOD:PUBLISH
X-WR-CALNAME:Rocksound
X-ORIGINAL-URL:https://rocksound.cz
X-WR-CALDESC:Akce na Rocksound
REFRESH-INTERVAL;VALUE=DURATION:PT1H
X-Robots-Tag:noindex
X-PUBLISHED-TTL:PT1H
BEGIN:VTIMEZONE
TZID:Europe/Prague
BEGIN:DAYLIGHT
TZOFFSETFROM:+0100
TZOFFSETTO:+0200
TZNAME:CEST
DTSTART:20180325T010000
END:DAYLIGHT
BEGIN:STANDARD
TZOFFSETFROM:+0200
TZOFFSETTO:+0100
TZNAME:CET
DTSTART:20181028T010000
END:STANDARD
BEGIN:DAYLIGHT
TZOFFSETFROM:+0100
TZOFFSETTO:+0200
TZNAME:CEST
DTSTART:20190331T010000
END:DAYLIGHT
BEGIN:STANDARD
TZOFFSETFROM:+0200
TZOFFSETTO:+0100
TZNAME:CET
DTSTART:20191027T010000
END:STANDARD
BEGIN:DAYLIGHT
TZOFFSETFROM:+0100
TZOFFSETTO:+0200
TZNAME:CEST
DTSTART:20200329T010000
END:DAYLIGHT
BEGIN:STANDARD
TZOFFSETFROM:+0200
TZOFFSETTO:+0100
TZNAME:CET
DTSTART:20201025T010000
END:STANDARD
END:VTIMEZONE
BEGIN:VEVENT
DTSTART;TZID=Europe/Prague:20191115T200000
DTEND;TZID=Europe/Prague:20191115T233000
DTSTAMP:20260423T023219
CREATED:20190923T070306Z
LAST-MODIFIED:20190923T070306Z
UID:22801-1573848000-1573860600@rocksound.cz
SUMMARY:Arakain - Polná
DESCRIPTION:Legenda české metalové scény\, kapela Arakain\, vyráží na své podzimní turné a hned s novým CD! \n\n\nTo přichází tři roky od vydání poslední řadové desky ARAKADABRA a fanoušci jej tak budou moci na koncertech tour slyšet poprvé v jeho live podání. Každopádně dojde i na nejoblíbenější songy z bohaté diskografie kapely. \nHosté: The Agony\, Booters \nPředprodej vstupenek v síti Ticketstream.
URL:https://rocksound.cz/akce/arakain-polna/
LOCATION:Kulturní středisko Zámek\, Zámek 485\, Polná
END:VEVENT
END:VCALENDAR