BEGIN:VCALENDAR
VERSION:2.0
PRODID:-//Rocksound - ECPv6.15.18//NONSGML v1.0//EN
CALSCALE:GREGORIAN
METHOD:PUBLISH
X-WR-CALNAME:Rocksound
X-ORIGINAL-URL:https://rocksound.cz
X-WR-CALDESC:Akce na Rocksound
REFRESH-INTERVAL;VALUE=DURATION:PT1H
X-Robots-Tag:noindex
X-PUBLISHED-TTL:PT1H
BEGIN:VTIMEZONE
TZID:Europe/Prague
BEGIN:DAYLIGHT
TZOFFSETFROM:+0100
TZOFFSETTO:+0200
TZNAME:CEST
DTSTART:20180325T010000
END:DAYLIGHT
BEGIN:STANDARD
TZOFFSETFROM:+0200
TZOFFSETTO:+0100
TZNAME:CET
DTSTART:20181028T010000
END:STANDARD
BEGIN:DAYLIGHT
TZOFFSETFROM:+0100
TZOFFSETTO:+0200
TZNAME:CEST
DTSTART:20190331T010000
END:DAYLIGHT
BEGIN:STANDARD
TZOFFSETFROM:+0200
TZOFFSETTO:+0100
TZNAME:CET
DTSTART:20191027T010000
END:STANDARD
BEGIN:DAYLIGHT
TZOFFSETFROM:+0100
TZOFFSETTO:+0200
TZNAME:CEST
DTSTART:20200329T010000
END:DAYLIGHT
BEGIN:STANDARD
TZOFFSETFROM:+0200
TZOFFSETTO:+0100
TZNAME:CET
DTSTART:20201025T010000
END:STANDARD
END:VTIMEZONE
BEGIN:VEVENT
DTSTART;TZID=Europe/Prague:20190402T200000
DTEND;TZID=Europe/Prague:20190402T220000
DTSTAMP:20260420T180644
CREATED:20190224T114727Z
LAST-MODIFIED:20190224T114727Z
UID:10312-1554235200-1554242400@rocksound.cz
SUMMARY:Miloš Meier – Drumming Syndrome (Praha)
DESCRIPTION:Miloš Meier vám představuje svoji bubenickou show DRUMMING SYNDROME \n\n\nBubenický virtuos Miloš Meier – i tak by se dal nazvat bubeník\, který se svoji bubenickou show Drumming Syndrome oslovuje čím dál větší publikum všech věkových kategorií a žánrových odvětvích.\nČlen metalových Dymytry\, nebo české Supergroup (Pavlíček\, Střihavka\, Dragoun\, …)\, přijede s touto svoji bubenickou one-man show v rámci svého DS tour 2019. Toto vystoupení představuje nejen na českých pódiích\, ale taky často na prestižních hudebních a bubenických akcích po celém světě\, jako byly třeba bubenické festivaly v Holandsku\, Španělsku\, či Rusku\, Meinl Drum Festivaly v Německu a Polsku\, nebo obří Seoul Drum Festival v Jižní Korei. \nV programu bubenické show Drumming Syndrome hraje Miloš Meier spoustu bubenických sól\, skladby speciálně složené pro tento projekt\, osobitě upravené známé filmové soundtracky a také další novinky a překvapení určené pro toto turné. Vrcholem vystoupení je čtyřiceti-minutový set složený ze světových rockových a metalových hitů. V průběhu programu dojde i na Milošovo vyprávění o jeho zkušenostech na domácí i zahraniční scéně\, o vybavení\, které používá a také na veřejnou diskuzi v uvolněném a zábavném pojetí. Součástí téměř dvou a půl hodinové show je promítání krátkých dokumentů z jeho bubenických cest. Milošovo extrémní energické bubnování a vysoká hráčská technická dovednost dává vystoupení jedinečný a originální zážitek. \nPředprodej vstupenek na musicbar.cz\, GoOut.cz a v sítích Ticketportal a Ticketmaster.
URL:https://rocksound.cz/akce/milos-meier-drumming-syndrome-praha/
LOCATION:Lucerna Music Bar\, Vodičkova 36\, Praha
END:VEVENT
BEGIN:VEVENT
DTSTART;TZID=Europe/Prague:20190402T200000
DTEND;TZID=Europe/Prague:20190402T230000
DTSTAMP:20260420T180644
CREATED:20190224T114120Z
LAST-MODIFIED:20190224T114120Z
UID:10310-1554235200-1554246000@rocksound.cz
SUMMARY:AVANTASIA - Praha
DESCRIPTION:Tobias Sammet a jeho metalová opera Avantasia zavítají do Prahy v rámci světového turné MOONGLOW WORLD TOUR 2019 \n\n\nAvantasia je projekt metalové opery\, za kterým stojí fantastický zpěvák a frontman skupiny Edguy Tobias Sammet. \nV posledních letech si Avantasia svými impozantními koncerty\, kombinující operu a rock\, získala již milióny fanoušků po celém světě. \nPo vyprodaných koncertech úžasného turné „Ghostlights World Tour 2016/2017“v Asii\, Americe a Evropě se kapela vrací zpátky na jeviště s ještě více opulentní show\, aby představila své nové album MOONGLOW. \nVstupenky vyprodány. \n 
URL:https://rocksound.cz/akce/avantasia-praha/
LOCATION:Forum Karlín\, Pernerova 51\, Praha
END:VEVENT
BEGIN:VEVENT
DTSTART;TZID=Europe/Prague:20190404T183000
DTEND;TZID=Europe/Prague:20190404T235900
DTSTAMP:20260420T180644
CREATED:20190325T221846Z
LAST-MODIFIED:20190325T221846Z
UID:11727-1554402600-1554422340@rocksound.cz
SUMMARY:Septicflesh - Praha
DESCRIPTION:Mistři temnoty a symfonického pekla – řečtí SEPTICFLESH nás přijíždí potěšit svojí návštěvou! \n\n\nIkonická kapela\, která není žádnou neznámou! A co je hlavní\, příští rok oslaví jejich kultovní album Revolution D.N.A. dvacet let\, třeba se dočkáme i překvapení… Jako spolupachatelé této skvělé akce budiž brazilská smršť\, krvelační trhači KRISIUN\, kteří nám představí naživo svojí novotinu Scourge of The Enthroned! \nJako support se představí démoničtí DIABOLICAL a SCIENCE OF DISORDER. \nPředprodej vstupenek na obscure.cz\, v sítích Ticketportal\, Ticketmaster a na předprodejní kase v Lucerně.
URL:https://rocksound.cz/akce/septicflesh-praha/
LOCATION:Futurum Music Bar\, Zborovská 7\, Praha
END:VEVENT
BEGIN:VEVENT
DTSTART;TZID=Europe/Prague:20190407T200000
DTEND;TZID=Europe/Prague:20190407T230000
DTSTAMP:20260420T180644
CREATED:20190224T115729Z
LAST-MODIFIED:20190224T115729Z
UID:10314-1554667200-1554678000@rocksound.cz
SUMMARY:Bob Dylan - Praha
DESCRIPTION:AMERICKÝ HUDEBNÍK BOB DYLAN SE TÉMĚŘ PŘESNĚ PO ROCE VRACÍ DO ČESKÉ REPUBLIKY! PO ÚŽASNÉM LETOŠNÍM KONCERTĚ V BRNĚ SE SEDMASEDMDESÁTILETÝ AMERICKÝ ZPĚVÁK TENTOKRÁT PŘEDSTAVÍ V UNIKÁTNÍCH PROSTORÁCH VELKÉHO SÁLU LUCERNY\, KTEROU BUDE OKUPOVAT HNED TŘI VEČERY PO SOBĚ! \n\n\nLEGENDÁRNÍ UMĚLEC SI VYBRAL TUTO NÁRODNÍ KULTURNÍ PAMÁTKU ČESKÉ REPUBLIKY ZÁMĚRNĚ\, ABY SVÝM FANOUŠKŮM MOHL NABÍDNOUT NEZAPOMENUTELNÝ HUDEBNÍ ZÁŽITEK. JEŠTĚ NIKDY NEMĚLI MOŽNOST MÍT SVÉHO IDOLA TAK BLÍZKO JAKO TENTOKRÁT\, NAVÍC HNED TŘIKRÁT ZA SEBOU! \nBob Dylan vystoupí ve Velkém sále pražské Lucerny 7.\, 8. a 9. dubna 2019 a jak je u tohoto umělce všeobecně známo\, každý večer bude nevšední a jiný. Uznávaný hudebník během turné pravidelně mění setlist a jeho každý koncert je tak jedinečným! Zároveň je znám i tím\, že si místa svých koncertů vždy pečlivě vybírá a Praha tak bude jen jednou z mála evropských zastávek jeho turné. Fanoušci se mohou těšit nejen na zásadní skladby jeho dosavadní kariéry\, ale samozřejmě i na ukázky ze stále aktuální desky Triplicate\, kterou vydal v roce 2017. \nPředprodej vstupenek v síti Ticketmaster.
URL:https://rocksound.cz/akce/bob-dylan-praha/
LOCATION:Lucerna – Velký sál\, Štěpánská 704/61\, Praha
END:VEVENT
BEGIN:VEVENT
DTSTART;TZID=Europe/Prague:20190408T200000
DTEND;TZID=Europe/Prague:20190408T230000
DTSTAMP:20260420T180644
CREATED:20190224T115905Z
LAST-MODIFIED:20190224T115905Z
UID:10316-1554753600-1554764400@rocksound.cz
SUMMARY:Bob Dylan - Praha
DESCRIPTION:AMERICKÝ HUDEBNÍK BOB DYLAN SE TÉMĚŘ PŘESNĚ PO ROCE VRACÍ DO ČESKÉ REPUBLIKY! PO ÚŽASNÉM LETOŠNÍM KONCERTĚ V BRNĚ SE SEDMASEDMDESÁTILETÝ AMERICKÝ ZPĚVÁK TENTOKRÁT PŘEDSTAVÍ V UNIKÁTNÍCH PROSTORÁCH VELKÉHO SÁLU LUCERNY\, KTEROU BUDE OKUPOVAT HNED TŘI VEČERY PO SOBĚ! \n\n\nLEGENDÁRNÍ UMĚLEC SI VYBRAL TUTO NÁRODNÍ KULTURNÍ PAMÁTKU ČESKÉ REPUBLIKY ZÁMĚRNĚ\, ABY SVÝM FANOUŠKŮM MOHL NABÍDNOUT NEZAPOMENUTELNÝ HUDEBNÍ ZÁŽITEK. JEŠTĚ NIKDY NEMĚLI MOŽNOST MÍT SVÉHO IDOLA TAK BLÍZKO JAKO TENTOKRÁT\, NAVÍC HNED TŘIKRÁT ZA SEBOU! \nBob Dylan vystoupí ve Velkém sále pražské Lucerny 7.\, 8. a 9. dubna 2019 a jak je u tohoto umělce všeobecně známo\, každý večer bude nevšední a jiný. Uznávaný hudebník během turné pravidelně mění setlist a jeho každý koncert je tak jedinečným! Zároveň je znám i tím\, že si místa svých koncertů vždy pečlivě vybírá a Praha tak bude jen jednou z mála evropských zastávek jeho turné. Fanoušci se mohou těšit nejen na zásadní skladby jeho dosavadní kariéry\, ale samozřejmě i na ukázky ze stále aktuální desky Triplicate\, kterou vydal v roce 2017. \nPředprodej vstupenek v síti Ticketmaster.
URL:https://rocksound.cz/akce/bob-dylan-praha-2/
LOCATION:Lucerna – Velký sál\, Štěpánská 704/61\, Praha
END:VEVENT
BEGIN:VEVENT
DTSTART;TZID=Europe/Prague:20190409T200000
DTEND;TZID=Europe/Prague:20190409T230000
DTSTAMP:20260420T180644
CREATED:20190224T120012Z
LAST-MODIFIED:20190224T120116Z
UID:10318-1554840000-1554850800@rocksound.cz
SUMMARY:Bob Dylan - Praha
DESCRIPTION:AMERICKÝ HUDEBNÍK BOB DYLAN SE TÉMĚŘ PŘESNĚ PO ROCE VRACÍ DO ČESKÉ REPUBLIKY! PO ÚŽASNÉM LETOŠNÍM KONCERTĚ V BRNĚ SE SEDMASEDMDESÁTILETÝ AMERICKÝ ZPĚVÁK TENTOKRÁT PŘEDSTAVÍ V UNIKÁTNÍCH PROSTORÁCH VELKÉHO SÁLU LUCERNY\, KTEROU BUDE OKUPOVAT HNED TŘI VEČERY PO SOBĚ! \n\n\nLEGENDÁRNÍ UMĚLEC SI VYBRAL TUTO NÁRODNÍ KULTURNÍ PAMÁTKU ČESKÉ REPUBLIKY ZÁMĚRNĚ\, ABY SVÝM FANOUŠKŮM MOHL NABÍDNOUT NEZAPOMENUTELNÝ HUDEBNÍ ZÁŽITEK. JEŠTĚ NIKDY NEMĚLI MOŽNOST MÍT SVÉHO IDOLA TAK BLÍZKO JAKO TENTOKRÁT\, NAVÍC HNED TŘIKRÁT ZA SEBOU! \nBob Dylan vystoupí ve Velkém sále pražské Lucerny 7.\, 8. a 9. dubna 2019 a jak je u tohoto umělce všeobecně známo\, každý večer bude nevšední a jiný. Uznávaný hudebník během turné pravidelně mění setlist a jeho každý koncert je tak jedinečným! Zároveň je znám i tím\, že si místa svých koncertů vždy pečlivě vybírá a Praha tak bude jen jednou z mála evropských zastávek jeho turné. Fanoušci se mohou těšit nejen na zásadní skladby jeho dosavadní kariéry\, ale samozřejmě i na ukázky ze stále aktuální desky Triplicate\, kterou vydal v roce 2017. \nPředprodej vstupenek v síti Ticketmaster.
URL:https://rocksound.cz/akce/bob-dylan-praha-3/
LOCATION:Lucerna – Velký sál\, Štěpánská 704/61\, Praha
END:VEVENT
BEGIN:VEVENT
DTSTART;TZID=Europe/Prague:20190411T180000
DTEND;TZID=Europe/Prague:20190411T235900
DTSTAMP:20260420T180644
CREATED:20190331T145336Z
LAST-MODIFIED:20190331T145336Z
UID:12074-1555005600-1555027140@rocksound.cz
SUMMARY:Doga a Limet_All v Praze
DESCRIPTION:Zveme všechny fanoušky rockové muziky do Retro Music Hall\, kde se vám 11.4. od 18 hod. představí na jednom koncertním pódiu populární rockové formace DOGA a LIMET_ALL! \n\n\nDoga zahraje skladby z jejich posledního CD Hard werk a přidá další populární songy. Limet_All na koncertě pokřtí své nové CD. \nVelkým hudebním překvapením večera budou kmotři CD\, které vám záměrně neprozradíme\, protože máme rádi překvapení a pokud nedorazíte tak to nezjistíte. Hostem večera bude Five O’clock Tea – pražská crossoverová hudební skupina\, která vás nažhaví svou energickou show. \nPředprodej vstupenek v sítích Ticketportal a Ticketlive.
URL:https://rocksound.cz/akce/doga-a-limet_all-v-praze/
LOCATION:Retro Music Hall\, Francouzská 75/4\, Praha
END:VEVENT
BEGIN:VEVENT
DTSTART;TZID=Europe/Prague:20190413T200000
DTEND;TZID=Europe/Prague:20190413T230000
DTSTAMP:20260420T180644
CREATED:20190403T183911Z
LAST-MODIFIED:20190403T184010Z
UID:12454-1555185600-1555196400@rocksound.cz
SUMMARY:Doug Aldrich - Praha
DESCRIPTION:Kytarový velikán Doug Aldrich vyráží s hity Whitesnake\, Deep Purple\, Dio\, Dead Daisies na Acoustic tour a míří také do Prahy a Ostravy! \n\n\nAmerická hardrocková formace Burning Rain založená mimořádným kytaristou Dougem Aldrichem a zpěvákem Keith St Johnem\, dokončila práce na svém čtvrtém albu „Face The Music „\, které vypustila mezi fanoušky 22. března. \nKytarový mág Doug Aldrich se po oznámení nové desky rozhodl vyrazit s Keith St. Johnem u mikrofonu na Duo Acoustic Tour se zastávkou také u nás. \nPředstaví nejen nové písně z čerstvého alba a známé oblíbené skladby Burning Rain\, ale také repertoár WHITESNAKE\, DIO\, DEEP PURPLE\, DEAD DAISIES a pár dalších překvapení. \nPředprodej vstupenek na www.mastersofrock.cz.
URL:https://rocksound.cz/akce/doug-adrich-burning-rain-praha/
LOCATION:Rock Klub Nová Chmelnice\, Koněvova 2597\, Praha
END:VEVENT
BEGIN:VEVENT
DTSTART;TZID=Europe/Prague:20190415T193000
DTEND;TZID=Europe/Prague:20190415T235900
DTSTAMP:20260420T180644
CREATED:20190403T185051Z
LAST-MODIFIED:20190403T185051Z
UID:12459-1555356600-1555372740@rocksound.cz
SUMMARY:Ektomorf - Praha
DESCRIPTION:Maďarská thrash metalová partička Ektomorf se vrací do Rock Café! \n\n\nTentokrát jí záda budou krýt Apey & the Pea\, Circle Of Execution a the phobos ensemble. \nPůjde zároveň o jedinou show v ČR! \nPředprodej vstupenek na goout.net nebo v Rock Café shopu.
URL:https://rocksound.cz/akce/ektomorf-praha/
LOCATION:Rock Café Prague\, Národní třída 20\, Praha
END:VEVENT
BEGIN:VEVENT
DTSTART;TZID=Europe/Prague:20190419T190000
DTEND;TZID=Europe/Prague:20190419T230000
DTSTAMP:20260420T180645
CREATED:20190403T190909Z
LAST-MODIFIED:20190403T190909Z
UID:12466-1555700400-1555714800@rocksound.cz
SUMMARY:MONO - Praha
DESCRIPTION:Dvacet let na scéně\, dvacet let intenzivních hudebních prožitků. Přesně to mapuje turné Nowhere Now Here\, kterým zároveň japonský instrumentální kvartet MONO (Japan) představí své nové\, stejnojmenné album. \n\n\nJako speciální doprovod přivážejí Grammy oceněnou norskou rockovou formaci Arabrot Official a britskou talentovanou čelistku Jo Quail. \nVstupenky vyprodány!
URL:https://rocksound.cz/akce/mono-praha/
LOCATION:Underdogs‘ Praha\, Nádražní 3\, Praha
END:VEVENT
BEGIN:VEVENT
DTSTART;TZID=Europe/Prague:20190421T190000
DTEND;TZID=Europe/Prague:20190421T233000
DTSTAMP:20260420T180645
CREATED:20190406T053724Z
LAST-MODIFIED:20190406T053724Z
UID:12644-1555873200-1555889400@rocksound.cz
SUMMARY:BACKYARD BABIES - Praha
DESCRIPTION:BACKYARD BABIES ohlašují NORDIC NOIR TOUR 2019 a zamíří i do Česka! \n\n\nŠvédští rockeři Backyard Babies jsou zpět! Po skončení rušné festivalové sezóny\, během které procestovali Evropu se v dubnu vrací a společně se silnou trojicí kapel Audrey Horne\, Thundermother a Satan Takes A Holiday se přiřítí do Nizozemska\, Francie\, Španělska\, Itálie\, Švýcarska\, Rakouska\, České republiky a Maďarska. \nBackyard Babies vydali 1. března 2019 prostřednictvím Century Media Records nové album s názvem “Sliver & Gold” a to hodlají svým fanouškům obratem představit! \n21. dubna vezme švédská formace Backyard Babies pražský klub Nová Chmelnice útokem a buďte si jisti\, že společně s Audrey Horne\, Thundermother a Satan Takes A Holiday to bude opravdu jízda! \nPředprodej vstupenek na www.mastersofrock.cz. \n 
URL:https://rocksound.cz/akce/backyard-babies-praha/
LOCATION:Rock Klub Nová Chmelnice\, Koněvova 2597\, Praha
END:VEVENT
BEGIN:VEVENT
DTSTART;TZID=Europe/Prague:20190426T190000
DTEND;TZID=Europe/Prague:20190426T220000
DTSTAMP:20260420T180645
CREATED:20190224T121640Z
LAST-MODIFIED:20190224T121640Z
UID:10326-1556305200-1556316000@rocksound.cz
SUMMARY:Frog Leap - Praha
DESCRIPTION:Leo Moracchioli\, známý též pod hlavičkou Frog Leap Studios\, nám přiveze se svojí kapelou představit ty nejlepší kusy\, jako například Hello od ADELE\, Africa od TOTO\, Feel Good Inc. od GORILLAZ a další! \n\n\nVstupenky vyprodány!
URL:https://rocksound.cz/akce/frog-leap-praha/
LOCATION:Lucerna Music Bar\, Vodičkova 36\, Praha
END:VEVENT
BEGIN:VEVENT
DTSTART;TZID=Europe/Prague:20190428T190000
DTEND;TZID=Europe/Prague:20190428T220000
DTSTAMP:20260420T180645
CREATED:20190331T144342Z
LAST-MODIFIED:20190331T144342Z
UID:12072-1556478000-1556488800@rocksound.cz
SUMMARY:TUBLATANKA & CITRON – Praha
DESCRIPTION:Tublatanka a Citron vyráží po velkolepém úspěchu na druhou část turné Souboj Rebelů po České republice!   \n\n\nČeskoslovenské hudební legendy vyráží po roce opět na společné turné po České republice s názvem Souboj Rebelů Tour 2019! Na jaře letošního roku rockové kapely odehráli mimořádně úspěšné turné\, na kterém vyprodali jedenáct hal v České republice a proto se znovu sejdou\, aby pokračovali v tomto fenomenálním úspěchu! \nPředprodej vstupenek na www.mastersofrock.cz.
URL:https://rocksound.cz/akce/tublatanka-citron-praha/
LOCATION:Forum Karlín\, Pernerova 51\, Praha
END:VEVENT
END:VCALENDAR