BEGIN:VCALENDAR
VERSION:2.0
PRODID:-//Rocksound - ECPv6.15.18//NONSGML v1.0//EN
CALSCALE:GREGORIAN
METHOD:PUBLISH
X-WR-CALNAME:Rocksound
X-ORIGINAL-URL:https://rocksound.cz
X-WR-CALDESC:Akce na Rocksound
REFRESH-INTERVAL;VALUE=DURATION:PT1H
X-Robots-Tag:noindex
X-PUBLISHED-TTL:PT1H
BEGIN:VTIMEZONE
TZID:Europe/Prague
BEGIN:DAYLIGHT
TZOFFSETFROM:+0100
TZOFFSETTO:+0200
TZNAME:CEST
DTSTART:20210328T010000
END:DAYLIGHT
BEGIN:STANDARD
TZOFFSETFROM:+0200
TZOFFSETTO:+0100
TZNAME:CET
DTSTART:20211031T010000
END:STANDARD
BEGIN:DAYLIGHT
TZOFFSETFROM:+0100
TZOFFSETTO:+0200
TZNAME:CEST
DTSTART:20220327T010000
END:DAYLIGHT
BEGIN:STANDARD
TZOFFSETFROM:+0200
TZOFFSETTO:+0100
TZNAME:CET
DTSTART:20221030T010000
END:STANDARD
BEGIN:DAYLIGHT
TZOFFSETFROM:+0100
TZOFFSETTO:+0200
TZNAME:CEST
DTSTART:20230326T010000
END:DAYLIGHT
BEGIN:STANDARD
TZOFFSETFROM:+0200
TZOFFSETTO:+0100
TZNAME:CET
DTSTART:20231029T010000
END:STANDARD
END:VTIMEZONE
BEGIN:VEVENT
DTSTART;TZID=Europe/Prague:20220324T190000
DTEND;TZID=Europe/Prague:20220324T235900
DTSTAMP:20260424T085001
CREATED:20220310T214155Z
LAST-MODIFIED:20220310T214155Z
UID:50063-1648148400-1648166340@rocksound.cz
SUMMARY:Běž domů\, Ivane! - Brno
DESCRIPTION:Koncert legendárních rockových kapel Synkopy\, Futurum\, Progres2 na podporu Ukrajiny. Moderuje a zahraje Kudla v krabici. Vstupné je dobrovolné\, bude věnováno na podporu postižené Ukrajiny prostřednictvím Diecézní charity Brno.
URL:https://rocksound.cz/akce/bez-domu-ivane-brno/
LOCATION:KC Semilasso\, Palackého třída 126\, Brno
ATTACH;FMTTYPE=image/jpeg:https://rocksound.cz/wp-content/uploads/2022/03/274935689_2186008374908575_7861161068591074241_n.jpg
END:VEVENT
END:VCALENDAR