BEGIN:VCALENDAR
VERSION:2.0
PRODID:-//Rocksound - ECPv6.15.18//NONSGML v1.0//EN
CALSCALE:GREGORIAN
METHOD:PUBLISH
X-WR-CALNAME:Rocksound
X-ORIGINAL-URL:https://rocksound.cz
X-WR-CALDESC:Akce na Rocksound
REFRESH-INTERVAL;VALUE=DURATION:PT1H
X-Robots-Tag:noindex
X-PUBLISHED-TTL:PT1H
BEGIN:VTIMEZONE
TZID:Europe/Prague
BEGIN:DAYLIGHT
TZOFFSETFROM:+0100
TZOFFSETTO:+0200
TZNAME:CEST
DTSTART:20170326T010000
END:DAYLIGHT
BEGIN:STANDARD
TZOFFSETFROM:+0200
TZOFFSETTO:+0100
TZNAME:CET
DTSTART:20171029T010000
END:STANDARD
BEGIN:DAYLIGHT
TZOFFSETFROM:+0100
TZOFFSETTO:+0200
TZNAME:CEST
DTSTART:20180325T010000
END:DAYLIGHT
BEGIN:STANDARD
TZOFFSETFROM:+0200
TZOFFSETTO:+0100
TZNAME:CET
DTSTART:20181028T010000
END:STANDARD
BEGIN:DAYLIGHT
TZOFFSETFROM:+0100
TZOFFSETTO:+0200
TZNAME:CEST
DTSTART:20190331T010000
END:DAYLIGHT
BEGIN:STANDARD
TZOFFSETFROM:+0200
TZOFFSETTO:+0100
TZNAME:CET
DTSTART:20191027T010000
END:STANDARD
END:VTIMEZONE
BEGIN:VEVENT
DTSTART;TZID=Europe/Prague:20181121T193000
DTEND;TZID=Europe/Prague:20181121T233000
DTSTAMP:20260423T095032
CREATED:20181107T191558Z
LAST-MODIFIED:20181107T191558Z
UID:5197-1542828600-1542843000@rocksound.cz
SUMMARY:Zemětřesení tour – České Budějovice
DESCRIPTION:Zemětřesení tour po 25 letech. \n\n\nPo 25 letech se na pódia vrátí legendární seskupení s názvem Zemětřesení. Projekt byl složen z ankety Černá vrána\, ve které se vybíral nejlepší zpěvák\, kytarista\, baskytarista a bubeník. Z výsledného obsazení vyšli Aleš Brichta\, Vlasta Henych\, Miloš Dodo Doležal a Štěpán Smetáček. Speciálním hostem bude Milan Schelinger. \nPředprodej vstupenek: www.ticketlive.cz
URL:https://rocksound.cz/akce/zemetreseni-tour-ceske-budejovice/
LOCATION:KD Vltava\, Františka Ondříčka 1243/46\, České Budějovice
END:VEVENT
BEGIN:VEVENT
DTSTART;TZID=Europe/Prague:20181127T183000
DTEND;TZID=Europe/Prague:20181127T233000
DTSTAMP:20260423T095032
CREATED:20181107T200207Z
LAST-MODIFIED:20181107T200207Z
UID:5226-1543343400-1543361400@rocksound.cz
SUMMARY:Zemětřesení tour - Brno
DESCRIPTION:Zemětřesení tour po 25 letech. \n\n\nPo 25 letech se na pódia vrátí legendární seskupení s názvem Zemětřesení. Projekt byl složen z ankety Černá vrána\, ve které se vybíral nejlepší zpěvák\, kytarista\, baskytarista a bubeník. Z výsledného obsazení vyšli Aleš Brichta\, Vlasta Henych\, Miloš Dodo Doležal a Štěpán Smetáček. \nSpeciálním hostem všech koncertů bude Milan Schelinger. \nZačátek programu je plánován vždy na 18:30. \nPředprodej vstupenek v síti Ticketstream.
URL:https://rocksound.cz/akce/zemetreseni-tour-brno/
LOCATION:KC Semilasso\, Palackého třída 126\, Brno
END:VEVENT
BEGIN:VEVENT
DTSTART;TZID=Europe/Prague:20181128T183000
DTEND;TZID=Europe/Prague:20181128T233000
DTSTAMP:20260423T095032
CREATED:20181107T192029Z
LAST-MODIFIED:20181107T192029Z
UID:5203-1543429800-1543447800@rocksound.cz
SUMMARY:Zemětřesení tour – Ostrava
DESCRIPTION:Zemětřesení tour po 25 letech. \n\n\nPo 25 letech se na pódia vrátí legendární seskupení s názvem Zemětřesení. Projekt byl složen z ankety Černá vrána\, ve které se vybíral nejlepší zpěvák\, kytarista\, baskytarista a bubeník. Z výsledného obsazení vyšli Aleš Brichta\, Vlasta Henych\, Miloš Dodo Doležal a Štěpán Smetáček. Speciálním hostem bude Milan Schelinger. \nPředprodej vstupenek v síti Ticketstream.
URL:https://rocksound.cz/akce/zemetreseni-tour-ostrava/
LOCATION:Barrák Music Club\, Havlíčkovo nábřeží 28\, 70200 Ostrava
END:VEVENT
END:VCALENDAR