BEGIN:VCALENDAR
VERSION:2.0
PRODID:-//Rocksound - ECPv6.15.18//NONSGML v1.0//EN
CALSCALE:GREGORIAN
METHOD:PUBLISH
X-WR-CALNAME:Rocksound
X-ORIGINAL-URL:https://rocksound.cz
X-WR-CALDESC:Akce na Rocksound
REFRESH-INTERVAL;VALUE=DURATION:PT1H
X-Robots-Tag:noindex
X-PUBLISHED-TTL:PT1H
BEGIN:VTIMEZONE
TZID:Europe/Prague
BEGIN:DAYLIGHT
TZOFFSETFROM:+0100
TZOFFSETTO:+0200
TZNAME:CEST
DTSTART:20210328T010000
END:DAYLIGHT
BEGIN:STANDARD
TZOFFSETFROM:+0200
TZOFFSETTO:+0100
TZNAME:CET
DTSTART:20211031T010000
END:STANDARD
BEGIN:DAYLIGHT
TZOFFSETFROM:+0100
TZOFFSETTO:+0200
TZNAME:CEST
DTSTART:20220327T010000
END:DAYLIGHT
BEGIN:STANDARD
TZOFFSETFROM:+0200
TZOFFSETTO:+0100
TZNAME:CET
DTSTART:20221030T010000
END:STANDARD
BEGIN:DAYLIGHT
TZOFFSETFROM:+0100
TZOFFSETTO:+0200
TZNAME:CEST
DTSTART:20230326T010000
END:DAYLIGHT
BEGIN:STANDARD
TZOFFSETFROM:+0200
TZOFFSETTO:+0100
TZNAME:CET
DTSTART:20231029T010000
END:STANDARD
END:VTIMEZONE
BEGIN:VEVENT
DTSTART;TZID=Europe/Prague:20220529T183000
DTEND;TZID=Europe/Prague:20220529T220000
DTSTAMP:20260424T203120
CREATED:20220423T205342Z
LAST-MODIFIED:20220423T205342Z
UID:52211-1653849000-1653861600@rocksound.cz
SUMMARY:CLAWFINGER - Praha
DESCRIPTION:Také CLAWFINGER turné přesouvají na rok 2022\, čímž se pražský koncert v Roxy uskuteční až 29. 5. 2022.\nVaše již zakoupené vstupenky zůstávají platné pro nový termín. Pokud z jakéhokoliv důvodu chcete vstupenky vrátit\, v případě Obscure e-ticketů napište na email: filip@obscure.cz a nezapomeňte uvést variabilní symbol vaší objednávky.\nV případě lístků ze sítě Ticketmaster se prosím ohledně refundace obraťte přímo na ně.\nVšem žádostem o refundace vyjdeme vstříc\, zažádat ale musíte nejpozději do 17.9.2021 23:59\, poté vaše vstupenky zůstanou automaticky platné pro nový termín koncertu.\nDěkujeme za pochopení\n———————————————————————————–\nCLAWFINGER v ROXY!\n29 / 05 / 2022 – PRAHA / ROXY\nNekompromisní crossoveroví CLAWFINGER se po čtyřech letech vrací do České republiky a nabízí to\, co si věrný fanoušek jejich divokého rapmetalu nemůže a ani nechce nechat ujít\, klubový koncert!\n29.5.2022 provětrají sympatičtí Skandinávci podzemní prostory pražského klubu Roxy a po památném vystoupení v Abatonu je jasné\, že se máme nač těšit.\nOd okamžiku\, kdy poprvé zazářila jejich severská hvězda\, uplynulo již neuvěřitelných jednatřicet let. Zatímco debutovým albem z raných devadesátek „Deaf Dumb Blind“ rozkopali do té doby zaběhnuté postupy na tvrděrockové scéně a doslova šokovali veřejnost svým provokativním a svou kritikou stále aktuálním singlem “Nigger”\, dostává se kapela během dalších desetiletí i do lehce odlišných stylových poloh\, protože v jednom žánrovém šuplíku by se dle vlastních slov\, utloukli navzájem. Po posledním studiovém počinu z roku 2007 se nyní schyluje k nové desce\, kterou by následující turné mělo podpořit a ukázat CLAWFINGER v plné neutuchající síle a nepolevující ve svých názorech na Svět a dění okolo sebe.\nPokud jste si kladli otázku\, kdo před CLAWFINGER vystoupí\, máme odpověď. Budou to Švýcaři FREEZES DEYNA.\nTi v duchu hlavních hvězd přivezou crossover\, v němž bezesporu uslyšíte Limp Bizkit\, možná i Dog Eat Dog\, ale kvintet překvapí i funkem\, skáčkem\, hip hopem nebo skočným punčíkem. Tak už jen naposlouchat\, ať vám nohy jdou správně do rytmu!\n\n\nCLAWFINGER\, FREEZES DEYNA\n29. 5. 2022 – Praha\, Roxy\ne-ticket: https://obscure.cz/cs/tickets/detail/id/393\nGoout:\nhttps://goout.net/cs/listky/clawfinger+freezes-deyn/hidn/\nPředprodej dále v síti Ticketmaster.
URL:https://rocksound.cz/akce/clawfinger-praha/
LOCATION:Roxy Prague\, Dlouhá 33\, Praha
ATTACH;FMTTYPE=image/jpeg:https://rocksound.cz/wp-content/uploads/2022/04/241637599_4306331679456604_3424080848397950718_n.jpg
END:VEVENT
END:VCALENDAR