BEGIN:VCALENDAR
VERSION:2.0
PRODID:-//Rocksound - ECPv6.15.18//NONSGML v1.0//EN
CALSCALE:GREGORIAN
METHOD:PUBLISH
X-ORIGINAL-URL:https://rocksound.cz
X-WR-CALDESC:Akce na Rocksound
REFRESH-INTERVAL;VALUE=DURATION:PT1H
X-Robots-Tag:noindex
X-PUBLISHED-TTL:PT1H
BEGIN:VTIMEZONE
TZID:Europe/Prague
BEGIN:DAYLIGHT
TZOFFSETFROM:+0100
TZOFFSETTO:+0200
TZNAME:CEST
DTSTART:20230326T010000
END:DAYLIGHT
BEGIN:STANDARD
TZOFFSETFROM:+0200
TZOFFSETTO:+0100
TZNAME:CET
DTSTART:20231029T010000
END:STANDARD
BEGIN:DAYLIGHT
TZOFFSETFROM:+0100
TZOFFSETTO:+0200
TZNAME:CEST
DTSTART:20240331T010000
END:DAYLIGHT
BEGIN:STANDARD
TZOFFSETFROM:+0200
TZOFFSETTO:+0100
TZNAME:CET
DTSTART:20241027T010000
END:STANDARD
BEGIN:DAYLIGHT
TZOFFSETFROM:+0100
TZOFFSETTO:+0200
TZNAME:CEST
DTSTART:20250330T010000
END:DAYLIGHT
BEGIN:STANDARD
TZOFFSETFROM:+0200
TZOFFSETTO:+0100
TZNAME:CET
DTSTART:20251026T010000
END:STANDARD
END:VTIMEZONE
BEGIN:VEVENT
DTSTART;TZID=Europe/Prague:20240422T190000
DTEND;TZID=Europe/Prague:20240422T220000
DTSTAMP:20260419T153424
CREATED:20240401T185931Z
LAST-MODIFIED:20240401T185931Z
UID:89454-1713812400-1713823200@rocksound.cz
SUMMARY:LORDI - Praha
DESCRIPTION:Finská posádka monster LORDI vyrazí na jaře 2024 na Evropské turné k nové desce! V dubnu se představí na dvou koncertech i v ČR!\nLORDI – 22.4.2024 – PRAHA\, Klub Roxy a 23.4.2024 – OSTRAVA\, Garage\nSlavní metaloví strašáci LORDI zase kují pikle! Ještě nestihla pořádně vychladnout jejich letošní chytlavá novinka „Screem Writers Guild“\, ještě se z ní stále bizarně kouří a už se proslýchá\, že další deska už se piklí. Vyklubat na svět by se měla právě na jaře 2024 a ještě horká bude představována naživo po Evropě! U nás\, v ČR\, hned na dvou místech!\n22. dubna 2024 v PRAZE\, Klubu Roxy a 23. dubna 2024 v OSTRAVĚ\, klubu Garage!\nMr. Lordi neumí odpočívat a neustále představuje ve svém vlastním horrorovém cirkuse nové a nové stále hlasitější a zuřivější kousky!\nTento charismatický zpívající šéf skupiny LORDI vás nenechá odpočinout od svých hlubokých a temných nápadů a myšlenek a opět vás vezme s sebou na nová\, jeho oblíbená\, děsivě krásná místa\, kde uslyšíte démonické\, hymnické melodie naplněné jeho lehkým vtipem a jemnými slovními hříčkami. Čekejte další originální metalové vyprávění „příběhů z hrobky“ mistra Lordiho a jeho pokřivené party!\nLORDI to už zdaleka není jen hit „Hard Rock Hallelujah“! Svou pracovitostí a osobitým šarmem se probojovali do světla reflektorů po celé Evropě! Každá jejich show je jiná a každá nezapomenutelná\, a to nejen díky stále propracovanějším kostýmům! Nakonec\, je to sám pan Lordi\, kdo ručně navrhuje a vyrábí kompletní LORDIho šatník\, a každý večer mu zabere více než 3 hodiny\, než se promění v legendárního monster-mana\, který opět hraje hlavní roli v dalším pokračování tohoto metalového trháku!
URL:https://rocksound.cz/akce/lordi-praha-3/
LOCATION:Roxy Prague\, Dlouhá 33\, Praha
ATTACH;FMTTYPE=image/jpeg:https://rocksound.cz/wp-content/uploads/2024/04/397252027_649819820645708_3787029281652686758_n.jpg
END:VEVENT
END:VCALENDAR