BEGIN:VCALENDAR
VERSION:2.0
PRODID:-//Rocksound - ECPv6.15.18//NONSGML v1.0//EN
CALSCALE:GREGORIAN
METHOD:PUBLISH
X-WR-CALNAME:Rocksound
X-ORIGINAL-URL:https://rocksound.cz
X-WR-CALDESC:Akce na Rocksound
REFRESH-INTERVAL;VALUE=DURATION:PT1H
X-Robots-Tag:noindex
X-PUBLISHED-TTL:PT1H
BEGIN:VTIMEZONE
TZID:Europe/Prague
BEGIN:DAYLIGHT
TZOFFSETFROM:+0100
TZOFFSETTO:+0200
TZNAME:CEST
DTSTART:20220327T010000
END:DAYLIGHT
BEGIN:STANDARD
TZOFFSETFROM:+0200
TZOFFSETTO:+0100
TZNAME:CET
DTSTART:20221030T010000
END:STANDARD
BEGIN:DAYLIGHT
TZOFFSETFROM:+0100
TZOFFSETTO:+0200
TZNAME:CEST
DTSTART:20230326T010000
END:DAYLIGHT
BEGIN:STANDARD
TZOFFSETFROM:+0200
TZOFFSETTO:+0100
TZNAME:CET
DTSTART:20231029T010000
END:STANDARD
BEGIN:DAYLIGHT
TZOFFSETFROM:+0100
TZOFFSETTO:+0200
TZNAME:CEST
DTSTART:20240331T010000
END:DAYLIGHT
BEGIN:STANDARD
TZOFFSETFROM:+0200
TZOFFSETTO:+0100
TZNAME:CET
DTSTART:20241027T010000
END:STANDARD
END:VTIMEZONE
BEGIN:VEVENT
DTSTART;TZID=Europe/Prague:20230711T190000
DTEND;TZID=Europe/Prague:20230711T220000
DTSTAMP:20260419T143234
CREATED:20230513T095147Z
LAST-MODIFIED:20230513T095147Z
UID:72711-1689102000-1689112800@rocksound.cz
SUMMARY:SHEER TERROR + support - Praha
DESCRIPTION:Přijď si nechat namlátit od newyorských SHEER TERROR!\nLegendární hardcore/punkoví SHEER TERROR\, jejichž vznik se datuje až k roku 1984 se přijedou vyřádit na pražskou Sedmičku!\n11 / 07 / 2023 / PRAHA / STRAHOV 007\npředprodej:\nnejlevnější vstupenky na Obscure shopu: https://obscure.cz/cs/tickets/detail/id/595\ndále pak v síti Goout:\nhttps://goout.net/cs/sheer-terror%2Bsupport/szeddtv/.\na Ticketmaster
URL:https://rocksound.cz/akce/sheer-terror-support-praha/
LOCATION:Klub 007 Strahov\, Chaloupeckého 1915/7\, Praha
ATTACH;FMTTYPE=image/jpeg:https://rocksound.cz/wp-content/uploads/2023/05/345601785_217993674293319_5096115968801732924_n.jpg
END:VEVENT
END:VCALENDAR