BEGIN:VCALENDAR
VERSION:2.0
PRODID:-//Rocksound - ECPv6.15.18//NONSGML v1.0//EN
CALSCALE:GREGORIAN
METHOD:PUBLISH
X-WR-CALNAME:Rocksound
X-ORIGINAL-URL:https://rocksound.cz
X-WR-CALDESC:Akce na Rocksound
REFRESH-INTERVAL;VALUE=DURATION:PT1H
X-Robots-Tag:noindex
X-PUBLISHED-TTL:PT1H
BEGIN:VTIMEZONE
TZID:Europe/Prague
BEGIN:DAYLIGHT
TZOFFSETFROM:+0100
TZOFFSETTO:+0200
TZNAME:CEST
DTSTART:20220327T010000
END:DAYLIGHT
BEGIN:STANDARD
TZOFFSETFROM:+0200
TZOFFSETTO:+0100
TZNAME:CET
DTSTART:20221030T010000
END:STANDARD
BEGIN:DAYLIGHT
TZOFFSETFROM:+0100
TZOFFSETTO:+0200
TZNAME:CEST
DTSTART:20230326T010000
END:DAYLIGHT
BEGIN:STANDARD
TZOFFSETFROM:+0200
TZOFFSETTO:+0100
TZNAME:CET
DTSTART:20231029T010000
END:STANDARD
BEGIN:DAYLIGHT
TZOFFSETFROM:+0100
TZOFFSETTO:+0200
TZNAME:CEST
DTSTART:20240331T010000
END:DAYLIGHT
BEGIN:STANDARD
TZOFFSETFROM:+0200
TZOFFSETTO:+0100
TZNAME:CET
DTSTART:20241027T010000
END:STANDARD
END:VTIMEZONE
BEGIN:VEVENT
DTSTART;TZID=Europe/Prague:20230506T180000
DTEND;TZID=Europe/Prague:20230506T233000
DTSTAMP:20260419T171441
CREATED:20230217T212917Z
LAST-MODIFIED:20230217T212917Z
UID:67817-1683396000-1683415800@rocksound.cz
SUMMARY:SKILLET (US) + Special Guests: Eva Under Fire\, Like A Storm - Praha
DESCRIPTION:SKILLET SE VRACÍ DO ČESKÉ REPUBLIKY! \n Vstupenky na koncert 6. května ve Foru Karlín budou v prodeji za ceny 1 190 Kč (Stání) a 1 990 Kč (Golden Circle) od pátku 10. února\, 10:00 v síti Ticketmaster.\nAmeričtí velikáni Skillet jsou právem řazeni mezi nejúspěšnější rockové kapely 21. století. Na svém kontě mají přes dvanáct milionů prodaných desek\, jsou držiteli platinové desky za album Awake\, vítězové Billboard Music Awards a jsou držiteli několika nominaci na Grammy Awards. Jejich videa mají miliony zhlédnutí na YouTube – ostatně jen sám singl Monster jich má přes 400 milionů. Kromě toho je tento singl dvojnásobně platinový. Po celém světě mají Skillet početnou a věrnou fanouškovskou základnu a jinak tomu není ani v České republice\, kde jsou pravidelnými návštěvníky na headline koncertech\, nebo na festivalu Rock for People. 
URL:https://rocksound.cz/akce/skillet-us-special-guests-eva-under-fire-like-a-storm-praha/
LOCATION:Forum Karlín\, Pernerova 51\, Praha
ATTACH;FMTTYPE=image/jpeg:https://rocksound.cz/wp-content/uploads/2023/02/329154778_562346515856564_1638279579847567725_n.jpg
END:VEVENT
END:VCALENDAR