BEGIN:VCALENDAR
VERSION:2.0
PRODID:-//Rocksound - ECPv6.15.18//NONSGML v1.0//EN
CALSCALE:GREGORIAN
METHOD:PUBLISH
X-ORIGINAL-URL:https://rocksound.cz
X-WR-CALDESC:Akce na Rocksound
REFRESH-INTERVAL;VALUE=DURATION:PT1H
X-Robots-Tag:noindex
X-PUBLISHED-TTL:PT1H
BEGIN:VTIMEZONE
TZID:Europe/Prague
BEGIN:DAYLIGHT
TZOFFSETFROM:+0100
TZOFFSETTO:+0200
TZNAME:CEST
DTSTART:20210328T010000
END:DAYLIGHT
BEGIN:STANDARD
TZOFFSETFROM:+0200
TZOFFSETTO:+0100
TZNAME:CET
DTSTART:20211031T010000
END:STANDARD
BEGIN:DAYLIGHT
TZOFFSETFROM:+0100
TZOFFSETTO:+0200
TZNAME:CEST
DTSTART:20220327T010000
END:DAYLIGHT
BEGIN:STANDARD
TZOFFSETFROM:+0200
TZOFFSETTO:+0100
TZNAME:CET
DTSTART:20221030T010000
END:STANDARD
BEGIN:DAYLIGHT
TZOFFSETFROM:+0100
TZOFFSETTO:+0200
TZNAME:CEST
DTSTART:20230326T010000
END:DAYLIGHT
BEGIN:STANDARD
TZOFFSETFROM:+0200
TZOFFSETTO:+0100
TZNAME:CET
DTSTART:20231029T010000
END:STANDARD
END:VTIMEZONE
BEGIN:VEVENT
DTSTART;TZID=Europe/Prague:20221104T190000
DTEND;TZID=Europe/Prague:20221104T223000
DTSTAMP:20260419T194748
CREATED:20221010T164032Z
LAST-MODIFIED:20221010T164032Z
UID:61302-1667588400-1667601000@rocksound.cz
SUMMARY:Škwor - Hodonín
DESCRIPTION:Vážení přátelé\,\nuplynuly tři roky a my vám s obrovskou radostí představujeme termíny pokračování veleúspěšné akustické tour\, která proběhne na podzim 2022.\nKoncerty budou opět situovány do menších prostor\, sice s omezenou kapacitou\, ale o to větší atmosférou. Uslyšíte výběr toho nejlepšího ve speciálních akustických úpravách a s použitím klasických nástrojů to bude opět parádní jízda!\nV případě\, že by vystoupení z jakéhokoliv důvodu nemohly proběhnout\, nebudou se tentokrát vstupenky převádět na náhradní termíny\, ale všechny peníze se budou automaticky vracet.\nMístní předprodej: Pokladna Kulturního domu Hodonín\, Horní Valy 3747/6\, Po/St: 8-11:00\, 12-14:00\, Pá:8-11:00\n19:00 – otevření\n20:30 – koncert Škwor
URL:https://rocksound.cz/akce/skwor-hodonin/
LOCATION:DK Hodonín\, Horní Valy 3747/6\, Hodonín
ATTACH;FMTTYPE=image/jpeg:https://rocksound.cz/wp-content/uploads/2022/10/286871697_594301465396754_7989484256043488245_n.jpg
END:VEVENT
BEGIN:VEVENT
DTSTART;TZID=Europe/Prague:20221111T190000
DTEND;TZID=Europe/Prague:20221111T223000
DTSTAMP:20260419T194748
CREATED:20221026T115016Z
LAST-MODIFIED:20221026T115016Z
UID:62190-1668193200-1668205800@rocksound.cz
SUMMARY:Škwor - Hradec Králové
DESCRIPTION:Vážení přátelé\,\nuplynuly tři roky a my vám s obrovskou radostí představujeme termíny pokračování veleúspěšné akustické tour\, která proběhne na podzim 2022.\nKoncerty budou opět situovány do menších prostor\, sice s omezenou kapacitou\, ale o to větší atmosférou. Uslyšíte výběr toho nejlepšího ve speciálních akustických úpravách a s použitím klasických nástrojů to bude opět parádní jízda!\nV případě\, že by vystoupení z jakéhokoliv důvodu nemohly proběhnout\, nebudou se tentokrát vstupenky převádět na náhradní termíny\, ale všechny peníze se budou automaticky vracet.\n19:00 – otevření\n20:30 – koncert Škwor
URL:https://rocksound.cz/akce/skwor-hradec-kralove/
LOCATION:Denoche Music Hall\, Pilnáčkova 543\, Hradec Králové
ATTACH;FMTTYPE=image/jpeg:https://rocksound.cz/wp-content/uploads/2022/10/286871697_594301465396754_7989484256043488245_n-1.jpg
END:VEVENT
BEGIN:VEVENT
DTSTART;TZID=Europe/Prague:20221112T190000
DTEND;TZID=Europe/Prague:20221112T223000
DTSTAMP:20260419T194748
CREATED:20221026T121805Z
LAST-MODIFIED:20221026T121805Z
UID:62208-1668279600-1668292200@rocksound.cz
SUMMARY:Škwor - Plzeň
DESCRIPTION:Vážení přátelé\,\nuplynuly tři roky a my vám s obrovskou radostí představujeme termíny pokračování veleúspěšné akustické tour\, která proběhne na podzim 2022.\nKoncerty budou opět situovány do menších prostor\, sice s omezenou kapacitou\, ale o to větší atmosférou. Uslyšíte výběr toho nejlepšího ve speciálních akustických úpravách a s použitím klasických nástrojů to bude opět parádní jízda!\nV případě\, že by vystoupení z jakéhokoliv důvodu nemohly proběhnout\, nebudou se tentokrát vstupenky převádět na náhradní termíny\, ale všechny peníze se budou automaticky vracet.\nMístní předprodej: Recepce DEPO2015\, Presslova 14\, Plzeň\, Po-Ne 10-18:00\n19:00 – otevření\n20:30 – koncert Škwor
URL:https://rocksound.cz/akce/skwor-plzen/
LOCATION:DEPO2015\, Presslova 14\, Plzeň
ATTACH;FMTTYPE=image/jpeg:https://rocksound.cz/wp-content/uploads/2022/10/286871697_594301465396754_7989484256043488245_n-1.jpg
END:VEVENT
BEGIN:VEVENT
DTSTART;TZID=Europe/Prague:20221114T190000
DTEND;TZID=Europe/Prague:20221114T223000
DTSTAMP:20260419T194748
CREATED:20221103T163157Z
LAST-MODIFIED:20221103T163157Z
UID:62534-1668452400-1668465000@rocksound.cz
SUMMARY:Škwor - Praha
DESCRIPTION:Vážení přátelé\,\nuplynuly tři roky a my vám s obrovskou radostí představujeme termíny pokračování veleúspěšné akustické tour\, která proběhne na podzim 2022.\nKoncerty budou opět situovány do menších prostor\, sice s omezenou kapacitou\, ale o to větší atmosférou. Uslyšíte výběr toho nejlepšího ve speciálních akustických úpravách a s použitím klasických nástrojů to bude opět parádní jízda!\nV případě\, že by vystoupení z jakéhokoliv důvodu nemohly proběhnout\, nebudou se tentokrát vstupenky převádět na náhradní termíny\, ale všechny peníze se budou automaticky vracet.\nPředprodej online: https://musicbar.cz/cs/program/skwor/\n19:00 – otevření\n20:30 – koncert Škwor\nINFORMACE PRO VOZÍČKÁŘE: Prostory Lucerna Music Baru nejsou bezbariérové. Pokud máte vozík\, který 2 lidi unesou\, ochranka může asistovat při jeho snesení. WC pro invalidy bohužel k dispozici není. Pro rezervaci místa (pro vozíček) na balkoně\, prosím\, pište na mail jaromir@musicbar.cz. Děkujeme.
URL:https://rocksound.cz/akce/skwor-praha/
LOCATION:Lucerna Music Bar\, Vodičkova 36\, Praha
ATTACH;FMTTYPE=image/jpeg:https://rocksound.cz/wp-content/uploads/2022/11/310926446_681931616633738_2403619695464700310_n.jpg
END:VEVENT
BEGIN:VEVENT
DTSTART;TZID=Europe/Prague:20221116T190000
DTEND;TZID=Europe/Prague:20221116T223000
DTSTAMP:20260419T194748
CREATED:20221103T163518Z
LAST-MODIFIED:20221103T163518Z
UID:62537-1668625200-1668637800@rocksound.cz
SUMMARY:Škwor - Praha
DESCRIPTION:Vážení přátelé\,\nuplynuly tři roky a my vám s obrovskou radostí představujeme termíny pokračování veleúspěšné akustické tour\, která proběhne na podzim 2022.\nKoncerty budou opět situovány do menších prostor\, sice s omezenou kapacitou\, ale o to větší atmosférou. Uslyšíte výběr toho nejlepšího ve speciálních akustických úpravách a s použitím klasických nástrojů to bude opět parádní jízda!\nV případě\, že by vystoupení z jakéhokoliv důvodu nemohly proběhnout\, nebudou se tentokrát vstupenky převádět na náhradní termíny\, ale všechny peníze se budou automaticky vracet.\nPředprodej online: https://musicbar.cz/cs/program/skwor/\n19:00 – otevření\n20:30 – koncert Škwor\nINFORMACE PRO VOZÍČKÁŘE: Prostory Lucerna Music Baru nejsou bezbariérové. Pokud máte vozík\, který 2 lidi unesou\, ochranka může asistovat při jeho snesení. WC pro invalidy bohužel k dispozici není. Pro rezervaci místa (pro vozíček) na balkoně\, prosím\, pište na mail jaromir@musicbar.cz. Děkujeme.
URL:https://rocksound.cz/akce/skwor-praha-2/
LOCATION:Lucerna Music Bar\, Vodičkova 36\, Praha
ATTACH;FMTTYPE=image/jpeg:https://rocksound.cz/wp-content/uploads/2022/11/310926446_681931616633738_2403619695464700310_n.jpg
END:VEVENT
BEGIN:VEVENT
DTSTART;TZID=Europe/Prague:20221118T190000
DTEND;TZID=Europe/Prague:20221118T223000
DTSTAMP:20260419T194748
CREATED:20221103T164031Z
LAST-MODIFIED:20221103T164031Z
UID:62539-1668798000-1668810600@rocksound.cz
SUMMARY:Škwor - Krnov
DESCRIPTION:Vážení přátelé\,\nuplynuly tři roky a my vám s obrovskou radostí představujeme termíny pokračování veleúspěšné akustické tour\, která proběhne na podzim 2022.\nKoncerty budou opět situovány do menších prostor\, sice s omezenou kapacitou\, ale o to větší atmosférou. Uslyšíte výběr toho nejlepšího ve speciálních akustických úpravách a s použitím klasických nástrojů to bude opět parádní jízda!\nV případě\, že by vystoupení z jakéhokoliv důvodu nemohly proběhnout\, nebudou se tentokrát vstupenky převádět na náhradní termíny\, ale všechny peníze se budou automaticky vracet.\nMístní předprodej: Informační centrum Krnov\, Hlavní náměstí25\, Po-Pá:8-17:00\, So-Ne:9-12\, 12:30-15:00\n19:00 – otevření\n20:30 – koncert Škwor
URL:https://rocksound.cz/akce/skwor-krnov/
LOCATION:Kofola Music Club\, Bruntálská 72\, Krnov
ATTACH;FMTTYPE=image/jpeg:https://rocksound.cz/wp-content/uploads/2022/11/310926446_681931616633738_2403619695464700310_n.jpg
END:VEVENT
BEGIN:VEVENT
DTSTART;TZID=Europe/Prague:20221119T190000
DTEND;TZID=Europe/Prague:20221119T223000
DTSTAMP:20260419T194748
CREATED:20221103T165215Z
LAST-MODIFIED:20221103T165215Z
UID:62541-1668884400-1668897000@rocksound.cz
SUMMARY:Škwor - Žďár nad Sázavou
DESCRIPTION:Vážení přátelé\,\nuplynuly tři roky a my vám s obrovskou radostí představujeme termíny pokračování veleúspěšné akustické tour\, která proběhne na podzim 2022.\nKoncerty budou opět situovány do menších prostor\, sice s omezenou kapacitou\, ale o to větší atmosférou. Uslyšíte výběr toho nejlepšího ve speciálních akustických úpravách a s použitím klasických nástrojů to bude opět parádní jízda!\nV případě\, že by vystoupení z jakéhokoliv důvodu nemohly proběhnout\, nebudou se tentokrát vstupenky převádět na náhradní termíny\, ale všechny peníze se budou automaticky vracet.\nMístní předprodej: Turistické informační centrum Žďár nad Sázavou\, nám. Republiky 294/24\, Po-Pá: 08-17:00\, So:9-12:00\nBohuslav Nahodil\, SANTINI TOUR\, Veselská 8/13\, Žďár nad Sázavou\, Po-Pá: 08-12:00\,13-16:00; So: 09-12:00\n19:00 – otevření\n20:30 – koncert Škwor
URL:https://rocksound.cz/akce/skwor-zdar-nad-sazavou-2/
LOCATION:Dům kultury Žďár nad Sázavou\, Dolní 183\, Žďár nad Sázavou\, 591 01
ATTACH;FMTTYPE=image/jpeg:https://rocksound.cz/wp-content/uploads/2022/11/310926446_681931616633738_2403619695464700310_n.jpg
END:VEVENT
BEGIN:VEVENT
DTSTART;TZID=Europe/Prague:20221125T190000
DTEND;TZID=Europe/Prague:20221125T223000
DTSTAMP:20260419T194748
CREATED:20221103T165956Z
LAST-MODIFIED:20221103T165956Z
UID:62543-1669402800-1669415400@rocksound.cz
SUMMARY:Škwor - Jindřichův Hradec
DESCRIPTION:Vážení přátelé\,\nuplynuly tři roky a my vám s obrovskou radostí představujeme termíny pokračování veleúspěšné akustické tour\, která proběhne na podzim 2022.\nKoncerty budou opět situovány do menších prostor\, sice s omezenou kapacitou\, ale o to větší atmosférou. Uslyšíte výběr toho nejlepšího ve speciálních akustických úpravách a s použitím klasických nástrojů to bude opět parádní jízda!\nV případě\, že by vystoupení z jakéhokoliv důvodu nemohly proběhnout\, nebudou se tentokrát vstupenky převádět na náhradní termíny\, ale všechny peníze se budou automaticky vracet.\nMístní předprodej: Čedok – Jindřichův Hradec\, Panská ulice 136/1\, Po-St: 9:15-13:00\, 14-17:00\n19:00 – otevření\n20:30 – koncert Škwor
URL:https://rocksound.cz/akce/skwor-jindrichuv-hradec-2/
LOCATION:KC Jitka\, Otín 104\, Jindřichův Hradec
ATTACH;FMTTYPE=image/jpeg:https://rocksound.cz/wp-content/uploads/2022/11/310926446_681931616633738_2403619695464700310_n.jpg
END:VEVENT
BEGIN:VEVENT
DTSTART;TZID=Europe/Prague:20221126T190000
DTEND;TZID=Europe/Prague:20221126T223000
DTSTAMP:20260419T194748
CREATED:20221103T170348Z
LAST-MODIFIED:20221103T170348Z
UID:62545-1669489200-1669501800@rocksound.cz
SUMMARY:Škwor - Liberec
DESCRIPTION:Vážení přátelé\,\nuplynuly tři roky a my vám s obrovskou radostí představujeme termíny pokračování veleúspěšné akustické tour\, která proběhne na podzim 2022.\nKoncerty budou opět situovány do menších prostor\, sice s omezenou kapacitou\, ale o to větší atmosférou. Uslyšíte výběr toho nejlepšího ve speciálních akustických úpravách a s použitím klasických nástrojů to bude opět parádní jízda!\nV případě\, že by vystoupení z jakéhokoliv důvodu nemohly proběhnout\, nebudou se tentokrát vstupenky převádět na náhradní termíny\, ale všechny peníze se budou automaticky vracet.\n19:00 – otevření\n20:30 – koncert Škwor
URL:https://rocksound.cz/akce/skwor-liberec/
LOCATION:Dům Kultury Liberec\, Soukenné náměstí 613\, Liberec
ATTACH;FMTTYPE=image/jpeg:https://rocksound.cz/wp-content/uploads/2022/11/310926446_681931616633738_2403619695464700310_n.jpg
END:VEVENT
END:VCALENDAR