BEGIN:VCALENDAR
VERSION:2.0
PRODID:-//Rocksound - ECPv6.15.18//NONSGML v1.0//EN
CALSCALE:GREGORIAN
METHOD:PUBLISH
X-WR-CALNAME:Rocksound
X-ORIGINAL-URL:https://rocksound.cz
X-WR-CALDESC:Akce na Rocksound
REFRESH-INTERVAL;VALUE=DURATION:PT1H
X-Robots-Tag:noindex
X-PUBLISHED-TTL:PT1H
BEGIN:VTIMEZONE
TZID:Europe/Prague
BEGIN:DAYLIGHT
TZOFFSETFROM:+0100
TZOFFSETTO:+0200
TZNAME:CEST
DTSTART:20200329T010000
END:DAYLIGHT
BEGIN:STANDARD
TZOFFSETFROM:+0200
TZOFFSETTO:+0100
TZNAME:CET
DTSTART:20201025T010000
END:STANDARD
BEGIN:DAYLIGHT
TZOFFSETFROM:+0100
TZOFFSETTO:+0200
TZNAME:CEST
DTSTART:20210328T010000
END:DAYLIGHT
BEGIN:STANDARD
TZOFFSETFROM:+0200
TZOFFSETTO:+0100
TZNAME:CET
DTSTART:20211031T010000
END:STANDARD
BEGIN:DAYLIGHT
TZOFFSETFROM:+0100
TZOFFSETTO:+0200
TZNAME:CEST
DTSTART:20220327T010000
END:DAYLIGHT
BEGIN:STANDARD
TZOFFSETFROM:+0200
TZOFFSETTO:+0100
TZNAME:CET
DTSTART:20221030T010000
END:STANDARD
END:VTIMEZONE
BEGIN:VEVENT
DTSTART;TZID=Europe/Prague:20210731T180000
DTEND;TZID=Europe/Prague:20210731T220000
DTSTAMP:20260419T160636
CREATED:20210618T132554Z
LAST-MODIFIED:20210618T132554Z
UID:42085-1627754400-1627768800@rocksound.cz
SUMMARY:Škwor - Pardubice
DESCRIPTION:Koncert v rámci Tváře smutnejch hrdinů Tour !!! Několikrát přeložený koncert\, vstupenky platí z termínů 10.-11.4.2020\, 27.-28.10.2020 a 1.5.2021 \n\n\nVstupenky: v předprodeji 590 Kč\nPředprodej: www.ticketstream.cz/vstupenky/skwor-tvare-smutnejch-hrdinu-tour
URL:https://rocksound.cz/akce/skwor-pardubice-3/
LOCATION:Dostihové závodiště Pardubice
END:VEVENT
END:VCALENDAR