BEGIN:VCALENDAR
VERSION:2.0
PRODID:-//Rocksound - ECPv6.15.18//NONSGML v1.0//EN
CALSCALE:GREGORIAN
METHOD:PUBLISH
X-WR-CALNAME:Rocksound
X-ORIGINAL-URL:https://rocksound.cz
X-WR-CALDESC:Akce na Rocksound
REFRESH-INTERVAL;VALUE=DURATION:PT1H
X-Robots-Tag:noindex
X-PUBLISHED-TTL:PT1H
BEGIN:VTIMEZONE
TZID:Europe/Prague
BEGIN:DAYLIGHT
TZOFFSETFROM:+0100
TZOFFSETTO:+0200
TZNAME:CEST
DTSTART:20220327T010000
END:DAYLIGHT
BEGIN:STANDARD
TZOFFSETFROM:+0200
TZOFFSETTO:+0100
TZNAME:CET
DTSTART:20221030T010000
END:STANDARD
BEGIN:DAYLIGHT
TZOFFSETFROM:+0100
TZOFFSETTO:+0200
TZNAME:CEST
DTSTART:20230326T010000
END:DAYLIGHT
BEGIN:STANDARD
TZOFFSETFROM:+0200
TZOFFSETTO:+0100
TZNAME:CET
DTSTART:20231029T010000
END:STANDARD
BEGIN:DAYLIGHT
TZOFFSETFROM:+0100
TZOFFSETTO:+0200
TZNAME:CEST
DTSTART:20240331T010000
END:DAYLIGHT
BEGIN:STANDARD
TZOFFSETFROM:+0200
TZOFFSETTO:+0100
TZNAME:CET
DTSTART:20241027T010000
END:STANDARD
END:VTIMEZONE
BEGIN:VEVENT
DTSTART;TZID=Europe/Prague:20230923T180000
DTEND;TZID=Europe/Prague:20230923T220000
DTSTAMP:20260419T224710
CREATED:20230804T220911Z
LAST-MODIFIED:20230804T220911Z
UID:76988-1695492000-1695506400@rocksound.cz
SUMMARY:ŠKWOR - Valtice
DESCRIPTION:Hudba na vinicích – to je spojení krásného prostředí\, skvělé muziky a výborného vína.\nVstupenky právě v prodeji!\nhttps://www.hudbanavinicich.cz\nPředprodej – https://xticket.cz/turne/35-hudba-na-vinicich-2023
URL:https://rocksound.cz/akce/skwor-valtice/
LOCATION:Château Valtice – Vinné sklepy Valtice a.s.\, Vinařská 407\, Valtice
ATTACH;FMTTYPE=image/jpeg:https://rocksound.cz/wp-content/uploads/2023/08/325935440_735826591060409_8333046664912963167_n.jpg
ORGANIZER;CN="Hudba na vinic%C3%ADch":MAILTO:info@hudbanavinicich.cz
END:VEVENT
END:VCALENDAR