BEGIN:VCALENDAR
VERSION:2.0
PRODID:-//Rocksound - ECPv6.15.18//NONSGML v1.0//EN
CALSCALE:GREGORIAN
METHOD:PUBLISH
X-WR-CALNAME:Rocksound
X-ORIGINAL-URL:https://rocksound.cz
X-WR-CALDESC:Akce na Rocksound
REFRESH-INTERVAL;VALUE=DURATION:PT1H
X-Robots-Tag:noindex
X-PUBLISHED-TTL:PT1H
BEGIN:VTIMEZONE
TZID:Europe/Prague
BEGIN:DAYLIGHT
TZOFFSETFROM:+0100
TZOFFSETTO:+0200
TZNAME:CEST
DTSTART:20180325T010000
END:DAYLIGHT
BEGIN:STANDARD
TZOFFSETFROM:+0200
TZOFFSETTO:+0100
TZNAME:CET
DTSTART:20181028T010000
END:STANDARD
BEGIN:DAYLIGHT
TZOFFSETFROM:+0100
TZOFFSETTO:+0200
TZNAME:CEST
DTSTART:20190331T010000
END:DAYLIGHT
BEGIN:STANDARD
TZOFFSETFROM:+0200
TZOFFSETTO:+0100
TZNAME:CET
DTSTART:20191027T010000
END:STANDARD
BEGIN:DAYLIGHT
TZOFFSETFROM:+0100
TZOFFSETTO:+0200
TZNAME:CEST
DTSTART:20200329T010000
END:DAYLIGHT
BEGIN:STANDARD
TZOFFSETFROM:+0200
TZOFFSETTO:+0100
TZNAME:CET
DTSTART:20201025T010000
END:STANDARD
END:VTIMEZONE
BEGIN:VEVENT
DTSTART;TZID=Europe/Prague:20190611T200000
DTEND;TZID=Europe/Prague:20190611T230000
DTSTAMP:20260422T172157
CREATED:20190512T082206Z
LAST-MODIFIED:20190512T082206Z
UID:14748-1560283200-1560294000@rocksound.cz
SUMMARY:Slipknot - Praha
DESCRIPTION:Americká devítičlenná úderka se vrací do České republiky představit svůj svět šílenství a hrůzy 11. 6. 2019 v pražské O2 areně! \n\n\nVstup umožněn od 18:30h. \nPředprodej vstupenek v síti Ticketportal.
URL:https://rocksound.cz/akce/slipknot-praha/
LOCATION:O2 arena\, Českomoravská 2345/17\, Praha
END:VEVENT
BEGIN:VEVENT
DTSTART;TZID=Europe/Prague:20190625T150000
DTEND;TZID=Europe/Prague:20190626T235900
DTSTAMP:20260422T172157
CREATED:20190512T125114Z
LAST-MODIFIED:20190512T125114Z
UID:14832-1561474800-1561593540@rocksound.cz
SUMMARY:Mystic Festival 2019
DESCRIPTION:Mystic Festival je zpět! \n\n\n3 stage\, 2 dny\, 28 kapel \nKapely: \nSlipknot\, Sabaton\, Within Tempation\, Amon Amarth\, Testament\, Trivium\, Eluveitie\, Powerwolf a mnoho dalších \nPředprodej vstupenek: www.mysticfestival.pl
URL:https://rocksound.cz/akce/mystic-festival-2019/
LOCATION:TAURON Arena Kraków\, ul. Stanisława Lema 7\, Krakow
END:VEVENT
END:VCALENDAR