BEGIN:VCALENDAR
VERSION:2.0
PRODID:-//Rocksound - ECPv6.15.18//NONSGML v1.0//EN
CALSCALE:GREGORIAN
METHOD:PUBLISH
X-ORIGINAL-URL:https://rocksound.cz
X-WR-CALDESC:Akce na Rocksound
REFRESH-INTERVAL;VALUE=DURATION:PT1H
X-Robots-Tag:noindex
X-PUBLISHED-TTL:PT1H
BEGIN:VTIMEZONE
TZID:Europe/Prague
BEGIN:DAYLIGHT
TZOFFSETFROM:+0100
TZOFFSETTO:+0200
TZNAME:CEST
DTSTART:20180325T010000
END:DAYLIGHT
BEGIN:STANDARD
TZOFFSETFROM:+0200
TZOFFSETTO:+0100
TZNAME:CET
DTSTART:20181028T010000
END:STANDARD
BEGIN:DAYLIGHT
TZOFFSETFROM:+0100
TZOFFSETTO:+0200
TZNAME:CEST
DTSTART:20190331T010000
END:DAYLIGHT
BEGIN:STANDARD
TZOFFSETFROM:+0200
TZOFFSETTO:+0100
TZNAME:CET
DTSTART:20191027T010000
END:STANDARD
BEGIN:DAYLIGHT
TZOFFSETFROM:+0100
TZOFFSETTO:+0200
TZNAME:CEST
DTSTART:20200329T010000
END:DAYLIGHT
BEGIN:STANDARD
TZOFFSETFROM:+0200
TZOFFSETTO:+0100
TZNAME:CET
DTSTART:20201025T010000
END:STANDARD
END:VTIMEZONE
BEGIN:VEVENT
DTSTART;TZID=Europe/Prague:20190524T170000
DTEND;TZID=Europe/Prague:20190525T230000
DTSTAMP:20260419T160228
CREATED:20190428T062046Z
LAST-MODIFIED:20190428T062046Z
UID:13949-1558717200-1558825200@rocksound.cz
SUMMARY:Metalbarsfest 2019
DESCRIPTION:Přijďte na jeden z největších metalových festivalů v jižních Čechách! \n\n\nKapely:\n– ARAKAIN\n– KRUCIPÜSK\n– SEVEN\n– DEBUSTROL\n– SALAMANDRA\n– ROOT\n– DODO DOLEŽAL\n– ROXOR\n– PURNAMA\n– KULLT SKLLA\n– RESERVOAR DOGZ\n– COLP\n– WASTED STRINGS\n– HORRIBLE CREATURES\n– NEW HATE FORM\n– INNER SPHERE\n– RAIN\n– EVIDITY FOR\n– F.O.B\n– ENDLES DRAIN\n-EUFORY \nPředprodej vstupenek v síti Ticketstream. \nCena permanentky: 480 Kč \nJednorázový vstup: 360 Kč
URL:https://rocksound.cz/akce/metalbarsfest-2019/
LOCATION:Areál letiště Soběslav\, Jiráskova 463/11\, Soběslav
END:VEVENT
END:VCALENDAR