BEGIN:VCALENDAR
VERSION:2.0
PRODID:-//Rocksound - ECPv6.15.18//NONSGML v1.0//EN
CALSCALE:GREGORIAN
METHOD:PUBLISH
X-WR-CALNAME:Rocksound
X-ORIGINAL-URL:https://rocksound.cz
X-WR-CALDESC:Akce na Rocksound
REFRESH-INTERVAL;VALUE=DURATION:PT1H
X-Robots-Tag:noindex
X-PUBLISHED-TTL:PT1H
BEGIN:VTIMEZONE
TZID:Europe/Prague
BEGIN:DAYLIGHT
TZOFFSETFROM:+0100
TZOFFSETTO:+0200
TZNAME:CEST
DTSTART:20220327T010000
END:DAYLIGHT
BEGIN:STANDARD
TZOFFSETFROM:+0200
TZOFFSETTO:+0100
TZNAME:CET
DTSTART:20221030T010000
END:STANDARD
BEGIN:DAYLIGHT
TZOFFSETFROM:+0100
TZOFFSETTO:+0200
TZNAME:CEST
DTSTART:20230326T010000
END:DAYLIGHT
BEGIN:STANDARD
TZOFFSETFROM:+0200
TZOFFSETTO:+0100
TZNAME:CET
DTSTART:20231029T010000
END:STANDARD
BEGIN:DAYLIGHT
TZOFFSETFROM:+0100
TZOFFSETTO:+0200
TZNAME:CEST
DTSTART:20240331T010000
END:DAYLIGHT
BEGIN:STANDARD
TZOFFSETFROM:+0200
TZOFFSETTO:+0100
TZNAME:CET
DTSTART:20241027T010000
END:STANDARD
END:VTIMEZONE
BEGIN:VEVENT
DTSTART;TZID=Europe/Prague:20230602T190000
DTEND;TZID=Europe/Prague:20230604T020000
DTSTAMP:20260420T125055
CREATED:20230517T165508Z
LAST-MODIFIED:20230517T165508Z
UID:72852-1685732400-1685844000@rocksound.cz
SUMMARY:HUBERTKA OPEN AIR 2023 - Okrouhlička u Havlíčkova Brodu
DESCRIPTION:Předprodej vstupenek:\nhttps://goout.net/cs/hubertka-open-air-2023/szrsxxt/\nPředprodejními místy:\nOkrouhlička – Šejdorfský mlýn\nHavlíčkův Brod- Cafe Oko (klub OKO)\nVelké Meziříčí – Jack’s American Pub\nPředprodej za 500kč na oba dny.\nNa místě – 700kč na oba dny.\nJen Pátek za 150kč na místě.\nPÁTEK 2.6.2023\nod 19:00 do 23:00\nUnikátní Popcorn – PunkRock Velichovky\nLight Sugar Dreaming – Crossover HB\nDJ ČESY\nSOBOTA 3.6.2023 od 12:00\nHlavní stage:\nTOTÁLNÍ NASAZENÍ- punk rock Slaný\nCOCOTTE MINUTE -nu metal stár Praha\nSPS- punk rock Praha since 1988\nFOUSATEJ HAT – poctivej bigbeat z HB\nSUNSET TRAIL – Olomoucká Stár!!!\nSUKULENT SOUND- pohodička z Kamenice\nX-CORE – Rap\,Metal\, Hc ze Znojma/Jihlavy\nGOOFY COW – punkrock Olomouc\nMR.DYNABOOM- CROSSOVER ŽABČICE\nTHE TRUTH IS OUT THERE – alternative-rock z Ostravy\nVedlejší stage:\nCUBE – pardubický crossover\nLANDSCAPE OF SHADOWS – metálek z Velké nad Veličkou\nBLURSDAY – královehradecký metalcore\nX AGE – thrash metal z Vysočiny\nSINFULL CROWD – brutalcore od Jablunkova
URL:https://rocksound.cz/akce/hubertka-open-air-2023-okrouhlicka-u-havlickova-brodu/
LOCATION:Hubertka Open Air\, Okrouhlička\, Štoky Okrouhlička\, 582 53
ATTACH;FMTTYPE=image/jpeg:https://rocksound.cz/wp-content/uploads/2023/05/335516104_1159242424748720_2471473902549594347_n.jpg
END:VEVENT
BEGIN:VEVENT
DTSTART;TZID=Europe/Prague:20230622T180000
DTEND;TZID=Europe/Prague:20230625T040000
DTSTAMP:20260420T125055
CREATED:20230315T122922Z
LAST-MODIFIED:20230315T122922Z
UID:69082-1687456800-1687665600@rocksound.cz
SUMMARY:Chlístovský HEJK 2023 - Chlístov
DESCRIPTION:Multižánrový festival hudby a jídla\nPředprodej vstupenek\n– aktuální vlna za 820 Kč (do 31.3.)\n– koupíte v Restauraci Kocour v Třebíči\n– nebo online zde: https://tickets.nfctron.com/…/kul…/chlistovsky-hejk-2023\nPotvrzené kapely:\nPro-Pain (USA)\nN.O.H.A. (USA/CZ)\nGaia Mesiah\nSmash Hit Combo (FR)\nMidi Lidi\nFuturum\nSPS\nMalignant Tumour\nXavier Baumaxa\nČankišou\nJezerel\nHonza Křížek\nStatus Praesents\nZáviš\nEponine\nStará Puška\nNarijuana\nKoonda Holaa\nONA\nByt číslo 4\nSightless Era\nSbor břežanských kastrátů
URL:https://rocksound.cz/akce/chlistovsky-hejk-2023-chlistov/
LOCATION:Chlístov\, Chlístov
ATTACH;FMTTYPE=image/jpeg:https://rocksound.cz/wp-content/uploads/2023/03/315454767_537157928421051_1908040067465852967_n.jpg
END:VEVENT
BEGIN:VEVENT
DTSTART;TZID=Europe/Prague:20230623T180000
DTEND;TZID=Europe/Prague:20230625T235900
DTSTAMP:20260420T125055
CREATED:20230426T191905Z
LAST-MODIFIED:20230426T191905Z
UID:71756-1687543200-1687737540@rocksound.cz
SUMMARY:Mighty Sounds vol. 17 - Tábor
DESCRIPTION:Mighty Sounds Festival vol. 17\nthe very best of\npunk / hardcore / ska/ rock’n’roll / reggae / psychobilly\nLetiště/Airport Čápův Dvůr – Tábor – CZ\n\nin loving memory of Premek Černík and Marcel Musil\n(Scroll down for ENG)\n\n★ ENGLISH\nThe Czech Republic-based Mighty Sounds festival is truly one of a kind. One of the most unique music summer festivals in the heart of Europe\, Mighty Sounds promises three nights crammed with the very elite of ska\, punk rock\, reggae\, rockabilly\, dancehall\, rock’n’roll and related genres.\nThe upcoming 17th edition of the festival will be held from 23 to 25 Jun 2023 in Tábor\, Czech Republic.\n►Premium Czech beer\, Pilsner Urquell and Radegast from – 2\,5 € / 0\,5l\n►Top quality sound equipment for the best music experience\n►Original mix of music\, sports and a variety of accompanying activities\n►Alternative theatre performances and late-night DJs stages\n►Wide choice of parking & camping options\n►Hand-picked\, delicate and healthy cuisine (vegetarian and vegan food included\, no festival junk)\n►Located within walking distance of the city of Tábor\, one of the most beautiful historical places in the Czech Republic\n►Unique Mighty atmosphere that you just won’t get anywhere else.\n➨Foregin groups of Mighty Sounds Fans➨\nUK:\nhttps://www.facebook.com/groups/273123112856333/\nHU\nhttps://www.facebook.com/groups/178277162376316/\nDE\nhttps://www.facebook.com/groups/1435820223325121/\nSLO\nhttps://www.facebook.com/groups/111242792278144/\nSK\nhttps://www.facebook.com/groups/636041639819731/\nPL\nhttps://www.facebook.com/groups/1453473268229767/\nCar sharing group: https://www.facebook.com/groups/417125952119732/
URL:https://rocksound.cz/akce/mighty-sounds-vol-17-tabor/
LOCATION:Mighty Sounds\, U Čápova Dvora\, Tábor
ATTACH;FMTTYPE=image/jpeg:https://rocksound.cz/wp-content/uploads/2023/04/328472909_705648981001888_2558348981956332875_n.jpg
ORGANIZER;CN="Mighty Sounds":MAILTO:vitek@mightysounds.cz
END:VEVENT
END:VCALENDAR