BEGIN:VCALENDAR
VERSION:2.0
PRODID:-//Rocksound - ECPv6.15.18//NONSGML v1.0//EN
CALSCALE:GREGORIAN
METHOD:PUBLISH
X-WR-CALNAME:Rocksound
X-ORIGINAL-URL:https://rocksound.cz
X-WR-CALDESC:Akce na Rocksound
REFRESH-INTERVAL;VALUE=DURATION:PT1H
X-Robots-Tag:noindex
X-PUBLISHED-TTL:PT1H
BEGIN:VTIMEZONE
TZID:Europe/Prague
BEGIN:DAYLIGHT
TZOFFSETFROM:+0100
TZOFFSETTO:+0200
TZNAME:CEST
DTSTART:20230326T010000
END:DAYLIGHT
BEGIN:STANDARD
TZOFFSETFROM:+0200
TZOFFSETTO:+0100
TZNAME:CET
DTSTART:20231029T010000
END:STANDARD
BEGIN:DAYLIGHT
TZOFFSETFROM:+0100
TZOFFSETTO:+0200
TZNAME:CEST
DTSTART:20240331T010000
END:DAYLIGHT
BEGIN:STANDARD
TZOFFSETFROM:+0200
TZOFFSETTO:+0100
TZNAME:CET
DTSTART:20241027T010000
END:STANDARD
BEGIN:DAYLIGHT
TZOFFSETFROM:+0100
TZOFFSETTO:+0200
TZNAME:CEST
DTSTART:20250330T010000
END:DAYLIGHT
BEGIN:STANDARD
TZOFFSETFROM:+0200
TZOFFSETTO:+0100
TZNAME:CET
DTSTART:20251026T010000
END:STANDARD
END:VTIMEZONE
BEGIN:VEVENT
DTSTART;TZID=Europe/Prague:20240318T180000
DTEND;TZID=Europe/Prague:20240318T233000
DTSTAMP:20260422T034614
CREATED:20240304T192717Z
LAST-MODIFIED:20240304T192717Z
UID:88601-1710784800-1710804600@rocksound.cz
SUMMARY:ENSLAVED\, SVALBARD\, WAYFARER - Praha
DESCRIPTION:Pro znalé není třeba Enslaved představovat. Více než tři desetiletí neúnavného objevování vyneslo kapelu do pozice ikony metalového světa. Jejich jedinečná směs progresivního black metalu posunula hranice\, zbořila očekávání a inspirovala nespočet dalších. Jejich šestnácté album „Heimdal“ představuje odklon i návrat ke kořenům\, které se formovaly před více než třemi desetiletími při bouřlivém zrodu norské blackmetalové scény.\nSvalbard\, neochvějný kvartet z Bristolu\, se na nahrávkách i na pódiu vyžívá v tvrdé\, brutálně upřímné hudbě\, která neponechává žádný prostor pro dvojznačnost. Jejich jedinečná směs euforického black metalu\, post-rocku a d-beatu zahrnuje překvapivé vlivy – od jemných\, truchlivých vokálů až po progresivní kytarové linky. Celosvětové uznání si získali svým třetím albem „When I Die\, Will I Get Better?“ v roce 2020 a upevnili si tak svou pozici na undergroundové scéně. Zatímco se jejich předchozí deska zabývala konfrontací s vlastními démony\, jejich nové album „The Weight of the Mask“ s nimi bojuje.\nVečer doplní taktéž čtyřčlenná sestava západoamerických Wayfarer kombinující vlivy black metalu\, gotického country a americké kultury. Po deseti letech hudebního vývoje na koncertě představí své nejnovější album „American Gothic“\, které zobrazuje temný gotický svět utvářený těžaři ropy\, železničními barony a zloději dobytka.\n—————–\nENSLAVED\, SVALBARD\, WAYFARER – Praha\n18. 3. 2024 – Praha\, Futurum\nNejlevnější vstupenky >> e-TICKET:\nhttps://obscure.cz/cs/tickets/detail/id/652\nPředprodej začíná v pátek v 10:00 hod viz e-TICKET výše\, dle místa konání dále v sítích GoOut:\nhttps://goout.net/cs/enslaved%2Bsvalbard%2Bwayfarer/sztadsw/\na fyzické vstupenky u Ticketmaster.
URL:https://rocksound.cz/akce/enslaved-svalbard-wayfarer-praha/
LOCATION:Futurum Music Bar\, Zborovská 7\, Praha
ATTACH;FMTTYPE=image/jpeg:https://rocksound.cz/wp-content/uploads/2024/03/399624336_647914954163722_6743828023161656572_n.jpg
END:VEVENT
END:VCALENDAR