BEGIN:VCALENDAR
VERSION:2.0
PRODID:-//Rocksound - ECPv6.15.18//NONSGML v1.0//EN
CALSCALE:GREGORIAN
METHOD:PUBLISH
X-WR-CALNAME:Rocksound
X-ORIGINAL-URL:https://rocksound.cz
X-WR-CALDESC:Akce na Rocksound
REFRESH-INTERVAL;VALUE=DURATION:PT1H
X-Robots-Tag:noindex
X-PUBLISHED-TTL:PT1H
BEGIN:VTIMEZONE
TZID:Europe/Prague
BEGIN:DAYLIGHT
TZOFFSETFROM:+0100
TZOFFSETTO:+0200
TZNAME:CEST
DTSTART:20190331T010000
END:DAYLIGHT
BEGIN:STANDARD
TZOFFSETFROM:+0200
TZOFFSETTO:+0100
TZNAME:CET
DTSTART:20191027T010000
END:STANDARD
BEGIN:DAYLIGHT
TZOFFSETFROM:+0100
TZOFFSETTO:+0200
TZNAME:CEST
DTSTART:20200329T010000
END:DAYLIGHT
BEGIN:STANDARD
TZOFFSETFROM:+0200
TZOFFSETTO:+0100
TZNAME:CET
DTSTART:20201025T010000
END:STANDARD
BEGIN:DAYLIGHT
TZOFFSETFROM:+0100
TZOFFSETTO:+0200
TZNAME:CEST
DTSTART:20210328T010000
END:DAYLIGHT
BEGIN:STANDARD
TZOFFSETFROM:+0200
TZOFFSETTO:+0100
TZNAME:CET
DTSTART:20211031T010000
END:STANDARD
END:VTIMEZONE
BEGIN:VEVENT
DTSTART;TZID=Europe/Prague:20200403T200000
DTEND;TZID=Europe/Prague:20200403T230000
DTSTAMP:20260423T220339
CREATED:20200220T121919Z
LAST-MODIFIED:20200220T121919Z
UID:30077-1585944000-1585954800@rocksound.cz
SUMMARY:Citron - Hranice na Moravě
DESCRIPTION:Citron vyráží na jaře příštího roku na turné “ Supi se slétají “! Doprovázet je bude slovenská Symfobia. \n\n\nNenechte si ujít tento poctivý rockový nářez plný energie v klubovém prostředí\, který bude obohacen o zajímavou akustickou pasáž! Turné zamíří do 12 měst včetně Hranic na Moravě! \nPředprodej vstupenek: mastersofrock.cz\nCena vstupenek: od 390 Kč v předprodeji
URL:https://rocksound.cz/akce/citron-hranice-na-morave/
LOCATION:Sokolovna Hranice na Moravě
END:VEVENT
BEGIN:VEVENT
DTSTART;TZID=Europe/Prague:20200404T200000
DTEND;TZID=Europe/Prague:20200404T230000
DTSTAMP:20260423T220339
CREATED:20200220T122336Z
LAST-MODIFIED:20200220T122336Z
UID:30080-1586030400-1586041200@rocksound.cz
SUMMARY:Citron - Strážnice
DESCRIPTION:Citron vyráží na jaře příštího roku na turné “ Supi se slétají “! Doprovázet je bude slovenská Symfobia. \n\n\nNenechte si ujít tento poctivý rockový nářez plný energie v klubovém prostředí\, který bude obohacen o zajímavou akustickou pasáž! Turné zamíří do 12 měst včetně Strážnice. \nPředprodej vstupenek: mastersofrock.cz\nCena vstupenek: od 390 Kč v předprodeji
URL:https://rocksound.cz/akce/citron-straznice/
LOCATION:KD Strážnice
END:VEVENT
BEGIN:VEVENT
DTSTART;TZID=Europe/Prague:20200417T200000
DTEND;TZID=Europe/Prague:20200417T230000
DTSTAMP:20260423T220339
CREATED:20200220T122631Z
LAST-MODIFIED:20200220T122631Z
UID:30083-1587153600-1587164400@rocksound.cz
SUMMARY:Citron - Třebíč
DESCRIPTION:Citron vyráží na jaře příštího roku na turné “ Supi se slétají “! Doprovázet je bude slovenská Symfobia. \n\n\nNenechte si ujít tento poctivý rockový nářez plný energie v klubovém prostředí\, který bude obohacen o zajímavou akustickou pasáž! Turné zamíří do 12 měst včetně Třebíče. \nPředprodej vstupenek: mastersofrock.cz\nCena vstupenek: od 390 Kč v předprodeji
URL:https://rocksound.cz/akce/citron-trebic/
LOCATION:ROXY Club Třebíč\, Kpt. Jaroše 736/6\, Třebíč
END:VEVENT
BEGIN:VEVENT
DTSTART;TZID=Europe/Prague:20200418T200000
DTEND;TZID=Europe/Prague:20200418T230000
DTSTAMP:20260423T220339
CREATED:20200220T122825Z
LAST-MODIFIED:20200220T122825Z
UID:30085-1587240000-1587250800@rocksound.cz
SUMMARY:Citron - Boskovice
DESCRIPTION:Citron vyráží na jaře příštího roku na turné “ Supi se slétají “! Doprovázet je bude slovenská Symfobia. \n\n\nNenechte si ujít tento poctivý rockový nářez plný energie v klubovém prostředí\, který bude obohacen o zajímavou akustickou pasáž! Turné zamíří do 12 měst včetně Boskovic. \nPředprodej vstupenek: mastersofrock.cz\nCena vstupenek: od 390 Kč v předprodeji
URL:https://rocksound.cz/akce/citron-boskovice/
LOCATION:Sokolovna Boskovice
END:VEVENT
BEGIN:VEVENT
DTSTART;TZID=Europe/Prague:20200424T200000
DTEND;TZID=Europe/Prague:20200424T230000
DTSTAMP:20260423T220339
CREATED:20200220T123144Z
LAST-MODIFIED:20200220T123144Z
UID:30088-1587758400-1587769200@rocksound.cz
SUMMARY:Citron - Zlín
DESCRIPTION:Citron vyráží na jaře příštího roku na turné “ Supi se slétají “! Doprovázet je bude slovenská Symfobia. \n\n\nNenechte si ujít tento poctivý rockový nářez plný energie v klubovém prostředí\, který bude obohacen o zajímavou akustickou pasáž! Turné zamíří do 12 měst včetně Zlína. \nPředprodej vstupenek: mastersofrock.cz\nCena vstupenek: od 390 Kč v předprodeji
URL:https://rocksound.cz/akce/citron-zlin/
LOCATION:Masters of Rock Cafe\, Tyršovo nábřeží 5497\, Zlín
END:VEVENT
BEGIN:VEVENT
DTSTART;TZID=Europe/Prague:20200425T200000
DTEND;TZID=Europe/Prague:20200425T230000
DTSTAMP:20260423T220339
CREATED:20200220T123326Z
LAST-MODIFIED:20200220T123326Z
UID:30090-1587844800-1587855600@rocksound.cz
SUMMARY:Citron - Šumperk
DESCRIPTION:Citron vyráží na jaře příštího roku na turné “ Supi se slétají “! Doprovázet je bude slovenská Symfobia. \n\n\nNenechte si ujít tento poctivý rockový nářez plný energie v klubovém prostředí\, který bude obohacen o zajímavou akustickou pasáž! Turné zamíří do 12 měst včetně Šumperka. \nPředprodej vstupenek: mastersofrock.cz\nCena vstupenek: od 390 Kč v předprodeji
URL:https://rocksound.cz/akce/citron-sumperk/
LOCATION:KD Šumperk
END:VEVENT
END:VCALENDAR