BEGIN:VCALENDAR
VERSION:2.0
PRODID:-//Rocksound - ECPv6.15.18//NONSGML v1.0//EN
CALSCALE:GREGORIAN
METHOD:PUBLISH
X-WR-CALNAME:Rocksound
X-ORIGINAL-URL:https://rocksound.cz
X-WR-CALDESC:Akce na Rocksound
REFRESH-INTERVAL;VALUE=DURATION:PT1H
X-Robots-Tag:noindex
X-PUBLISHED-TTL:PT1H
BEGIN:VTIMEZONE
TZID:Europe/Prague
BEGIN:DAYLIGHT
TZOFFSETFROM:+0100
TZOFFSETTO:+0200
TZNAME:CEST
DTSTART:20220327T010000
END:DAYLIGHT
BEGIN:STANDARD
TZOFFSETFROM:+0200
TZOFFSETTO:+0100
TZNAME:CET
DTSTART:20221030T010000
END:STANDARD
BEGIN:DAYLIGHT
TZOFFSETFROM:+0100
TZOFFSETTO:+0200
TZNAME:CEST
DTSTART:20230326T010000
END:DAYLIGHT
BEGIN:STANDARD
TZOFFSETFROM:+0200
TZOFFSETTO:+0100
TZNAME:CET
DTSTART:20231029T010000
END:STANDARD
BEGIN:DAYLIGHT
TZOFFSETFROM:+0100
TZOFFSETTO:+0200
TZNAME:CEST
DTSTART:20240331T010000
END:DAYLIGHT
BEGIN:STANDARD
TZOFFSETFROM:+0200
TZOFFSETTO:+0100
TZNAME:CET
DTSTART:20241027T010000
END:STANDARD
END:VTIMEZONE
BEGIN:VEVENT
DTSTART;TZID=Europe/Prague:20230322T190000
DTEND;TZID=Europe/Prague:20230322T233000
DTSTAMP:20260423T030740
CREATED:20230119T203724Z
LAST-MODIFIED:20230119T203724Z
UID:66526-1679511600-1679527800@rocksound.cz
SUMMARY:GET THE SHOT\, THROWN\, ITHACA - Praha
DESCRIPTION:Po tom\, co GET THE SHOT v říjnu předvedli v Praze\, jsme nemohli tohle turné nechat uplavat. V březnu je tu s THROWN a ITHACA máte zpět!\nMá smysl GET THE SHOT představovat? Dobře známá energická hardcore/punk sebranka z kanadského Quebecu je pro jejich ultra divoké koncerty známá snad všude\, tak jedině připomínáme\, ať si vzpomenete\, co letos udělali na Brutalu nebo v Praze před Lionheart. Lepší si snad prohnat hlavu kulkou!\npresale:\nnejlevnější OBSCURE E-TICKET:\nhttps://obscure.cz/cs/tickets/detail/id/541\n\nGOOUT: https://goout.net/cs/get-the-shot+thrown+ithaca/szlcpvu/…\na fyzické vstupenky v síti TICKETMASTER
URL:https://rocksound.cz/akce/get-the-shot-thrown-ithaca-praha/
LOCATION:Futurum Music Bar\, Zborovská 7\, Praha
ATTACH;FMTTYPE=image/jpeg:https://rocksound.cz/wp-content/uploads/2023/01/319805206_556137842666476_7247844720997592325_n.jpg
END:VEVENT
END:VCALENDAR