BEGIN:VCALENDAR
VERSION:2.0
PRODID:-//Rocksound - ECPv6.15.18//NONSGML v1.0//EN
CALSCALE:GREGORIAN
METHOD:PUBLISH
X-WR-CALNAME:Rocksound
X-ORIGINAL-URL:https://rocksound.cz
X-WR-CALDESC:Akce na Rocksound
REFRESH-INTERVAL;VALUE=DURATION:PT1H
X-Robots-Tag:noindex
X-PUBLISHED-TTL:PT1H
BEGIN:VTIMEZONE
TZID:Europe/Prague
BEGIN:DAYLIGHT
TZOFFSETFROM:+0100
TZOFFSETTO:+0200
TZNAME:CEST
DTSTART:20220327T010000
END:DAYLIGHT
BEGIN:STANDARD
TZOFFSETFROM:+0200
TZOFFSETTO:+0100
TZNAME:CET
DTSTART:20221030T010000
END:STANDARD
BEGIN:DAYLIGHT
TZOFFSETFROM:+0100
TZOFFSETTO:+0200
TZNAME:CEST
DTSTART:20230326T010000
END:DAYLIGHT
BEGIN:STANDARD
TZOFFSETFROM:+0200
TZOFFSETTO:+0100
TZNAME:CET
DTSTART:20231029T010000
END:STANDARD
BEGIN:DAYLIGHT
TZOFFSETFROM:+0100
TZOFFSETTO:+0200
TZNAME:CEST
DTSTART:20240331T010000
END:DAYLIGHT
BEGIN:STANDARD
TZOFFSETFROM:+0200
TZOFFSETTO:+0100
TZNAME:CET
DTSTART:20241027T010000
END:STANDARD
END:VTIMEZONE
BEGIN:VEVENT
DTSTART;TZID=Europe/Prague:20231201T190000
DTEND;TZID=Europe/Prague:20231201T233000
DTSTAMP:20260422T142037
CREATED:20231123T125459Z
LAST-MODIFIED:20231123T125459Z
UID:84493-1701457200-1701473400@rocksound.cz
SUMMARY:Fit for a King\, Emmure\, Thrown a The Gloom in the Corner - Praha
DESCRIPTION:Metalcorový večírek míří do pražského klubu Storm – FIT FOR A KING\, EMMURE\, Thrown a Gloom In The Corner! \n Vstupenky za cenu 650 Kč budou v prodeji od pondělí 15 května\, 11:00 na GoOut  https://goout.net/…/fit-for-a-king%2Bemmure…/szmfnsv/.\nVěříme\, že dnes už legendární kapely netřeba představovat. Kdo s nimi jednou měl tu čest\, tuší\, co od večera může a musí očekávat. Nažhavte střevíce\, 1. prosince se ve Stormu bude tančit!  \nPro sekundární nákup/prodej vstupenek prosíme o využití jediné oficiální\, bezpečné a ověřené služby na sekundární prodej vstupenek TicketSwap\, se kterými spolupracujeme. U vstupenek pořízených mimo oficiální předprodej nebo TicketSwap nemůžeme garantovat jejich pravost a to\, že na koncert budete puštěni.
URL:https://rocksound.cz/akce/fit-for-a-king-emmure-thrown-a-the-gloom-in-the-corner-praha/
LOCATION:Storm Club\, Tachovské nám. 2\, Praha 3
ATTACH;FMTTYPE=image/jpeg:https://rocksound.cz/wp-content/uploads/2023/11/400133502_868267484667246_7535137896531840141_n.jpg
END:VEVENT
END:VCALENDAR