BEGIN:VCALENDAR
VERSION:2.0
PRODID:-//Rocksound - ECPv6.15.18//NONSGML v1.0//EN
CALSCALE:GREGORIAN
METHOD:PUBLISH
X-WR-CALNAME:Rocksound
X-ORIGINAL-URL:https://rocksound.cz
X-WR-CALDESC:Akce na Rocksound
REFRESH-INTERVAL;VALUE=DURATION:PT1H
X-Robots-Tag:noindex
X-PUBLISHED-TTL:PT1H
BEGIN:VTIMEZONE
TZID:Europe/Prague
BEGIN:DAYLIGHT
TZOFFSETFROM:+0100
TZOFFSETTO:+0200
TZNAME:CEST
DTSTART:20180325T010000
END:DAYLIGHT
BEGIN:STANDARD
TZOFFSETFROM:+0200
TZOFFSETTO:+0100
TZNAME:CET
DTSTART:20181028T010000
END:STANDARD
BEGIN:DAYLIGHT
TZOFFSETFROM:+0100
TZOFFSETTO:+0200
TZNAME:CEST
DTSTART:20190331T010000
END:DAYLIGHT
BEGIN:STANDARD
TZOFFSETFROM:+0200
TZOFFSETTO:+0100
TZNAME:CET
DTSTART:20191027T010000
END:STANDARD
BEGIN:DAYLIGHT
TZOFFSETFROM:+0100
TZOFFSETTO:+0200
TZNAME:CEST
DTSTART:20200329T010000
END:DAYLIGHT
BEGIN:STANDARD
TZOFFSETFROM:+0200
TZOFFSETTO:+0100
TZNAME:CET
DTSTART:20201025T010000
END:STANDARD
END:VTIMEZONE
BEGIN:VEVENT
DTSTART;TZID=Europe/Prague:20190309T193000
DTEND;TZID=Europe/Prague:20190309T233000
DTSTAMP:20260420T134855
CREATED:20190305T175854Z
LAST-MODIFIED:20190305T175854Z
UID:10755-1552159800-1552174200@rocksound.cz
SUMMARY:Harlej - Pěnčín u Turnova
DESCRIPTION:Harlej vyráží na Tour Jaro 2019\, očekávat můžete to na co jste u Harleje zvyklí\, tedy energický koncert\, plný zábavy doplněný o LED projekci. \n\n\nJako host se na tomto turné představí partička LOCO LOCO. \nSoučastí koncertu bude i autogramiáda skupiny Harlej. \nČasový harmonogram večera:\n19:30 – Otevření vchodů\n20:10 – AUTOGRAMIÁDA HARLEJ\n20:30 – Loco Loco\n21:30 – HARLEJ \nVSTUPENKY :\nTrafika u Vildy (Skálova ulice\, Turnov) \nTicketstream.cz
URL:https://rocksound.cz/akce/harlej-pencin-u-turnova/
LOCATION:KD Pěnčín\, Pěnčín 123\, Turnov\, 46345
END:VEVENT
BEGIN:VEVENT
DTSTART;TZID=Europe/Prague:20190315T193000
DTEND;TZID=Europe/Prague:20190315T233000
DTSTAMP:20260420T134855
CREATED:20190305T181111Z
LAST-MODIFIED:20190305T181111Z
UID:10762-1552678200-1552692600@rocksound.cz
SUMMARY:Harlej - Toužim
DESCRIPTION:Harlej vyráží na Tour Jaro 2019\, očekávat můžete to na co jste u Harleje zvyklí\, tedy energický koncert\, plný zábavy doplněný o LED projekci. \n\n\nJako host se na tomto turné představí partička LOCO LOCO.  \nSoučastí koncertu bude i autogramiáda skupiny Harlej. \nČasový harmonogram večera:\n19:30 – Otevření vchodů\n20:10 – AUTOGRAMIÁDA HARLEJ\n20:30 – Loco Loco\n21:30 – HARLEJ \nPředprodej vstupenek na Ticketstream.cz.
URL:https://rocksound.cz/akce/harlej-touzim/
LOCATION:Sokolovna Toužim\, Plzeňská 334\, Toužim
END:VEVENT
BEGIN:VEVENT
DTSTART;TZID=Europe/Prague:20190316T200000
DTEND;TZID=Europe/Prague:20190316T235900
DTSTAMP:20260420T134855
CREATED:20190310T115425Z
LAST-MODIFIED:20190310T115425Z
UID:10938-1552766400-1552780740@rocksound.cz
SUMMARY:Harlej - Herálec
DESCRIPTION:Harlej vyráží na Tour Jaro 2019\, očekávat můžete to na co jste u Harleje zvyklí\, tedy energický koncert\, plný zábavy doplněný o LED projekci. Těšte se na zlidovělé hity jako Pověste ho vejš\, Svařák\, Zfetovanej\, Přirození\, ale i úspěšné novinky jako Strážní andělé…a to vše v jedinečném živém podání jedné z nejlepších koncertních kapel současnosti. \n\n\nJako host se na tomto turné představí partička LOCO LOCO.  \nSoučastí koncertu bude i autogramiáda skupiny Harlej. \nPředprodej vstupenek na Ticketstream.cz.
URL:https://rocksound.cz/akce/harlej-heralec/
LOCATION:KD Herálec\, Herálec 401\, Herálec u Žďáru nad Sázavou
END:VEVENT
BEGIN:VEVENT
DTSTART;TZID=Europe/Prague:20190322T190000
DTEND;TZID=Europe/Prague:20190322T230000
DTSTAMP:20260420T134855
CREATED:20190310T120554Z
LAST-MODIFIED:20190310T120554Z
UID:10944-1553281200-1553295600@rocksound.cz
SUMMARY:Harlej - Třebíč
DESCRIPTION:Harlej vyráží na Tour Jaro 2019\, očekávat můžete to na co jste u Harleje zvyklí\, tedy energický koncert\, plný zábavy doplněný o LED projekci. \n\n\nJako host se na tomto turné představí partička LOCO LOCO.  \nSoučastí koncertu bude i autogramiáda skupiny Harlej. \nPředprodej vstupenek na ticketlive.cz.
URL:https://rocksound.cz/akce/harlej-trebic/
LOCATION:ROXY Club Třebíč\, Kpt. Jaroše 736/6\, Třebíč
END:VEVENT
BEGIN:VEVENT
DTSTART;TZID=Europe/Prague:20190329T190000
DTEND;TZID=Europe/Prague:20190329T230000
DTSTAMP:20260420T134855
CREATED:20190317T140942Z
LAST-MODIFIED:20190317T140942Z
UID:11285-1553886000-1553900400@rocksound.cz
SUMMARY:Harlej - Svitavy
DESCRIPTION:Harlej vyráží na Tour Jaro 2019\, očekávat můžete to na co jste u Harleje zvyklí\, tedy energický koncert\, plný zábavy doplněný o LED projekci. \n\n\nJako host se na tomto turné představí partička LOCO LOCO. \nSoučastí koncertu bude i autogramiáda skupiny Harlej. \nPředprodej vstupenek v síti Ticketstream a infocentrech.
URL:https://rocksound.cz/akce/harlej-svitavy/
LOCATION:Lidové divadlo Svitavy\, M. Horákové 20\, Svitavy
END:VEVENT
BEGIN:VEVENT
DTSTART;TZID=Europe/Prague:20190330T193000
DTEND;TZID=Europe/Prague:20190330T233000
DTSTAMP:20260420T134855
CREATED:20190317T141334Z
LAST-MODIFIED:20190317T141334Z
UID:11288-1553974200-1553988600@rocksound.cz
SUMMARY:Harlej - Mladá Vožice
DESCRIPTION:Harlej vyráží na Tour Jaro 2019\, očekávat můžete to na co jste u Harleje zvyklí\, tedy energický koncert\, plný zábavy doplněný o LED projekci. \n\n\nJako host se na tomto turné představí partička LOCO LOCO. \nSoučastí koncertu bude i autogramiáda skupiny Harlej. \nPředprodej vstupenek v síti Ticketstream.
URL:https://rocksound.cz/akce/harlej-mlada-vozice/
LOCATION:Hotel Záložna\, Žižkovo nám. 198\, Mladá Vožice
END:VEVENT
END:VCALENDAR