BEGIN:VCALENDAR
VERSION:2.0
PRODID:-//Rocksound - ECPv6.15.18//NONSGML v1.0//EN
CALSCALE:GREGORIAN
METHOD:PUBLISH
X-WR-CALNAME:Rocksound
X-ORIGINAL-URL:https://rocksound.cz
X-WR-CALDESC:Akce na Rocksound
REFRESH-INTERVAL;VALUE=DURATION:PT1H
X-Robots-Tag:noindex
X-PUBLISHED-TTL:PT1H
BEGIN:VTIMEZONE
TZID:Europe/Prague
BEGIN:DAYLIGHT
TZOFFSETFROM:+0100
TZOFFSETTO:+0200
TZNAME:CEST
DTSTART:20230326T010000
END:DAYLIGHT
BEGIN:STANDARD
TZOFFSETFROM:+0200
TZOFFSETTO:+0100
TZNAME:CET
DTSTART:20231029T010000
END:STANDARD
BEGIN:DAYLIGHT
TZOFFSETFROM:+0100
TZOFFSETTO:+0200
TZNAME:CEST
DTSTART:20240331T010000
END:DAYLIGHT
BEGIN:STANDARD
TZOFFSETFROM:+0200
TZOFFSETTO:+0100
TZNAME:CET
DTSTART:20241027T010000
END:STANDARD
BEGIN:DAYLIGHT
TZOFFSETFROM:+0100
TZOFFSETTO:+0200
TZNAME:CEST
DTSTART:20250330T010000
END:DAYLIGHT
BEGIN:STANDARD
TZOFFSETFROM:+0200
TZOFFSETTO:+0100
TZNAME:CET
DTSTART:20251026T010000
END:STANDARD
END:VTIMEZONE
BEGIN:VEVENT
DTSTART;TZID=Europe/Prague:20240203T180000
DTEND;TZID=Europe/Prague:20240203T233000
DTSTAMP:20260419T182957
CREATED:20231218T141052Z
LAST-MODIFIED:20231218T141641Z
UID:85438-1706983200-1707003000@rocksound.cz
SUMMARY:ABBATH\, TOXIC HOLOCAUST\, HELLRIPPER - Praha
DESCRIPTION:ABBATH\, jedna z ikon norského black metalu\, se po 7 letech vrací do Prahy. Majitel charakteristického hlasu přiveze třetí desku „Dread Reaver“ do Paláce Akropolis.\nABBATH\, vlastním jménem Olve Eikemo\, je bez debat jedna z největších ikon norského black metalu. Když se v r. 2003 poprvé rozkmotřili opěvovaní IMMORTAL\, Abbath se připojil do Motörhead tribute-bandu Bömbers a založil tradičnějším metalem řízlou kapelu I. O tři roky se Immortal dali dohromady a natočili „All Shall Fall“\, nicméně po definitivním rozchodu s Mighty Ravendark měl tento nenapodobitelný frontman se signifikantní tváří jen jednu možnou cestu\, a tak v roce 2015 vznikl sólový ABBATH.\nTen se do svého vlastního projektu vrhl naplno. Turné\, festivaly\, tři vydané desky… a párty\, se kterými při jeho pověstné povaze velkého baviče nakonec musel trošku zvolnit\, aby se se třetí deskou „Dread Reaver“ zas v plné síle mohl vrátit.\nABBATH hudebně nestojí na místě. Nebojí se přiznat\, co je mu blízké\, a zároveň zachovává to\, co s Immortal vytvořil. Nechává tak podprahově vzpomenout na Bömbers\, čerpá z NWOBHM i thrashe\, zapojuje i melodiku\, z čehož vzniká komplexní vlastní zvuk\, jež je nezaměnitelně ABBATH. Blashyyyrkh!\nNa turné se k němu připojují thrashové stálice TOXIC HOLOCAUST a HELLRIPPER.\nKlíčem úspěchu TOXIC HOLOCAUST je krom inspirace v divokých osmdesátkách (hardcore punk a proto-death) jejich osobitý humor\, který do speedem a blackem načichlého thrashe zasazují. TH jsou z velké části jednočlenná kapela\, kterou od konce 90. let vede oregonský rodák Joel Grind\, ale časem ji rozšířil na koncertující entitu.\nHELLRIPPER ze Skotska je jsou na tom podobně. Jednočlenná thrashově black/speedová kapela vedená Jamesem McBainem je ovlivněná Venom\, Sodom\, Darkthrone\, Metallicou atd. a doma v undergroundu rychle stanula na trůnu. Po vydání úspěšného debutu po nich skočili Peacevill Records\, kteří jim vydali třetí řadovku\, jež si v jejich diskografii vede vůbec nejlépe.\n———————————————-\nABBATH\, TOXIC HOLOCAUST\, HELLRIPPER\n3. 2. 2024 – Praha\, Palác Akropolis\nNejlevnější vstupenky OBSCURE E-TICKET: https://obscure.cz/cs/tickets/detail/id/630\nPředprodej dále v sítích GoOut (https://goout.net/…/abbath%2Btoxic-holocaust…/sztbmkw)\, v klubu Akropolis a fyzické vstupenky u Ticketmaster.\nPředprodej začíná ve čtvrtek 7. září v 10:00.
URL:https://rocksound.cz/akce/abbath-toxic-holocaust-hellripper-praha/
LOCATION:Palác Akropolis\, Kubelíkova 1548/27 130 00\, Praha 3-Žižkov
ATTACH;FMTTYPE=image/jpeg:https://rocksound.cz/wp-content/uploads/2023/12/373754219_613204104301474_4667742132618372490_n.jpg
END:VEVENT
END:VCALENDAR