BEGIN:VCALENDAR
VERSION:2.0
PRODID:-//Rocksound - ECPv6.15.18//NONSGML v1.0//EN
CALSCALE:GREGORIAN
METHOD:PUBLISH
X-WR-CALNAME:Rocksound
X-ORIGINAL-URL:https://rocksound.cz
X-WR-CALDESC:Akce na Rocksound
REFRESH-INTERVAL;VALUE=DURATION:PT1H
X-Robots-Tag:noindex
X-PUBLISHED-TTL:PT1H
BEGIN:VTIMEZONE
TZID:Europe/Prague
BEGIN:DAYLIGHT
TZOFFSETFROM:+0100
TZOFFSETTO:+0200
TZNAME:CEST
DTSTART:20200329T010000
END:DAYLIGHT
BEGIN:STANDARD
TZOFFSETFROM:+0200
TZOFFSETTO:+0100
TZNAME:CET
DTSTART:20201025T010000
END:STANDARD
BEGIN:DAYLIGHT
TZOFFSETFROM:+0100
TZOFFSETTO:+0200
TZNAME:CEST
DTSTART:20210328T010000
END:DAYLIGHT
BEGIN:STANDARD
TZOFFSETFROM:+0200
TZOFFSETTO:+0100
TZNAME:CET
DTSTART:20211031T010000
END:STANDARD
BEGIN:DAYLIGHT
TZOFFSETFROM:+0100
TZOFFSETTO:+0200
TZNAME:CEST
DTSTART:20220327T010000
END:DAYLIGHT
BEGIN:STANDARD
TZOFFSETFROM:+0200
TZOFFSETTO:+0100
TZNAME:CET
DTSTART:20221030T010000
END:STANDARD
END:VTIMEZONE
BEGIN:VEVENT
DTSTART;TZID=Europe/Prague:20210702T153000
DTEND;TZID=Europe/Prague:20210702T230000
DTSTAMP:20260420T141858
CREATED:20210618T123254Z
LAST-MODIFIED:20210618T123254Z
UID:42062-1625239800-1625266800@rocksound.cz
SUMMARY:Monster Meeting CZ 2021 - Pardubice
DESCRIPTION:Unikátní turné Dymytry & Traktor – Monster Meeting!\nhosté: Černá\, Panoptiko \n\n\nvstup od 15:30 hod.\nhosté: 16:30 hod.\nshow: 19:00 hod. \nVstupenky: 590 Kč v předprodeji\nPředprodej: www.ticketstream.cz/vstupenky/monster-meeting
URL:https://rocksound.cz/akce/monster-meeting-cz-2021-pardubice/
LOCATION:Pardubice Cihelna
END:VEVENT
BEGIN:VEVENT
DTSTART;TZID=Europe/Prague:20210705T110000
DTEND;TZID=Europe/Prague:20210705T235900
DTSTAMP:20260420T141858
CREATED:20210603T091050Z
LAST-MODIFIED:20210603T091050Z
UID:41754-1625482800-1625529540@rocksound.cz
SUMMARY:Dřevorockfest - Zámek Dřevohostice
DESCRIPTION:16. ročník tradičního\, letního\, rockového open-air festivalu v areálu zámku v Dřevohosticích – to je DŘEVOROCKFEST 2021! \n\n\nAreál bude otevřen již od 11:00 hodin\, takže můžete dát v klidu oběd a nachystat se na odpal programu. Ten startuje ve 13:00 hodin\, nabere rychlý spád a skončí ve 2:00 ráno. \nVystoupí: DYMYTRY\, TRAKTOR\, HARLEJ\, DOGA\, ALKEHOL\, WALDA GANG\, HANZ’S FUCKERS\, ZAKÁZANÝ OVOCE \nCena vstupenky 2021:\n600\,- Kč / osoba\nDěti do 140 cm – vstup ZDARMA
URL:https://rocksound.cz/akce/drevorockfest-zamek-drevohostice/
LOCATION:Zámek Dřevohostive
END:VEVENT
BEGIN:VEVENT
DTSTART;TZID=Europe/Prague:20210716T163000
DTEND;TZID=Europe/Prague:20210716T220000
DTSTAMP:20260420T141858
CREATED:20210622T110953Z
LAST-MODIFIED:20210622T110953Z
UID:42175-1626453000-1626472800@rocksound.cz
SUMMARY:Monster Meeting CZ 2021 - Chomutov
DESCRIPTION:Unikátní turné Dymytry & Traktor – Monster Meeting! (pův. 18.4.2020 Sportovní hala Chomutov\, 2.10.2020\, 28.05.2021))\nhosté: Černá\, Panoptiko \n\n\nvstup od 15:30 hod.\nhosté: 16:30 hod.\nshow: 19:00 hod. \nVstupenky: 590 Kč v předprodeji\nPředprodej: www.ticketstream.cz/vstupenky/monster-meeting
URL:https://rocksound.cz/akce/monster-meeting-cz-2021-chomutov/
LOCATION:Letní kino Chomutov
END:VEVENT
BEGIN:VEVENT
DTSTART;TZID=Europe/Prague:20210717T163000
DTEND;TZID=Europe/Prague:20210717T220000
DTSTAMP:20260420T141858
CREATED:20210622T112153Z
LAST-MODIFIED:20210622T112219Z
UID:42178-1626539400-1626559200@rocksound.cz
SUMMARY:Monster Meeting - České Budějovice
DESCRIPTION:Unikátní turné Dymytry & Traktor – Monster Meeting! (pův. 28.3.\, 9.10.2020\, 29.5.2021) \n\n\nvstup od 15:30 hod.\nhosté: 16:30 hod.\nshow: 19:00 hod. \nVstupenky: 590 Kč v předprodeji\nPředprodej: www.ticketstream.cz/vstupenky/monster-meeting \n \n 
URL:https://rocksound.cz/akce/monster-meeting-ceske-budejovice/
LOCATION:Výstaviště České Budějovice
END:VEVENT
BEGIN:VEVENT
DTSTART;TZID=Europe/Prague:20210723T110000
DTEND;TZID=Europe/Prague:20210723T235900
DTSTAMP:20260420T141858
CREATED:20210603T092715Z
LAST-MODIFIED:20210603T092715Z
UID:41766-1627038000-1627084740@rocksound.cz
SUMMARY:Holba Rock na grilu  - Kylešovice (Opava)
DESCRIPTION:8. ročník festivalu Holba Rock na grilu 2021 BUDE!\nDalší legendární rockový mejdan je po roční pauze opět tady! Přijeďte s námi oslavit už 10. narozeniny Radia Čas Rock a užijte si nezapomenutelnou pařbu! \n\n\nNa festivalu Holba Rock na grilu 2021 vystoupí:\n🔥V pátek 23. 7. 🔥\nAdobre\, Lautr\, Jasná páka\, Traktor\, Dymytry\, Legendy se vrací\n🔥V sobotu 24. 7. 🔥\nInner Empire\, Dorien\, Helpness\, Gate Crasher\, XIII. století\, Tublatanka\, Arakain\, Bijouterrier\, YBCA \nVstupenky: od 666 Kč v předprodeji\nPředprodej: ticketstream.cz/akce/holba-rock-na-grilu-123038
URL:https://rocksound.cz/akce/holba-rock-na-grilu-kylesovice-opava/
LOCATION:Letiště Opava – Kylešovice
END:VEVENT
BEGIN:VEVENT
DTSTART;TZID=Europe/Prague:20210723T143000
DTEND;TZID=Europe/Prague:20210724T233000
DTSTAMP:20260420T141858
CREATED:20200210T131916Z
LAST-MODIFIED:20210603T082105Z
UID:29449-1627050600-1627169400@rocksound.cz
SUMMARY:The Legends Rock Fest - Hořice
DESCRIPTION:9. ročník The Legends Rockfestu musíme přesunout na 23. a 24. července 2021.\n——————————————————————————————————— \n\n\nČtvrtý víkend v červenci mají mnozí rockoví fanoušci dlouho dopředu vyhrazený pro výlet do Hořic v Podkrkonoší. Dvoudenní The Legends Rockfest se letos bude konat 23.-24. 7. 2021\, opět v tradičním areálu Pod Věží. Masarykova věž samostatnosti\, podle které areál dostal své jméno\, bude opět symbolicky dohlížet na všechny\, kdo přijdou podpořit legendární jména naší hudební scény i „mladou krev“. \nDevátý ročník bude mít program postavený na známých kapelách\, které mívají velkou podporu u fanoušků i našlapaný kotel pod pódiem: v pátek Arakain\, Doga\, Visací zámek\, XIII. století\, Forrest Jump\, Welicoruss\, v sobotu Traktor\, Trautenberk\, Walda Gang\, Komunál\, Seven\, X-Core\, Madam Royal\, Eclipsis\, Maylive. \nVstupenky: V předprodeji od 499 Kč\nPředprodej: http://thelegendsrockshop.cz
URL:https://rocksound.cz/akce/the-legends-rock-fest-horice/
LOCATION:The Legends Rock Fest Hořice\, Areál \,\,U věže" Cesta Legií\, Hořice\, 508 01\, Česká republika
END:VEVENT
BEGIN:VEVENT
DTSTART;TZID=Europe/Prague:20210731T163000
DTEND;TZID=Europe/Prague:20210731T220000
DTSTAMP:20260420T141858
CREATED:20210622T113257Z
LAST-MODIFIED:20210622T113257Z
UID:42182-1627749000-1627768800@rocksound.cz
SUMMARY:Monster Meeting - Konopiště\, Benešov u Prahy
DESCRIPTION:Unikátní turné Dymytry & Traktor – Monster Meeting! \n\n\nvstup od 15:30 hod.\nhosté: 16:30 hod.\nshow: 19:00 hod. \nVstupenky: 590 Kč v předprodeji\nPředprodej: www.ticketstream.cz/vstupenky/monster-meeting \n \n 
URL:https://rocksound.cz/akce/monster-meeting-konopiste-benesov-u-prahy/
LOCATION:Přírodní amfiteátr Konopiště
END:VEVENT
END:VCALENDAR