BEGIN:VCALENDAR
VERSION:2.0
PRODID:-//Rocksound - ECPv6.15.18//NONSGML v1.0//EN
CALSCALE:GREGORIAN
METHOD:PUBLISH
X-WR-CALNAME:Rocksound
X-ORIGINAL-URL:https://rocksound.cz
X-WR-CALDESC:Akce na Rocksound
REFRESH-INTERVAL;VALUE=DURATION:PT1H
X-Robots-Tag:noindex
X-PUBLISHED-TTL:PT1H
BEGIN:VTIMEZONE
TZID:Europe/Prague
BEGIN:DAYLIGHT
TZOFFSETFROM:+0100
TZOFFSETTO:+0200
TZNAME:CEST
DTSTART:20210328T010000
END:DAYLIGHT
BEGIN:STANDARD
TZOFFSETFROM:+0200
TZOFFSETTO:+0100
TZNAME:CET
DTSTART:20211031T010000
END:STANDARD
BEGIN:DAYLIGHT
TZOFFSETFROM:+0100
TZOFFSETTO:+0200
TZNAME:CEST
DTSTART:20220327T010000
END:DAYLIGHT
BEGIN:STANDARD
TZOFFSETFROM:+0200
TZOFFSETTO:+0100
TZNAME:CET
DTSTART:20221030T010000
END:STANDARD
BEGIN:DAYLIGHT
TZOFFSETFROM:+0100
TZOFFSETTO:+0200
TZNAME:CEST
DTSTART:20230326T010000
END:DAYLIGHT
BEGIN:STANDARD
TZOFFSETFROM:+0200
TZOFFSETTO:+0100
TZNAME:CET
DTSTART:20231029T010000
END:STANDARD
END:VTIMEZONE
BEGIN:VEVENT
DTSTART;TZID=Europe/Prague:20220819T140000
DTEND;TZID=Europe/Prague:20220821T020000
DTSTAMP:20260421T164305
CREATED:20220713T184540Z
LAST-MODIFIED:20220713T184540Z
UID:55921-1660917600-1661047200@rocksound.cz
SUMMARY:ROCK OF SADSKÁ 2022 - Jezero Sadská
DESCRIPTION:Přátelé v roce 2022 se sejdeme u Sadského jezera\, označte si naší událost ať něco neprošvihnete. Hudební festival Rock of Sadská v Sadské okr. Nymburk ve Středních Čechách! Ideální TIP na víkend s rodinou!\nJiž sedmý ročního hudebního festivalu u jezera Sadská. Zveme všechny příznivce tvrdé muziky. Již tradičně bude namíchán mix všech odnoží rockové a metalové muziky. Srdečně zveme na festival\, který bude probíhat od pátku 19. až do neděle 21. srpna 2022. Na festivalu se můžete těšit opět na bohatý program\, kapely\, ale také další novinky a překvapení na které se v roce 2021 nedostalo.\nPředprodej vstupenek vstupenek již nyní probíhá za nejlepší cenu.\n!! DALŠÍ INFORMACE JIŽ BRZY !!\nP.S. Letos přitvrdíme !!
URL:https://rocksound.cz/akce/rock-of-sadska-2022-jezero-sadska/
LOCATION:Hudební festival Rock of Sadská\, Jezero Sadská\, Sadská
ATTACH;FMTTYPE=image/jpeg:https://rocksound.cz/wp-content/uploads/2022/07/283590012_5108369342561552_3955083708851761988_n.jpg
END:VEVENT
BEGIN:VEVENT
DTSTART;TZID=Europe/Prague:20220827T150000
DTEND;TZID=Europe/Prague:20220827T233000
DTSTAMP:20260421T164305
CREATED:20220713T193450Z
LAST-MODIFIED:20220713T193450Z
UID:55941-1661612400-1661643000@rocksound.cz
SUMMARY:Vinohraní ve Viniu - Velké Pavlovice
DESCRIPTION:Vinohraní ve Viniu 2022 \nHudební zážitek a oslava vína a prvního burčáku.  Vinohraní je fesťák v areálu našeho vinařství\, kde o skvělou zábavu a dobré víno není nouze. 26.–27. 8. 2022\n\n\n V pátek 26. 8. 2022 se můžete těšit na přestavení s Miroslavem Donutilem Na kus řeči.\n V sobotu 27. 8. 2022 (od 15:00 hod.) rockový festival. Potvrzeny jsou tyto kapely:Traktor\, Harlej\, Alkehol\n\n\n https://vinium.cz/vinohrani-2022/
URL:https://rocksound.cz/akce/vinohrani-ve-viniu-velke-pavlovice/
LOCATION:Areál firmy Vinium\, Hlavní 666/2\, Velké Pavlovice
ATTACH;FMTTYPE=image/jpeg:https://rocksound.cz/wp-content/uploads/2022/07/2022.jpg
END:VEVENT
END:VCALENDAR