BEGIN:VCALENDAR
VERSION:2.0
PRODID:-//Rocksound - ECPv6.15.18//NONSGML v1.0//EN
CALSCALE:GREGORIAN
METHOD:PUBLISH
X-WR-CALNAME:Rocksound
X-ORIGINAL-URL:https://rocksound.cz
X-WR-CALDESC:Akce na Rocksound
REFRESH-INTERVAL;VALUE=DURATION:PT1H
X-Robots-Tag:noindex
X-PUBLISHED-TTL:PT1H
BEGIN:VTIMEZONE
TZID:Europe/Prague
BEGIN:DAYLIGHT
TZOFFSETFROM:+0100
TZOFFSETTO:+0200
TZNAME:CEST
DTSTART:20220327T010000
END:DAYLIGHT
BEGIN:STANDARD
TZOFFSETFROM:+0200
TZOFFSETTO:+0100
TZNAME:CET
DTSTART:20221030T010000
END:STANDARD
BEGIN:DAYLIGHT
TZOFFSETFROM:+0100
TZOFFSETTO:+0200
TZNAME:CEST
DTSTART:20230326T010000
END:DAYLIGHT
BEGIN:STANDARD
TZOFFSETFROM:+0200
TZOFFSETTO:+0100
TZNAME:CET
DTSTART:20231029T010000
END:STANDARD
BEGIN:DAYLIGHT
TZOFFSETFROM:+0100
TZOFFSETTO:+0200
TZNAME:CEST
DTSTART:20240331T010000
END:DAYLIGHT
BEGIN:STANDARD
TZOFFSETFROM:+0200
TZOFFSETTO:+0100
TZNAME:CET
DTSTART:20241027T010000
END:STANDARD
END:VTIMEZONE
BEGIN:VEVENT
DTSTART;TZID=Europe/Prague:20230505T180000
DTEND;TZID=Europe/Prague:20230507T010000
DTSTAMP:20260422T120742
CREATED:20230409T180820Z
LAST-MODIFIED:20230409T180820Z
UID:70254-1683309600-1683421200@rocksound.cz
SUMMARY:Zahájení turistické sezóny - Pasohlávky
DESCRIPTION:Opět se můžeš těšit na víkend plný zábavy. Po oba dva dny je pro tebe přichystaná hudební produkce.\nKemp Merkur Pasohlávky se změní v centrum zábavy\, hudby\, dobrého jídla a pití a nezapomínáme ani na ty nejmenší.
URL:https://rocksound.cz/akce/zahajeni-turisticke-sezony-pasohlavky/
LOCATION:Autokemp ATC Merkur Pasohlávky\, Pasohlávky\, 69122
ATTACH;FMTTYPE=image/jpeg:https://rocksound.cz/wp-content/uploads/2023/04/330065640_1889987051367447_8914605375473158874_n.jpg
END:VEVENT
BEGIN:VEVENT
DTSTART;TZID=Europe/Prague:20230512T140000
DTEND;TZID=Europe/Prague:20230512T233000
DTSTAMP:20260422T120742
CREATED:20230218T180122Z
LAST-MODIFIED:20230218T180122Z
UID:67825-1683900000-1683934200@rocksound.cz
SUMMARY:Rock in Plzeň 2023 - Harlej\, Traktor\, Arakain a další...
DESCRIPTION:První open air koncert Rock in Plzeň 2023 přiveze opět na Plochou dráhu nálož rockových kapel.\nNenechte si ujít to nejlepší z české rockové scény se špičkovou technikou a v novém prostředí na Borech.\nprvní potvrzení interpreti\nTraktor\nArakain\nArgema\na další velká jména brzy doplníme!\npředprodej od 7.11. v síti Ticketstream
URL:https://rocksound.cz/akce/rock-in-plzen-2023-harlej-traktor-arakain-a-dalsi/
LOCATION:Plochá dráha Plzeň\, Univerzitní 15\, Plzeň
ATTACH;FMTTYPE=image/jpeg:https://rocksound.cz/wp-content/uploads/2023/02/326906991_1432523277491611_3017227605338272632_n.jpg
END:VEVENT
BEGIN:VEVENT
DTSTART;TZID=Europe/Prague:20230518T140000
DTEND;TZID=Europe/Prague:20230521T030000
DTSTAMP:20260422T120743
CREATED:20230222T125835Z
LAST-MODIFIED:20230222T125835Z
UID:67992-1684418400-1684638000@rocksound.cz
SUMMARY:Slavnosti piva pod komínem 2023 - Záhlinice
DESCRIPTION:Přátelé\, v roce 2023 se opět potkáme všichni pod komínem v Pivovaru Záhlinice!\nPivní budou opět třídenní a to v termínu 18. – 20. 5. 2023 a my se na vás moc těšíme.\nVystoupí kapely jako TRAKTOR\, HARLEJ\, TRAUTENBERK\, ALKEHOL\, DOGA\, WALDA GANG\, HELENINE OČI\, METALINDA\, DARK GAMBALE\, ZOČI VOČI\, TERRAPIE\, HANZ´S FVCKERS\, FORREST JUMP a další!\nBěhem listopadu zveřejníme ještě dvě velká jména\, takže se máte na co těšit!\nPředprodej vstupenek začne 18. 10. 2022 a to jak na https://www.smsticket.cz/…/31036-slavnosti-piva-pod…\, tak na předprodejních místech: Pivovar Záhlinice\, Trafika Menšík v Kroměříži a INFO centrech Hulín\, Tlumačov a Uherské Hradiště.\nVíce informací na našich sociálních sítích.\nTěšíme se na vás!!!
URL:https://rocksound.cz/akce/slavnosti-piva-pod-kominem-2023-zahlinice/
LOCATION:Pivovar Záhlinice\, Záhlinice 67\, Hulín
ATTACH;FMTTYPE=image/jpeg:https://rocksound.cz/wp-content/uploads/2023/02/311469247_581098080473326_7118142038664918121_n.jpg
END:VEVENT
BEGIN:VEVENT
DTSTART;TZID=Europe/Prague:20230519T140000
DTEND;TZID=Europe/Prague:20230519T233000
DTSTAMP:20260422T120743
CREATED:20230218T180716Z
LAST-MODIFIED:20230218T180716Z
UID:67833-1684504800-1684539000@rocksound.cz
SUMMARY:Rock in Praha 2023 - Harlej\, Traktor\, Trautenberk a další
DESCRIPTION:To nejlepší z české rockové scény v jeden den na jednom pódiu a ve vašem městě!\nUžijte si jedinečnou kombinaci oblíbených interpretů HARLEJ\, TRAKTOR\, ALKEHOL a mnoha dalších.\nLINEUP:\nbude upřesněno\nVSTUPENKY:\nhttps://bit.ly/rit2023\nKaždý z interpretů dostává na podiu plnohodnotný prostor pro svoji show a program je nabitý od začátku do konce. Komfortní prostředí\, kvalitní technické zázemí s velkým podiem a speciální scénou plnou efektů je pro taková jména samozřejmostí
URL:https://rocksound.cz/akce/rock-in-praha-2023-harlej-traktor-trautenberk-a-dalsi/
LOCATION:Výstaviště Holešovice\, Výstaviště 67\, Praha
ATTACH;FMTTYPE=image/jpeg:https://rocksound.cz/wp-content/uploads/2023/02/328986679_712483667046904_3927243736035462991_n.jpg
END:VEVENT
BEGIN:VEVENT
DTSTART;TZID=Europe/Prague:20230520T130000
DTEND;TZID=Europe/Prague:20230520T233000
DTSTAMP:20260422T120743
CREATED:20230414T130933Z
LAST-MODIFIED:20230414T130933Z
UID:70727-1684587600-1684625400@rocksound.cz
SUMMARY:Matěják fest …zažít nejvíc - Jičín
DESCRIPTION:3. ročník hudebního festivalu v Jičíně \n\n\nTraktor\, Horkýže slíže\, Krucipüsk\, Gaia Mesiah\, Iné Kafe\, Panoptiko
URL:https://rocksound.cz/akce/matejak-fest-zazit-nejvic-jicin/
LOCATION:Matějkovo cvičiště\, Jičín\, U javůrkovy louky\, Jičín
ATTACH;FMTTYPE=image/png:https://rocksound.cz/wp-content/uploads/2023/04/bpgdbm8l62_nejvic_sq_1x.png
END:VEVENT
END:VCALENDAR