BEGIN:VCALENDAR
VERSION:2.0
PRODID:-//Rocksound - ECPv6.15.18//NONSGML v1.0//EN
CALSCALE:GREGORIAN
METHOD:PUBLISH
X-WR-CALNAME:Rocksound
X-ORIGINAL-URL:https://rocksound.cz
X-WR-CALDESC:Akce na Rocksound
REFRESH-INTERVAL;VALUE=DURATION:PT1H
X-Robots-Tag:noindex
X-PUBLISHED-TTL:PT1H
BEGIN:VTIMEZONE
TZID:Europe/Prague
BEGIN:DAYLIGHT
TZOFFSETFROM:+0100
TZOFFSETTO:+0200
TZNAME:CEST
DTSTART:20230326T010000
END:DAYLIGHT
BEGIN:STANDARD
TZOFFSETFROM:+0200
TZOFFSETTO:+0100
TZNAME:CET
DTSTART:20231029T010000
END:STANDARD
BEGIN:DAYLIGHT
TZOFFSETFROM:+0100
TZOFFSETTO:+0200
TZNAME:CEST
DTSTART:20240331T010000
END:DAYLIGHT
BEGIN:STANDARD
TZOFFSETFROM:+0200
TZOFFSETTO:+0100
TZNAME:CET
DTSTART:20241027T010000
END:STANDARD
BEGIN:DAYLIGHT
TZOFFSETFROM:+0100
TZOFFSETTO:+0200
TZNAME:CEST
DTSTART:20250330T010000
END:DAYLIGHT
BEGIN:STANDARD
TZOFFSETFROM:+0200
TZOFFSETTO:+0100
TZNAME:CET
DTSTART:20251026T010000
END:STANDARD
END:VTIMEZONE
BEGIN:VEVENT
DTSTART;TZID=Europe/Prague:20240614T140000
DTEND;TZID=Europe/Prague:20240616T040000
DTSTAMP:20260423T044322
CREATED:20240526T165704Z
LAST-MODIFIED:20240526T165704Z
UID:91517-1718373600-1718510400@rocksound.cz
SUMMARY:JamRock 2024 - Letohrad
DESCRIPTION:16. ročník festival JamRock se uskuteční 14. 6. 2024.\nVstupenky v předprodeji můžete zakoupit zde: https://www.ticketlive.cz/cs/event/jamrock-2024\n\nLINE UP:\nWanastowi VjecyPražský VýběrTraktorAnna KLibor Pavlata & BandRaegoJelenGaia MesiahXindl XPortlessWaldagangSPSVypsaná FixaPoletíme?Mothers AngelsMusic FamilyNadlimitya mnoho dalších…\nKompletní line-up\, novinky a více info na www.jamrock.cz\nTěšíme se na vás!
URL:https://rocksound.cz/akce/jamrock-2024-letohrad/
LOCATION:Letohrad\, Ústecká\, Letohrad
ATTACH;FMTTYPE=image/jpeg:https://rocksound.cz/wp-content/uploads/2024/05/433902714_717754300525797_5295594624860867118_n.jpg
ORGANIZER;CN="JamRock Festival":MAILTO:info@jamrock.cz
END:VEVENT
BEGIN:VEVENT
DTSTART;TZID=Europe/Prague:20240621T150000
DTEND;TZID=Europe/Prague:20240621T220000
DTSTAMP:20260423T044322
CREATED:20240608T183206Z
LAST-MODIFIED:20240608T183206Z
UID:91763-1718982000-1719007200@rocksound.cz
SUMMARY:Monster Meeting - Pardubice
DESCRIPTION:Exkluzivní koncertní projekt Monster Meeting se vrací!\nTěšte se na společné vystoupení DYMYTRY s novým zpěvákem Václavem Noidem Bártou a TRAKTOR v jedné monstrózní kontinuální show.\npředprodej: https://www.ticketstream.cz/vstupenky/monster-meeting\nOblíbené rockové a metalové hity doplní společné písně\, vzájemné hostování\, strhující efekty a speciální scéna.\nUnikátnímu hudebnímu i audiovizuálnímu zážitku v podobě propojení headlinerů budou předcházet speciální hosté ARAKAIN a ALKEHOL.\norientační lineup (vstup od 15:00)16:30 speciální host 117:30 speciální host 219:00 Monster Meeting show TRAKTOR & DYMYTRY
URL:https://rocksound.cz/akce/monster-meeting-pardubice-2/
LOCATION:Pardubice Cihelna
ATTACH;FMTTYPE=image/jpeg:https://rocksound.cz/wp-content/uploads/2024/06/424595557_904527804796678_1018576253503896770_n.jpg
END:VEVENT
END:VCALENDAR