BEGIN:VCALENDAR
VERSION:2.0
PRODID:-//Rocksound - ECPv6.15.18//NONSGML v1.0//EN
CALSCALE:GREGORIAN
METHOD:PUBLISH
X-WR-CALNAME:Rocksound
X-ORIGINAL-URL:https://rocksound.cz
X-WR-CALDESC:Akce na Rocksound
REFRESH-INTERVAL;VALUE=DURATION:PT1H
X-Robots-Tag:noindex
X-PUBLISHED-TTL:PT1H
BEGIN:VTIMEZONE
TZID:Europe/Prague
BEGIN:DAYLIGHT
TZOFFSETFROM:+0100
TZOFFSETTO:+0200
TZNAME:CEST
DTSTART:20230326T010000
END:DAYLIGHT
BEGIN:STANDARD
TZOFFSETFROM:+0200
TZOFFSETTO:+0100
TZNAME:CET
DTSTART:20231029T010000
END:STANDARD
BEGIN:DAYLIGHT
TZOFFSETFROM:+0100
TZOFFSETTO:+0200
TZNAME:CEST
DTSTART:20240331T010000
END:DAYLIGHT
BEGIN:STANDARD
TZOFFSETFROM:+0200
TZOFFSETTO:+0100
TZNAME:CET
DTSTART:20241027T010000
END:STANDARD
BEGIN:DAYLIGHT
TZOFFSETFROM:+0100
TZOFFSETTO:+0200
TZNAME:CEST
DTSTART:20250330T010000
END:DAYLIGHT
BEGIN:STANDARD
TZOFFSETFROM:+0200
TZOFFSETTO:+0100
TZNAME:CET
DTSTART:20251026T010000
END:STANDARD
END:VTIMEZONE
BEGIN:VEVENT
DTSTART;TZID=Europe/Prague:20240906T150000
DTEND;TZID=Europe/Prague:20240907T235900
DTSTAMP:20260421T225848
CREATED:20240902T055027Z
LAST-MODIFIED:20240902T055047Z
UID:95426-1725634800-1725753540@rocksound.cz
SUMMARY:HAVÍŘOVSKÉ SLAVNOSTI 2024
DESCRIPTION:Havířovské slavnosti 2024\,tradiční projekt statutárního města Havířova\, budou mít opět co nabídnout.Můžete se těšit na multižánrový program\, českou a zahraniční hudební scénu a spoustu doprovodné zábavy\nve dnech 6. a 7. září 2024 v areálu Sportovní haly Slávie v Havířově.\nPořadatelem je Městské kulturní středisko Havířov.\nDalší informace budou průběžně doplňovány.\nhttps://www.mkshavirov.cz/havirovske-slavnosti-2024/
URL:https://rocksound.cz/akce/havirovske-slavnosti-2024/
LOCATION:areál Sportovní haly Slavie Havířov\, Astronautů 859\, Havířov
ATTACH;FMTTYPE=image/jpeg:https://rocksound.cz/wp-content/uploads/2024/09/448427799_10224692753332884_929311161980979737_n.jpg
END:VEVENT
BEGIN:VEVENT
DTSTART;TZID=Europe/Prague:20240914T160000
DTEND;TZID=Europe/Prague:20240914T220000
DTSTAMP:20260421T225848
CREATED:20240902T093640Z
LAST-MODIFIED:20240902T093640Z
UID:95461-1726329600-1726351200@rocksound.cz
SUMMARY:Monster Meeting - Jaroměř
DESCRIPTION:Exkluzivní koncertní projekt Monster Meeting se vrací!\nTěšte se na společné vystoupení DYMYTRY s novým zpěvákem Václavem Noidem Bártou a TRAKTOR v jedné monstrózní kontinuální show.\npředprodej: https://www.ticketstream.cz/vstupenky/monster-meeting\nOblíbené rockové a metalové hity doplní společné písně\, vzájemné hostování\, strhující efekty a speciální scéna.\nUnikátnímu hudebnímu i audiovizuálnímu zážitku v podobě propojení headlinerů budou předcházet speciální hosté ARAKAIN a ALKEHOL.\norientační lineup (vstup od 15:00)16:00 Arakain17:30 Alkehol19:00 Monster Meeting show TRAKTOR & DYMYTRY
URL:https://rocksound.cz/akce/monster-meeting-jaromer/
LOCATION:Pevnost Josefov\, Pevnost Josefov\, Jaroměř
ATTACH;FMTTYPE=image/jpeg:https://rocksound.cz/wp-content/uploads/2024/09/421991820_904528348129957_7851872873255919174_n.jpg
END:VEVENT
END:VCALENDAR