BEGIN:VCALENDAR
VERSION:2.0
PRODID:-//Rocksound - ECPv6.15.18//NONSGML v1.0//EN
CALSCALE:GREGORIAN
METHOD:PUBLISH
X-WR-CALNAME:Rocksound
X-ORIGINAL-URL:https://rocksound.cz
X-WR-CALDESC:Akce na Rocksound
REFRESH-INTERVAL;VALUE=DURATION:PT1H
X-Robots-Tag:noindex
X-PUBLISHED-TTL:PT1H
BEGIN:VTIMEZONE
TZID:Europe/Prague
BEGIN:DAYLIGHT
TZOFFSETFROM:+0100
TZOFFSETTO:+0200
TZNAME:CEST
DTSTART:20230326T010000
END:DAYLIGHT
BEGIN:STANDARD
TZOFFSETFROM:+0200
TZOFFSETTO:+0100
TZNAME:CET
DTSTART:20231029T010000
END:STANDARD
BEGIN:DAYLIGHT
TZOFFSETFROM:+0100
TZOFFSETTO:+0200
TZNAME:CEST
DTSTART:20240331T010000
END:DAYLIGHT
BEGIN:STANDARD
TZOFFSETFROM:+0200
TZOFFSETTO:+0100
TZNAME:CET
DTSTART:20241027T010000
END:STANDARD
BEGIN:DAYLIGHT
TZOFFSETFROM:+0100
TZOFFSETTO:+0200
TZNAME:CEST
DTSTART:20250330T010000
END:DAYLIGHT
BEGIN:STANDARD
TZOFFSETFROM:+0200
TZOFFSETTO:+0100
TZNAME:CET
DTSTART:20251026T010000
END:STANDARD
END:VTIMEZONE
BEGIN:VEVENT
DTSTART;TZID=Europe/Prague:20241122T180000
DTEND;TZID=Europe/Prague:20241122T233000
DTSTAMP:20260423T030227
CREATED:20241104T201519Z
LAST-MODIFIED:20241104T201519Z
UID:97905-1732298400-1732318200@rocksound.cz
SUMMARY:Mega Monster Meeting - Praha
DESCRIPTION:Exkluzivní koncertní projekt Monster Meeting se vrací v roce 2024 a poprvé si jen budete moci užít na velkolepém podiu s MEGA MONSTER scénou v O2 areně!\nTěšte se na společné vystoupení DYMYTRY s novým zpěvákem Václavem Noidem Bártou a TRAKTOR v jedné monstrózní kontinuální show.\nOblíbené rockové a metalové hity doplní společné písně\, vzájemné hostování\, efekty a speciální scéna.\nUnikátnímu hudebnímu i audiovizuálnímu zážitku v podobě propojení headlinerů bude předcházet vystoupení dvou speciálních hostů ARAKAIN a ALKEHOL.\nPředprodej: Ticketmaster\, Ticketportal\nlineup (bude upřesněno\, vstup od 17:00):18:00 speciální host 119:00 speciální host 220:00 Mega Monster Meeting show
URL:https://rocksound.cz/akce/mega-monster-meeting-praha/
LOCATION:O2 arena\, Českomoravská 2345/17\, Praha
ATTACH;FMTTYPE=image/jpeg:https://rocksound.cz/wp-content/uploads/2024/11/424589249_901949918387800_3151107822109848495_n.jpg
END:VEVENT
END:VCALENDAR