BEGIN:VCALENDAR
VERSION:2.0
PRODID:-//Rocksound - ECPv6.15.18//NONSGML v1.0//EN
CALSCALE:GREGORIAN
METHOD:PUBLISH
X-WR-CALNAME:Rocksound
X-ORIGINAL-URL:https://rocksound.cz
X-WR-CALDESC:Akce na Rocksound
REFRESH-INTERVAL;VALUE=DURATION:PT1H
X-Robots-Tag:noindex
X-PUBLISHED-TTL:PT1H
BEGIN:VTIMEZONE
TZID:Europe/Prague
BEGIN:DAYLIGHT
TZOFFSETFROM:+0100
TZOFFSETTO:+0200
TZNAME:CEST
DTSTART:20190331T010000
END:DAYLIGHT
BEGIN:STANDARD
TZOFFSETFROM:+0200
TZOFFSETTO:+0100
TZNAME:CET
DTSTART:20191027T010000
END:STANDARD
BEGIN:DAYLIGHT
TZOFFSETFROM:+0100
TZOFFSETTO:+0200
TZNAME:CEST
DTSTART:20200329T010000
END:DAYLIGHT
BEGIN:STANDARD
TZOFFSETFROM:+0200
TZOFFSETTO:+0100
TZNAME:CET
DTSTART:20201025T010000
END:STANDARD
BEGIN:DAYLIGHT
TZOFFSETFROM:+0100
TZOFFSETTO:+0200
TZNAME:CEST
DTSTART:20210328T010000
END:DAYLIGHT
BEGIN:STANDARD
TZOFFSETFROM:+0200
TZOFFSETTO:+0100
TZNAME:CET
DTSTART:20211031T010000
END:STANDARD
END:VTIMEZONE
BEGIN:VEVENT
DTSTART;TZID=Europe/Prague:20200418T180000
DTEND;TZID=Europe/Prague:20200418T230000
DTSTAMP:20260425T131539
CREATED:20200226T131728Z
LAST-MODIFIED:20200226T131728Z
UID:30459-1587232800-1587250800@rocksound.cz
SUMMARY:Dymytry\, Traktor - Chomutov
DESCRIPTION:Headlineři: Traktor\, Dymytry\nHost: RCZ\nExkluzivní společná show dvou českých rockových a metalových kapel\, výpravná scéna\, speciální hosté\, špičková technika\, netradiční hudební zážitky a především setkání fanoušků s interprety\, které v roce 2020 nikde jinde neuvidí… To je unikátní celorepublikové turné Monster Meeting 2020\, kde nemůžete chybět! \n\n\nvstup od 17:00\nstart: 18:00\nVstupenky: od 540\,- Kč v předprodeji\npředprodej: v síti Ticketstream
URL:https://rocksound.cz/akce/dymytry-traktor-chomutov/
LOCATION:Městská sportovní hala Chomutov\, Březenecká 4704\, Chomutov\, 430 04
END:VEVENT
END:VCALENDAR