BEGIN:VCALENDAR
VERSION:2.0
PRODID:-//Rocksound - ECPv6.15.18//NONSGML v1.0//EN
CALSCALE:GREGORIAN
METHOD:PUBLISH
X-WR-CALNAME:Rocksound
X-ORIGINAL-URL:https://rocksound.cz
X-WR-CALDESC:Akce na Rocksound
REFRESH-INTERVAL;VALUE=DURATION:PT1H
X-Robots-Tag:noindex
X-PUBLISHED-TTL:PT1H
BEGIN:VTIMEZONE
TZID:Europe/Prague
BEGIN:DAYLIGHT
TZOFFSETFROM:+0100
TZOFFSETTO:+0200
TZNAME:CEST
DTSTART:20180325T010000
END:DAYLIGHT
BEGIN:STANDARD
TZOFFSETFROM:+0200
TZOFFSETTO:+0100
TZNAME:CET
DTSTART:20181028T010000
END:STANDARD
BEGIN:DAYLIGHT
TZOFFSETFROM:+0100
TZOFFSETTO:+0200
TZNAME:CEST
DTSTART:20190331T010000
END:DAYLIGHT
BEGIN:STANDARD
TZOFFSETFROM:+0200
TZOFFSETTO:+0100
TZNAME:CET
DTSTART:20191027T010000
END:STANDARD
BEGIN:DAYLIGHT
TZOFFSETFROM:+0100
TZOFFSETTO:+0200
TZNAME:CEST
DTSTART:20200329T010000
END:DAYLIGHT
BEGIN:STANDARD
TZOFFSETFROM:+0200
TZOFFSETTO:+0100
TZNAME:CET
DTSTART:20201025T010000
END:STANDARD
END:VTIMEZONE
BEGIN:VEVENT
DTSTART;TZID=Europe/Prague:20190823T150000
DTEND;TZID=Europe/Prague:20190823T235900
DTSTAMP:20260419T145152
CREATED:20190721T093344Z
LAST-MODIFIED:20190721T093344Z
UID:19686-1566572400-1566604740@rocksound.cz
SUMMARY:Škwor\, Doga\, Alkehol\, Trautenberk - Loket
DESCRIPTION:Vystoupí: \n\n\nŠkwor\, Alkehol\, Doga\, Trautenberk\, Sinetrium \nVSTUPNÉ: 550 Kč (předprodej) / 600 Kč (na místě) / 1.990 Kč – speciální vstupenka pro 4 osoby / Děti do 6 let VSTUPNÉ ZDARMA / Děti 6-12 let VSTUPNÉ 120 Kč
URL:https://rocksound.cz/akce/skwor-doga-alkehol-trautenberk-loket/
LOCATION:Amfiteátr Loket\, Zahradní\, Loket
END:VEVENT
END:VCALENDAR