BEGIN:VCALENDAR
VERSION:2.0
PRODID:-//Rocksound - ECPv6.15.18//NONSGML v1.0//EN
CALSCALE:GREGORIAN
METHOD:PUBLISH
X-WR-CALNAME:Rocksound
X-ORIGINAL-URL:https://rocksound.cz
X-WR-CALDESC:Akce na Rocksound
REFRESH-INTERVAL;VALUE=DURATION:PT1H
X-Robots-Tag:noindex
X-PUBLISHED-TTL:PT1H
BEGIN:VTIMEZONE
TZID:Europe/Prague
BEGIN:DAYLIGHT
TZOFFSETFROM:+0100
TZOFFSETTO:+0200
TZNAME:CEST
DTSTART:20220327T010000
END:DAYLIGHT
BEGIN:STANDARD
TZOFFSETFROM:+0200
TZOFFSETTO:+0100
TZNAME:CET
DTSTART:20221030T010000
END:STANDARD
BEGIN:DAYLIGHT
TZOFFSETFROM:+0100
TZOFFSETTO:+0200
TZNAME:CEST
DTSTART:20230326T010000
END:DAYLIGHT
BEGIN:STANDARD
TZOFFSETFROM:+0200
TZOFFSETTO:+0100
TZNAME:CET
DTSTART:20231029T010000
END:STANDARD
BEGIN:DAYLIGHT
TZOFFSETFROM:+0100
TZOFFSETTO:+0200
TZNAME:CEST
DTSTART:20240331T010000
END:DAYLIGHT
BEGIN:STANDARD
TZOFFSETFROM:+0200
TZOFFSETTO:+0100
TZNAME:CET
DTSTART:20241027T010000
END:STANDARD
END:VTIMEZONE
BEGIN:VEVENT
DTSTART;TZID=Europe/Prague:20231202T180000
DTEND;TZID=Europe/Prague:20231202T233000
DTSTAMP:20260419T163559
CREATED:20231013T132222Z
LAST-MODIFIED:20231013T132222Z
UID:81080-1701540000-1701559800@rocksound.cz
SUMMARY:Tři sestry & Horkýže Slíže - Znojmo
DESCRIPTION:Osud tomu chtěl\, aby se soubory Tři sestry a Horkýže Slíže setkaly na jednom pódiu nad společným sudem! \nVstupenky v síti Ticketstream  https://bit.ly/TS_HS_Znojmo\nVstupenky na tento koncert se prodávají výjimečně pouze online\, na kamenných pobočkách Ticketstream je nelze zakoupit.\nwww.trisestry.cz\nwww.horkyzeslize.sk
URL:https://rocksound.cz/akce/tri-sestry-horkyze-slize-znojmo/
LOCATION:Nevoga aréna\, Znojmo\, Dvořákova 2924\, Znojmo
ATTACH;FMTTYPE=image/jpeg:https://rocksound.cz/wp-content/uploads/2023/10/379511776_792673529529744_1647308613717104192_n.jpg
END:VEVENT
END:VCALENDAR