BEGIN:VCALENDAR
VERSION:2.0
PRODID:-//Rocksound - ECPv6.15.18//NONSGML v1.0//EN
CALSCALE:GREGORIAN
METHOD:PUBLISH
X-WR-CALNAME:Rocksound
X-ORIGINAL-URL:https://rocksound.cz
X-WR-CALDESC:Akce na Rocksound
REFRESH-INTERVAL;VALUE=DURATION:PT1H
X-Robots-Tag:noindex
X-PUBLISHED-TTL:PT1H
BEGIN:VTIMEZONE
TZID:Europe/Prague
BEGIN:DAYLIGHT
TZOFFSETFROM:+0100
TZOFFSETTO:+0200
TZNAME:CEST
DTSTART:20210328T010000
END:DAYLIGHT
BEGIN:STANDARD
TZOFFSETFROM:+0200
TZOFFSETTO:+0100
TZNAME:CET
DTSTART:20211031T010000
END:STANDARD
BEGIN:DAYLIGHT
TZOFFSETFROM:+0100
TZOFFSETTO:+0200
TZNAME:CEST
DTSTART:20220327T010000
END:DAYLIGHT
BEGIN:STANDARD
TZOFFSETFROM:+0200
TZOFFSETTO:+0100
TZNAME:CET
DTSTART:20221030T010000
END:STANDARD
BEGIN:DAYLIGHT
TZOFFSETFROM:+0100
TZOFFSETTO:+0200
TZNAME:CEST
DTSTART:20230326T010000
END:DAYLIGHT
BEGIN:STANDARD
TZOFFSETFROM:+0200
TZOFFSETTO:+0100
TZNAME:CET
DTSTART:20231029T010000
END:STANDARD
END:VTIMEZONE
BEGIN:VEVENT
DTSTART;TZID=Europe/Prague:20220303T190000
DTEND;TZID=Europe/Prague:20220303T214500
DTSTAMP:20260423T120953
CREATED:20220302T131512Z
LAST-MODIFIED:20220302T131512Z
UID:49554-1646334000-1646343900@rocksound.cz
SUMMARY:Trója - RockOpera - Praha
DESCRIPTION:Představení z organizačních důvodů přesunuté z 27. 01. 2022 na 03. 03. 2022. Vaše zakoupené vstupenky zůstávají v platnosti na nový termín.\n\nRockOpera Praha rozšířila svoji antickou sérii o operu Trója. Navazuje s ní na své už klasické tituly Antigona\, Oidipus Tyranus a 7 proti Thébám.\nOBSAZENÍ\nAgamemnón: Kamil Střihavka\, Bohyně lovu Artemis: Eva Urbanová\, Achilles: Martin Sluka\, Helena: Daniela Gildenlöw Langrová\, Paris: Honza Tláskal\, Kassandra: Pavla Forest\, Král Priamos: Petr Opava a další\nTVŮRČÍ TÝM\nHudba: Milan Steigerwald\, libreto: Pavla Forest\, režie: Irina Andreeva\, choreografie: Irina Andreeva\, Zuzana Dovalová\, Jakub Švec\nVstupenky: od 499 Kč\nPředprodej: na www.rockopera.cz/program
URL:https://rocksound.cz/akce/troja-rockopera-praha/
LOCATION:RockOpera Praha\, Komunardů 306/1\, Praha
END:VEVENT
END:VCALENDAR