BEGIN:VCALENDAR
VERSION:2.0
PRODID:-//Rocksound - ECPv6.15.18//NONSGML v1.0//EN
CALSCALE:GREGORIAN
METHOD:PUBLISH
X-WR-CALNAME:Rocksound
X-ORIGINAL-URL:https://rocksound.cz
X-WR-CALDESC:Akce na Rocksound
REFRESH-INTERVAL;VALUE=DURATION:PT1H
X-Robots-Tag:noindex
X-PUBLISHED-TTL:PT1H
BEGIN:VTIMEZONE
TZID:Europe/Prague
BEGIN:DAYLIGHT
TZOFFSETFROM:+0100
TZOFFSETTO:+0200
TZNAME:CEST
DTSTART:20210328T010000
END:DAYLIGHT
BEGIN:STANDARD
TZOFFSETFROM:+0200
TZOFFSETTO:+0100
TZNAME:CET
DTSTART:20211031T010000
END:STANDARD
BEGIN:DAYLIGHT
TZOFFSETFROM:+0100
TZOFFSETTO:+0200
TZNAME:CEST
DTSTART:20220327T010000
END:DAYLIGHT
BEGIN:STANDARD
TZOFFSETFROM:+0200
TZOFFSETTO:+0100
TZNAME:CET
DTSTART:20221030T010000
END:STANDARD
BEGIN:DAYLIGHT
TZOFFSETFROM:+0100
TZOFFSETTO:+0200
TZNAME:CEST
DTSTART:20230326T010000
END:DAYLIGHT
BEGIN:STANDARD
TZOFFSETFROM:+0200
TZOFFSETTO:+0100
TZNAME:CET
DTSTART:20231029T010000
END:STANDARD
END:VTIMEZONE
BEGIN:VEVENT
DTSTART;TZID=Europe/Prague:20220424T183000
DTEND;TZID=Europe/Prague:20220424T235900
DTSTAMP:20260419T152123
CREATED:20220326T222151Z
LAST-MODIFIED:20220326T222151Z
UID:50615-1650825000-1650844740@rocksound.cz
SUMMARY:GHOST | support: Uncle Acid & The Dead Beats a Twin Temple - Praha
DESCRIPTION:CENY VSTUPENEK OD 990\,- DO 1690\,- Kč\nVSTUPENKY V PRODEJI V SÍTÍCH TICKETMASTER A TICKETPORTAL OD 26. 11. 2021 V 10:00\nLIVE NATION KLUB\, IDNES & O2 PŘEDPRODEJ OD 25. 11. 2021 10:00 – 26. 11. 2021 9:00\n\nDnes\, kdy mraky zakrývají slunce a špatné předpovědi se množí\, GHOST opět vyrážejí na své dosud největší britské a evropské turné.\nV dubnu a květnu 2022 budou držitelé ceny Grammy opět brázdit s černými oři arény a představí svou temnou extravaganci. Již v roce 2018 zahájili dvouleté turné „A Pale Tour Named Death“ v historické Royal Albert Hall v Londýně; při tomto dlouho očekávaném návratu\, označeném jako „IMPERATOUR – EUROPE 2022“\, GHOST opět zahájí tour ve Velké Británii a poté se vydají do nejpůsobivějších evropských hal.\nO support se na všech koncertech postarají Uncle Acid & The Dead Beats a Twin Temple.\nGHOST nedávno představili svou první novou skladbu po dvou letech\, ‚Hunter’s Moon‘\, která zazněla v aktuálním filmu Halloween Kills. Vychutnejte si fantasmagorický videoklip v režii Amandy Demme.\n‚Hunter’s Moon‘ vychází 21. ledna 2022 jako sběratelský sedmipalcový singl u Loma Vista Recordings. ‚Hunter’s Moon‘ si můžete pustit\, zakoupit a/nebo předobjednat na vinylu. Prodejní verze sedmipalce bude obsahovat speciální B-stranu ‚Halloween Kills (Main Title)‘\, kterou nazpívali\, produkovali a vytvořili John Carpenter\, Cody Carpenter a Daniel Davies.\nNa přelomu ledna a února 2022 bylo oznámeno turné po 26 amerických městech\, na kterém GHOST vystoupí společně s Volbeat a každý večer budou koncert uzavírat. Další informace najdete na www.ghost-official.com.\nENG:\nTICKET PRICES FROM 990\,- TO 1690\,- CZK\nTICKETS ON SALE IN TICKETMASTER AND TICKETPORTAL FROM 26/11/2021 AT 10:00\nLIVE NATION KLUB\, IDNES & O2 PRE-SALE FROM 25/11/2021 10:00 – 26/11/2021 9:00\nToday\, as clouds obscure the sun and bad omens abound\, GHOST rise again with their biggest UK & European tour to date.\nThrough April & May 2022\, the Grammy Award-winners will once more plume the black steeds as they take their dark extravaganza to arenas everywhere.\nBack in 2018\, the ‘A Pale Tour Named Death’ trek started its two-year run at the historic Royal Albert Hall in London; for this long-awaited return\, branded ‘IMPERATOUR – EUROPE 2022’\, GHOST again commence proceedings in the UK before descending upon Europe’s most impressive venues.\nSupport across all shows will be provided by Uncle Acid & The Dead Beats and Twin Temple.\n\nMeanwhile\, GHOST recently unveiled their first new track in two years\, ‘Hunter’s Moon’\, which features in the current Halloween Kills movie. Revel in the phantasmagoric video directed by Amanda Demme.\n‘Hunter’s Moon’ appears on January 21st 2022 as a collectible 7-inch single via Loma Vista Recordings. ‘Hunter’s Moon’ can be streamed\, purchased and /or pre-ordered in its vinyl incarnation. The retail version of the 7-inch will feature the special B-side\, ‘Halloween Kills (Main Title)’\, performed\, produced & engineered by John Carpenter\, Cody Carpenter & Daniel Davies.\n\nElsewhere\, a US 26-city arena tour was recently announced for January/ February 2022\, on which GHOST will be co-headlining with Volbeat\, closing the show every night. For further information\, go to www.ghost-official.com.
URL:https://rocksound.cz/akce/ghost-support-uncle-acid-the-dead-beats-a-twin-temple-praha/
LOCATION:O2 arena\, Českomoravská 2345/17\, Praha
ATTACH;FMTTYPE=image/jpeg:https://rocksound.cz/wp-content/uploads/2022/03/260264888_5303478049669399_7427743487400811383_n.jpg
END:VEVENT
END:VCALENDAR