BEGIN:VCALENDAR
VERSION:2.0
PRODID:-//Rocksound - ECPv6.15.18//NONSGML v1.0//EN
CALSCALE:GREGORIAN
METHOD:PUBLISH
X-WR-CALNAME:Rocksound
X-ORIGINAL-URL:https://rocksound.cz
X-WR-CALDESC:Akce na Rocksound
REFRESH-INTERVAL;VALUE=DURATION:PT1H
X-Robots-Tag:noindex
X-PUBLISHED-TTL:PT1H
BEGIN:VTIMEZONE
TZID:Europe/Prague
BEGIN:DAYLIGHT
TZOFFSETFROM:+0100
TZOFFSETTO:+0200
TZNAME:CEST
DTSTART:20220327T010000
END:DAYLIGHT
BEGIN:STANDARD
TZOFFSETFROM:+0200
TZOFFSETTO:+0100
TZNAME:CET
DTSTART:20221030T010000
END:STANDARD
BEGIN:DAYLIGHT
TZOFFSETFROM:+0100
TZOFFSETTO:+0200
TZNAME:CEST
DTSTART:20230326T010000
END:DAYLIGHT
BEGIN:STANDARD
TZOFFSETFROM:+0200
TZOFFSETTO:+0100
TZNAME:CET
DTSTART:20231029T010000
END:STANDARD
BEGIN:DAYLIGHT
TZOFFSETFROM:+0100
TZOFFSETTO:+0200
TZNAME:CEST
DTSTART:20240331T010000
END:DAYLIGHT
BEGIN:STANDARD
TZOFFSETFROM:+0200
TZOFFSETTO:+0100
TZNAME:CET
DTSTART:20241027T010000
END:STANDARD
END:VTIMEZONE
BEGIN:VEVENT
DTSTART;TZID=Europe/Prague:20231122T190000
DTEND;TZID=Europe/Prague:20231122T220000
DTSTAMP:20260419T174210
CREATED:20231108T193158Z
LAST-MODIFIED:20231108T193158Z
UID:83363-1700679600-1700690400@rocksound.cz
SUMMARY:UFOMAMMUT\, Skyjoggers - Praha
DESCRIPTION:UFOMAMMUT v Praze!\n22 / 11 / 2023 / PRAHA / STRAHOV 007\nFenomenální italští zaříkávači UFOMAMMUT vás na podzim přijedou uhranout svým osobitým psychedelickým sludge.\nZatímco jiným stačí jen donekonečna napodobovat raná alba Sabbatů a nechat se nést aktuálně oblíbenou vlnou\, Italové se nebojí hledat své vlastní polohy a rozšiřují už leta rockovou kámasútru o nové neumaštěné stránky. Pro svůj rituál si tentokrát vybrali strahovskou Sedmičku! Vyberte si ji i vy.\nSupport: Skyjoggers (fin)\npředprodej:\nnejlevnější vstupenky tradičně seženete v našem shopu:\nObscure e-ticket: https://obscure.cz/cs/tickets/detail/id/604\ndalší předprodej: Goout:\nhttps://goout.net/cs/ufomammut/szwrvxv/\nfyzické vstupenky: Ticketmaster
URL:https://rocksound.cz/akce/ufomammut-skyjoggers-praha/
LOCATION:Klub 007 Strahov\, Chaloupeckého 1915/7\, Praha
ATTACH;FMTTYPE=image/jpeg:https://rocksound.cz/wp-content/uploads/2023/11/396719538_645005677787983_2653279444075825002_n.jpg
END:VEVENT
END:VCALENDAR