BEGIN:VCALENDAR
VERSION:2.0
PRODID:-//Rocksound - ECPv6.15.18//NONSGML v1.0//EN
CALSCALE:GREGORIAN
METHOD:PUBLISH
X-WR-CALNAME:Rocksound
X-ORIGINAL-URL:https://rocksound.cz
X-WR-CALDESC:Akce na Rocksound
REFRESH-INTERVAL;VALUE=DURATION:PT1H
X-Robots-Tag:noindex
X-PUBLISHED-TTL:PT1H
BEGIN:VTIMEZONE
TZID:Europe/Prague
BEGIN:DAYLIGHT
TZOFFSETFROM:+0100
TZOFFSETTO:+0200
TZNAME:CEST
DTSTART:20210328T010000
END:DAYLIGHT
BEGIN:STANDARD
TZOFFSETFROM:+0200
TZOFFSETTO:+0100
TZNAME:CET
DTSTART:20211031T010000
END:STANDARD
BEGIN:DAYLIGHT
TZOFFSETFROM:+0100
TZOFFSETTO:+0200
TZNAME:CEST
DTSTART:20220327T010000
END:DAYLIGHT
BEGIN:STANDARD
TZOFFSETFROM:+0200
TZOFFSETTO:+0100
TZNAME:CET
DTSTART:20221030T010000
END:STANDARD
BEGIN:DAYLIGHT
TZOFFSETFROM:+0100
TZOFFSETTO:+0200
TZNAME:CEST
DTSTART:20230326T010000
END:DAYLIGHT
BEGIN:STANDARD
TZOFFSETFROM:+0200
TZOFFSETTO:+0100
TZNAME:CET
DTSTART:20231029T010000
END:STANDARD
END:VTIMEZONE
BEGIN:VEVENT
DTSTART;TZID=Europe/Prague:20220226T190000
DTEND;TZID=Europe/Prague:20220226T235900
DTSTAMP:20260421T022121
CREATED:20220224T140904Z
LAST-MODIFIED:20220224T140904Z
UID:49515-1645902000-1645919940@rocksound.cz
SUMMARY:Insania - Brno
DESCRIPTION:Nová kapitola temné metalové grotesky začíná. Kultovní Insania se s novým albem vrací zpět na Flédu.\nSupport: Universe B\n\nLine-up:\n19:00 – open\n20:00 – Universe B\n21:00 – Insania\n\nPŘEDPRODEJ: 350 Kč (bez dalších poplatků)\n► SMSticket.cz\n► GoOut.net
URL:https://rocksound.cz/akce/insania-brno/
LOCATION:Fléda Club\, Štefánikova 24\, Brno
END:VEVENT
END:VCALENDAR