BEGIN:VCALENDAR
VERSION:2.0
PRODID:-//Rocksound - ECPv6.15.18//NONSGML v1.0//EN
CALSCALE:GREGORIAN
METHOD:PUBLISH
X-WR-CALNAME:Rocksound
X-ORIGINAL-URL:https://rocksound.cz
X-WR-CALDESC:Akce na Rocksound
REFRESH-INTERVAL;VALUE=DURATION:PT1H
X-Robots-Tag:noindex
X-PUBLISHED-TTL:PT1H
BEGIN:VTIMEZONE
TZID:Europe/Prague
BEGIN:DAYLIGHT
TZOFFSETFROM:+0100
TZOFFSETTO:+0200
TZNAME:CEST
DTSTART:20180325T010000
END:DAYLIGHT
BEGIN:STANDARD
TZOFFSETFROM:+0200
TZOFFSETTO:+0100
TZNAME:CET
DTSTART:20181028T010000
END:STANDARD
BEGIN:DAYLIGHT
TZOFFSETFROM:+0100
TZOFFSETTO:+0200
TZNAME:CEST
DTSTART:20190331T010000
END:DAYLIGHT
BEGIN:STANDARD
TZOFFSETFROM:+0200
TZOFFSETTO:+0100
TZNAME:CET
DTSTART:20191027T010000
END:STANDARD
BEGIN:DAYLIGHT
TZOFFSETFROM:+0100
TZOFFSETTO:+0200
TZNAME:CEST
DTSTART:20200329T010000
END:DAYLIGHT
BEGIN:STANDARD
TZOFFSETFROM:+0200
TZOFFSETTO:+0100
TZNAME:CET
DTSTART:20201025T010000
END:STANDARD
END:VTIMEZONE
BEGIN:VEVENT
DTSTART;TZID=Europe/Prague:20190215T200000
DTEND;TZID=Europe/Prague:20190215T230000
DTSTAMP:20260421T004705
CREATED:20190113T085937Z
LAST-MODIFIED:20190113T085937Z
UID:8297-1550260800-1550271600@rocksound.cz
SUMMARY:BeatFest - Uriah Heep & U.D.O.
DESCRIPTION:Legendární formace URIAH HEEP a nestárnoucí metalové monstrum U.D.O. zavítá v rámci akce BeatFest do Prahy! \n\n\nRadio Beat a Pragokoncert vás zvou na BeatFest\, kde už nyní tvoří hvězdnou soupisku velká jména! \nBritští rockoví velikáni URIAH HEEP jsou zpět a svým dokonalým\, klasickým rockem přijíždí opět obohatit naši koncertní scénu! „Uriáši“ působí na poli hard rockové scény již bezmála padesát let a energie jim rozhodně neschází! Stále si drží silnou pozici na hudební scéně! \nDalší hvězdou bude německá heavy metalová skupina U.D.O. v čele s nestárnoucím matadorem Udem Dirkschneiderem. Můžete se tak těšit Udův zvonivý ječák\, ale hlavně na pořádný hrubozrnný heavy-metal! \nObě kapely na BeatFestu zároveň představí svá nová alba\, jež vyjdou už za pár dní! \nKoncert velkolepého akce BeatFest\, proběhne v pátek 15. února 2019 v pražské hale Forum Karlín a další kapely budou oznámeny již brzy. \nCena vstupenek od 850 Kč. \nPředprodej vstupenek – www.mastersofrock.cz
URL:https://rocksound.cz/akce/beatfest-uriah-heep-u-d-o/
LOCATION:Forum Karlín\, Pernerova 51\, Praha
END:VEVENT
BEGIN:VEVENT
DTSTART;TZID=Europe/Prague:20190216T200000
DTEND;TZID=Europe/Prague:20190216T230000
DTSTAMP:20260421T004705
CREATED:20190113T120905Z
LAST-MODIFIED:20190113T120905Z
UID:8349-1550347200-1550358000@rocksound.cz
SUMMARY:Uriah Heep - Hluk
DESCRIPTION:Britská rocková legenda URIAH HEEP se vrací do ČR! V únoru představí své nové album také v Hluku!\n\n\nLegendární formace URIAH HEEP patří spolu s Led Zeppelin\, Black Sabbath a Deep Purple ke čtyřlístku\, jenž v sedmdesátých letech udával směr\, kudy se vyvíjel hard rock!\nTito rockoví velikáni působí na poli hard rockové scény již bezmála padesát let\, ale svým dokonalým\, klasickým rockem si stále drží silnou pozici a skutečně žijí svůj sen! Energie jim rozhodně neschází\, a to stvrzují další deskou. Prostřednictvím Frontiers Music vyjde 14. září obdivuhodné\, v pořadí již 25. album\, které nese příznačný název „Living The Dream“ a kapela se už moc těší až se s novým materiálem představí svým fanouškům po celém světě! \n\n\nSpeciální hosté jsou samozřejmostí! \nPředprodej vstupenek: www.mastersofrock.cz
URL:https://rocksound.cz/akce/uriah-heep-hluk/
LOCATION:Sportovní hala Hluk\, Boršická 1313\, Hluk\, 68725
END:VEVENT
END:VCALENDAR