BEGIN:VCALENDAR
VERSION:2.0
PRODID:-//Rocksound - ECPv6.15.18//NONSGML v1.0//EN
CALSCALE:GREGORIAN
METHOD:PUBLISH
X-WR-CALNAME:Rocksound
X-ORIGINAL-URL:https://rocksound.cz
X-WR-CALDESC:Akce na Rocksound
REFRESH-INTERVAL;VALUE=DURATION:PT1H
X-Robots-Tag:noindex
X-PUBLISHED-TTL:PT1H
BEGIN:VTIMEZONE
TZID:Europe/Prague
BEGIN:DAYLIGHT
TZOFFSETFROM:+0100
TZOFFSETTO:+0200
TZNAME:CEST
DTSTART:20220327T010000
END:DAYLIGHT
BEGIN:STANDARD
TZOFFSETFROM:+0200
TZOFFSETTO:+0100
TZNAME:CET
DTSTART:20221030T010000
END:STANDARD
BEGIN:DAYLIGHT
TZOFFSETFROM:+0100
TZOFFSETTO:+0200
TZNAME:CEST
DTSTART:20230326T010000
END:DAYLIGHT
BEGIN:STANDARD
TZOFFSETFROM:+0200
TZOFFSETTO:+0100
TZNAME:CET
DTSTART:20231029T010000
END:STANDARD
BEGIN:DAYLIGHT
TZOFFSETFROM:+0100
TZOFFSETTO:+0200
TZNAME:CEST
DTSTART:20240331T010000
END:DAYLIGHT
BEGIN:STANDARD
TZOFFSETFROM:+0200
TZOFFSETTO:+0100
TZNAME:CET
DTSTART:20241027T010000
END:STANDARD
END:VTIMEZONE
BEGIN:VEVENT
DTSTART;TZID=Europe/Prague:20230921T200000
DTEND;TZID=Europe/Prague:20230921T235900
DTSTAMP:20260422T002357
CREATED:20230823T113806Z
LAST-MODIFIED:20230823T113806Z
UID:77564-1695326400-1695340740@rocksound.cz
SUMMARY:VADER + Vomitory + Skaphos + Warside - Pardubice
DESCRIPTION:Další peklo se valí do Pardubic! Tentokrát k nám zavítá v rámci svých oslav 40 ti-letého výročí polská mlátička Vader. Polská tvrdě metalová scéna měla vždy co nabídnout a tahle kapela vedená charismatickým Piotrem si právem díky své píli\, kvalitě a oddanosti žánru vybudovala statut jedné z nejrespektovanější kapely nejen v Evropě. Od svého debutu The Ultimate Incantation vydaného v roce 1992 vydalo řadu vysoce kvalitních desek včetně poslední fošny Solitude in Madness\, která potvrzuje vysoké postavení kapely v rámci žánru.\nCo by to bylo za oslavy bez pořádného hosta? A tím budou švédští death metaloví harcovnící Vomitory. Kapela\, která má za s sebou 30ti leté výročí\, po se mnoha letech šíření hudební destrukce v roce 2013 na pár let rozešla\, aby v roce 2017 znovu nastartovala svou smrtící mašinu na plné obrátky. V letošním roce vyšla jejich poslední deska All Heads Are Gona Roll. Hlavy se budou zajisté točit i při jejich vystoupení\, tak přijď zatřepat řepou\, pokud máš v cajku krční páteř!\nPředskakovat budou dvě francouzské naděje black/death metalové scény: SKAPHOS a WARSIDE.\nVADER:\nhttps://www.facebook.com/vader/\nhttps://www.youtube.com/watch?v=jVtC6a_YJV0\nVOMITORY:\nhttps://www.vomitory.net/\nhttps://www.youtube.com/watch?v=u1f0GOCOA5Y\nSKAPHOS:\nhttps://www.facebook.com/skaphosofficiel/\nhttps://www.youtube.com/watch?v=2MXxicN4U7I\nWARSIDE:\nhttps://www.facebook.com/WARSIDE.FR/\nhttps://www.youtube.com/watch?v=-5uZ_zwQExM
URL:https://rocksound.cz/akce/vader-vomitory-skaphos-warside-pardubice/
LOCATION:Music club Žlutý pes\, Ke Koupališti 62\, Pardubice
ATTACH;FMTTYPE=image/jpeg:https://rocksound.cz/wp-content/uploads/2023/08/358130679_655343466630625_8898333450484440255_n.jpg
ORGANIZER;CN="Nomad Concerts":MAILTO:nomadconcerts@gmail.com
END:VEVENT
END:VCALENDAR