BEGIN:VCALENDAR
VERSION:2.0
PRODID:-//Rocksound - ECPv6.15.18//NONSGML v1.0//EN
CALSCALE:GREGORIAN
METHOD:PUBLISH
X-WR-CALNAME:Rocksound
X-ORIGINAL-URL:https://rocksound.cz
X-WR-CALDESC:Akce na Rocksound
REFRESH-INTERVAL;VALUE=DURATION:PT1H
X-Robots-Tag:noindex
X-PUBLISHED-TTL:PT1H
BEGIN:VTIMEZONE
TZID:Europe/Prague
BEGIN:DAYLIGHT
TZOFFSETFROM:+0100
TZOFFSETTO:+0200
TZNAME:CEST
DTSTART:20180325T010000
END:DAYLIGHT
BEGIN:STANDARD
TZOFFSETFROM:+0200
TZOFFSETTO:+0100
TZNAME:CET
DTSTART:20181028T010000
END:STANDARD
BEGIN:DAYLIGHT
TZOFFSETFROM:+0100
TZOFFSETTO:+0200
TZNAME:CEST
DTSTART:20190331T010000
END:DAYLIGHT
BEGIN:STANDARD
TZOFFSETFROM:+0200
TZOFFSETTO:+0100
TZNAME:CET
DTSTART:20191027T010000
END:STANDARD
BEGIN:DAYLIGHT
TZOFFSETFROM:+0100
TZOFFSETTO:+0200
TZNAME:CEST
DTSTART:20200329T010000
END:DAYLIGHT
BEGIN:STANDARD
TZOFFSETFROM:+0200
TZOFFSETTO:+0100
TZNAME:CET
DTSTART:20201025T010000
END:STANDARD
END:VTIMEZONE
BEGIN:VEVENT
DTSTART;TZID=Europe/Prague:20191015T200000
DTEND;TZID=Europe/Prague:20191015T220000
DTSTAMP:20260420T010806
CREATED:20190810T190238Z
LAST-MODIFIED:20190810T190238Z
UID:21026-1571169600-1571176800@rocksound.cz
SUMMARY:Vanessa-Mae (Ostrava)
DESCRIPTION:Světově proslulá a neobyčejně nadaná virtuoska Vanessa-Mae přidala na seznam svého vyprodaného světového turné Ostravu. \n\n\nPo dlouhých devíti letech se 15. října 2019 vrátí do Ostravar Arény\, kterou v roce 2000 vyprodala a doslova uchvátila. S sebou přiveze výtečnou kapelu a doprovodí ji i český smyčcový orchestr a osm tuzemských vokalistů. Publiku představí to nejlepší ze své hudební kariéry. Hudební dojem umocní i vizuální show\, na které se hudebnice sama podílí. \nPředprodej vstupenek v síti TicketLIVE.
URL:https://rocksound.cz/akce/vanessa-mae-ostrava/
LOCATION:Ostravar Aréna\, Ruská 3077/135\, Ostrava
END:VEVENT
BEGIN:VEVENT
DTSTART;TZID=Europe/Prague:20191016T200000
DTEND;TZID=Europe/Prague:20191016T220000
DTSTAMP:20260420T010806
CREATED:20190921T152401Z
LAST-MODIFIED:20190921T152401Z
UID:22720-1571256000-1571263200@rocksound.cz
SUMMARY:Vanessa-Mae (Brno)
DESCRIPTION:Světově proslulá a neobyčejně nadaná virtuoska Vanessa-Mae si svým uměním podmanila české publikum. Nebývalý zájem o její koncerty přiměl management přidat k podzimním halovým vystoupením v Praze a Ostravě i brněnskou zastávku. \n\n\nVannesa-Mae tak v rámci svého světového turné zahraje 16. října i v DRFG Areně v Brně\, kterou před třemi lety vyprodala. S sebou přiveze výtečnou kapelu a doprovodí ji český smyčcový orchestr a osm tuzemských vokalistů. Hudební dojem umocní vizuální show\, na které se hudebnice sama podílí. \nPředprodej vstupenek v síti TicketLIVE.
URL:https://rocksound.cz/akce/vanessa-mae-brno/
LOCATION:DRFG Aréna\, Brno\, Křídlovická 34\, Brno
END:VEVENT
BEGIN:VEVENT
DTSTART;TZID=Europe/Prague:20191017T200000
DTEND;TZID=Europe/Prague:20191017T220000
DTSTAMP:20260420T010806
CREATED:20190810T190730Z
LAST-MODIFIED:20190810T190730Z
UID:21028-1571342400-1571349600@rocksound.cz
SUMMARY:Vanessa-Mae (Praha)
DESCRIPTION:Světově proslulá a neobyčejně nadaná virtuoska Vanessa-Mae přidala na seznam svého vyprodaného světového turné Prahu. \n\n\nPo pěti letech\, kdy společně s tenorem Josém Carrerasem vyprodala a nadchla O2 arenu\, se do ní 17. října 2019 vrátí. Publiku tentokrát představí to nejlepší ze své hudební kariéry. S sebou přiveze výtečnou kapelu a doprovodí ji i český smyčcový orchestr a osm tuzemských vokalistů. Hudební dojem umocní vizuální show\, na které se hudebnice sama podílí. \nPředprodej vstupenek v síti Ticketportal.
URL:https://rocksound.cz/akce/vanessa-mae-praha/
LOCATION:O2 arena\, Českomoravská 2345/17\, Praha
END:VEVENT
END:VCALENDAR