BEGIN:VCALENDAR
VERSION:2.0
PRODID:-//Rocksound - ECPv6.15.18//NONSGML v1.0//EN
CALSCALE:GREGORIAN
METHOD:PUBLISH
X-WR-CALNAME:Rocksound
X-ORIGINAL-URL:https://rocksound.cz
X-WR-CALDESC:Akce na Rocksound
REFRESH-INTERVAL;VALUE=DURATION:PT1H
X-Robots-Tag:noindex
X-PUBLISHED-TTL:PT1H
BEGIN:VTIMEZONE
TZID:Europe/Prague
BEGIN:DAYLIGHT
TZOFFSETFROM:+0100
TZOFFSETTO:+0200
TZNAME:CEST
DTSTART:20210328T010000
END:DAYLIGHT
BEGIN:STANDARD
TZOFFSETFROM:+0200
TZOFFSETTO:+0100
TZNAME:CET
DTSTART:20211031T010000
END:STANDARD
BEGIN:DAYLIGHT
TZOFFSETFROM:+0100
TZOFFSETTO:+0200
TZNAME:CEST
DTSTART:20220327T010000
END:DAYLIGHT
BEGIN:STANDARD
TZOFFSETFROM:+0200
TZOFFSETTO:+0100
TZNAME:CET
DTSTART:20221030T010000
END:STANDARD
BEGIN:DAYLIGHT
TZOFFSETFROM:+0100
TZOFFSETTO:+0200
TZNAME:CEST
DTSTART:20230326T010000
END:DAYLIGHT
BEGIN:STANDARD
TZOFFSETFROM:+0200
TZOFFSETTO:+0100
TZNAME:CET
DTSTART:20231029T010000
END:STANDARD
END:VTIMEZONE
BEGIN:VEVENT
DTSTART;TZID=Europe/Prague:20220908T170000
DTEND;TZID=Europe/Prague:20220908T220000
DTSTAMP:20260419T183807
CREATED:20220817T134818Z
LAST-MODIFIED:20220817T134818Z
UID:58564-1662656400-1662674400@rocksound.cz
SUMMARY:Pražský výběr - Praha
DESCRIPTION:Pražský výběr\n8. 9. 2022 doors 17:00\nLedárny Braník\, Praha\nVstupenky v předprodeji za 590 Kč pořídíte na ledarnyopenair.cz a GoOut.cz.\nVstupenky online: https://ledarnyopenair.cz/program/prazsky-vyber-2/\nLegenda české hudební scény Pražský výběr se představí na Ledárny Open Air. Tento koncert si rozhodně nenechte ujít!\nKoncertní areál pro Ledárny Open Air najdete hned vedle historické budovy Branických ledáren. Kromě skvělých koncertů si užijete i pohodovou letní atmosféru a bohatý výběr jídla a pití.\nhttps://ledarnyopenair.cz/\nhttps://www.facebook.com/ledarnyopenair\nhttps://www.instagram.com/ledarnyopenair/\n#ledarnyopenair
URL:https://rocksound.cz/akce/prazsky-vyber-praha-2/
LOCATION:Ledárny Braník\, Ledařská 5\, Praha\, 147 00
ATTACH;FMTTYPE=image/jpeg:https://rocksound.cz/wp-content/uploads/2022/08/277588974_302652035312941_4481668562411681852_n.jpg
END:VEVENT
END:VCALENDAR