BEGIN:VCALENDAR
VERSION:2.0
PRODID:-//Rocksound - ECPv6.15.18//NONSGML v1.0//EN
CALSCALE:GREGORIAN
METHOD:PUBLISH
X-WR-CALNAME:Rocksound
X-ORIGINAL-URL:https://rocksound.cz
X-WR-CALDESC:Akce na Rocksound
REFRESH-INTERVAL;VALUE=DURATION:PT1H
X-Robots-Tag:noindex
X-PUBLISHED-TTL:PT1H
BEGIN:VTIMEZONE
TZID:Europe/Prague
BEGIN:DAYLIGHT
TZOFFSETFROM:+0100
TZOFFSETTO:+0200
TZNAME:CEST
DTSTART:20220327T010000
END:DAYLIGHT
BEGIN:STANDARD
TZOFFSETFROM:+0200
TZOFFSETTO:+0100
TZNAME:CET
DTSTART:20221030T010000
END:STANDARD
BEGIN:DAYLIGHT
TZOFFSETFROM:+0100
TZOFFSETTO:+0200
TZNAME:CEST
DTSTART:20230326T010000
END:DAYLIGHT
BEGIN:STANDARD
TZOFFSETFROM:+0200
TZOFFSETTO:+0100
TZNAME:CET
DTSTART:20231029T010000
END:STANDARD
BEGIN:DAYLIGHT
TZOFFSETFROM:+0100
TZOFFSETTO:+0200
TZNAME:CEST
DTSTART:20240331T010000
END:DAYLIGHT
BEGIN:STANDARD
TZOFFSETFROM:+0200
TZOFFSETTO:+0100
TZNAME:CET
DTSTART:20241027T010000
END:STANDARD
END:VTIMEZONE
BEGIN:VEVENT
DTSTART;TZID=Europe/Prague:20230414T200000
DTEND;TZID=Europe/Prague:20230414T233000
DTSTAMP:20260425T015827
CREATED:20230404T181007Z
LAST-MODIFIED:20230404T181007Z
UID:69888-1681502400-1681515000@rocksound.cz
SUMMARY:VISACÍ ZÁMEK - MOST
DESCRIPTION:Legenda legend VISACÍ ZÁMEK zamíří v pátek 14.4. vyhlásit Punkový království do Music arény Nový Obzor v Mostě.
URL:https://rocksound.cz/akce/visaci-zamek-most/
LOCATION:Music aréna Nový Obzor\, Most\, Růžová 1280/4\, Most
ATTACH;FMTTYPE=image/jpeg:https://rocksound.cz/wp-content/uploads/2023/04/335647134_748231346658055_7408751837874642704_n.jpg
END:VEVENT
BEGIN:VEVENT
DTSTART;TZID=Europe/Prague:20230421T200000
DTEND;TZID=Europe/Prague:20230421T233000
DTSTAMP:20260425T015827
CREATED:20230404T181721Z
LAST-MODIFIED:20230404T181721Z
UID:69893-1682107200-1682119800@rocksound.cz
SUMMARY:VISACÍ ZÁMEK - PÍSEK
DESCRIPTION:Legenda legend VISACÍ ZÁMEK zamíří v pátek 21.4. vyhlásit Punkový království do KD PÍSEK.\nVstupenky zakoupíte na pokladnách Centra kultury nebo online https://www.centrumkultury.cz/event/577929/visaci-zamek.
URL:https://rocksound.cz/akce/visaci-zamek-pisek/
LOCATION:KD Písek\, Nábřeží 1. Máje 1605\, Písek
ATTACH;FMTTYPE=image/jpeg:https://rocksound.cz/wp-content/uploads/2023/04/337173733_898354841279776_19530461368353065_n.jpg
END:VEVENT
END:VCALENDAR