BEGIN:VCALENDAR
VERSION:2.0
PRODID:-//Rocksound - ECPv6.15.18//NONSGML v1.0//EN
CALSCALE:GREGORIAN
METHOD:PUBLISH
X-WR-CALNAME:Rocksound
X-ORIGINAL-URL:https://rocksound.cz
X-WR-CALDESC:Akce na Rocksound
REFRESH-INTERVAL;VALUE=DURATION:PT1H
X-Robots-Tag:noindex
X-PUBLISHED-TTL:PT1H
BEGIN:VTIMEZONE
TZID:Europe/Prague
BEGIN:DAYLIGHT
TZOFFSETFROM:+0100
TZOFFSETTO:+0200
TZNAME:CEST
DTSTART:20200329T010000
END:DAYLIGHT
BEGIN:STANDARD
TZOFFSETFROM:+0200
TZOFFSETTO:+0100
TZNAME:CET
DTSTART:20201025T010000
END:STANDARD
BEGIN:DAYLIGHT
TZOFFSETFROM:+0100
TZOFFSETTO:+0200
TZNAME:CEST
DTSTART:20210328T010000
END:DAYLIGHT
BEGIN:STANDARD
TZOFFSETFROM:+0200
TZOFFSETTO:+0100
TZNAME:CET
DTSTART:20211031T010000
END:STANDARD
BEGIN:DAYLIGHT
TZOFFSETFROM:+0100
TZOFFSETTO:+0200
TZNAME:CEST
DTSTART:20220327T010000
END:DAYLIGHT
BEGIN:STANDARD
TZOFFSETFROM:+0200
TZOFFSETTO:+0100
TZNAME:CET
DTSTART:20221030T010000
END:STANDARD
END:VTIMEZONE
BEGIN:VEVENT
DTSTART;TZID=Europe/Prague:20210731T170000
DTEND;TZID=Europe/Prague:20210731T235900
DTSTAMP:20260423T052219
CREATED:20210709T124634Z
LAST-MODIFIED:20210709T124634Z
UID:42872-1627750800-1627775940@rocksound.cz
SUMMARY:Slamák rock fest - Újezd u Přelouče
DESCRIPTION:Tradiční jednodenní akce festivalového typu s novým názvem a spousty novinek. Vlajková loď letošního hudebního léta v Újezdu u Přelouče. Kromě osvědčeného dua KOMUNÁL a WALDA GANG letos na akci vystoupí metalová legenda VITACIT\, s další legendou a to pro změnu v oblasti bigbítu – BRUTUS\, to vše doplní sk. ROXOR. Celou akcí bude provázet Tomáš Vladeka\, moderátor rádia Hey. Další novinkou bude premiérová prezentace rodinného pivovaru “ U Vacků “ z Chlumce nad Cidlinou se svými pivními speciály.
URL:https://rocksound.cz/akce/slamak-rock-fest-ujezd-u-prelouce/
LOCATION:Parket Újezd u Přelouče
END:VEVENT
END:VCALENDAR