BEGIN:VCALENDAR
VERSION:2.0
PRODID:-//Rocksound - ECPv6.15.18//NONSGML v1.0//EN
CALSCALE:GREGORIAN
METHOD:PUBLISH
X-WR-CALNAME:Rocksound
X-ORIGINAL-URL:https://rocksound.cz
X-WR-CALDESC:Akce na Rocksound
REFRESH-INTERVAL;VALUE=DURATION:PT1H
X-Robots-Tag:noindex
X-PUBLISHED-TTL:PT1H
BEGIN:VTIMEZONE
TZID:Europe/Prague
BEGIN:DAYLIGHT
TZOFFSETFROM:+0100
TZOFFSETTO:+0200
TZNAME:CEST
DTSTART:20220327T010000
END:DAYLIGHT
BEGIN:STANDARD
TZOFFSETFROM:+0200
TZOFFSETTO:+0100
TZNAME:CET
DTSTART:20221030T010000
END:STANDARD
BEGIN:DAYLIGHT
TZOFFSETFROM:+0100
TZOFFSETTO:+0200
TZNAME:CEST
DTSTART:20230326T010000
END:DAYLIGHT
BEGIN:STANDARD
TZOFFSETFROM:+0200
TZOFFSETTO:+0100
TZNAME:CET
DTSTART:20231029T010000
END:STANDARD
BEGIN:DAYLIGHT
TZOFFSETFROM:+0100
TZOFFSETTO:+0200
TZNAME:CEST
DTSTART:20240331T010000
END:DAYLIGHT
BEGIN:STANDARD
TZOFFSETFROM:+0200
TZOFFSETTO:+0100
TZNAME:CET
DTSTART:20241027T010000
END:STANDARD
END:VTIMEZONE
BEGIN:VEVENT
DTSTART;TZID=Europe/Prague:20230325T200000
DTEND;TZID=Europe/Prague:20230325T230000
DTSTAMP:20260419T163043
CREATED:20230322T103239Z
LAST-MODIFIED:20230322T103239Z
UID:69284-1679774400-1679785200@rocksound.cz
SUMMARY:VYPSANÁ FIXA\, Wóďa - Kusy Radosti Tour II - ZLÍN
DESCRIPTION:Turné české rockové stálice\, kapely VYPSANÁ FIXA „Kusy Radosti II“ startuje 9. března v Bratislavě a končí 14. dubna ve Valašském Meziříčí. Do ZLÍNA\, klubu Masters of Rock Café dorazí v sobotu\, 25. března! Fixa je ve formě a jede! Přijďte je podpořit\, pozdravit\, zazpívat si\, a hlavně si jejich příjemné písničky maximálně prožít!\nVstupenky můžete objednávat zde: https://www.mastersofrock.cz/cs/koncerty/Vypsana-fixa-2023 nebo v sítích Ticketportal\, Ticketstream či GoOut!
URL:https://rocksound.cz/akce/vypsana-fixa-woda-kusy-radosti-tour-ii-zlin/
LOCATION:Masters of Rock Cafe\, Tyršovo nábřeží 5497\, Zlín
ATTACH;FMTTYPE=image/jpeg:https://rocksound.cz/wp-content/uploads/2023/03/332300102_1621254948297373_7170198086060066464_n.jpg
END:VEVENT
END:VCALENDAR