BEGIN:VCALENDAR
VERSION:2.0
PRODID:-//Rocksound - ECPv6.15.18//NONSGML v1.0//EN
CALSCALE:GREGORIAN
METHOD:PUBLISH
X-WR-CALNAME:Rocksound
X-ORIGINAL-URL:https://rocksound.cz
X-WR-CALDESC:Akce na Rocksound
REFRESH-INTERVAL;VALUE=DURATION:PT1H
X-Robots-Tag:noindex
X-PUBLISHED-TTL:PT1H
BEGIN:VTIMEZONE
TZID:Europe/Prague
BEGIN:DAYLIGHT
TZOFFSETFROM:+0100
TZOFFSETTO:+0200
TZNAME:CEST
DTSTART:20180325T010000
END:DAYLIGHT
BEGIN:STANDARD
TZOFFSETFROM:+0200
TZOFFSETTO:+0100
TZNAME:CET
DTSTART:20181028T010000
END:STANDARD
BEGIN:DAYLIGHT
TZOFFSETFROM:+0100
TZOFFSETTO:+0200
TZNAME:CEST
DTSTART:20190331T010000
END:DAYLIGHT
BEGIN:STANDARD
TZOFFSETFROM:+0200
TZOFFSETTO:+0100
TZNAME:CET
DTSTART:20191027T010000
END:STANDARD
BEGIN:DAYLIGHT
TZOFFSETFROM:+0100
TZOFFSETTO:+0200
TZNAME:CEST
DTSTART:20200329T010000
END:DAYLIGHT
BEGIN:STANDARD
TZOFFSETFROM:+0200
TZOFFSETTO:+0100
TZNAME:CET
DTSTART:20201025T010000
END:STANDARD
END:VTIMEZONE
BEGIN:VEVENT
DTSTART;TZID=Europe/Prague:20190328T200000
DTEND;TZID=Europe/Prague:20190328T230000
DTSTAMP:20260423T132938
CREATED:20190223T175115Z
LAST-MODIFIED:20190223T175115Z
UID:10273-1553803200-1553814000@rocksound.cz
SUMMARY:SONATA ARCTICA - Praha
DESCRIPTION:SONATA ARCTICA oznamuje ACOUSTIC ADVENTURES tour po Evropě!\nV březnu zamíří i do Česka. \n\n\nV kapele finských titánů melodic metalu SONATA ARCTICA bylo v poslední době velké ticho. Ale tato přestávka byla dobře využita: kapela zaplula do studia a začala pracovat na dalším\, v pořadí už desátém\, albu\, jež by mělo vyjít v roce 2019 prostřednictvím Nuclear Blast. Ale předtím než nová deska spatří světlo světa\, se vydají melodici ze SONATY ARCTIKY na neobyčejnou cestu – jejich první akustická jízda napříč Evropou. Doprovázet je bude americká prog-metalová skupina WITHERFALL. \nPředprodej vstupenek na www.mastersofrock.cz.
URL:https://rocksound.cz/akce/sonata-arctica-praha/
LOCATION:Roxy Prague\, Dlouhá 33\, Praha
END:VEVENT
END:VCALENDAR