BEGIN:VCALENDAR
VERSION:2.0
PRODID:-//Rocksound - ECPv6.15.18//NONSGML v1.0//EN
CALSCALE:GREGORIAN
METHOD:PUBLISH
X-WR-CALNAME:Rocksound
X-ORIGINAL-URL:https://rocksound.cz
X-WR-CALDESC:Akce na Rocksound
REFRESH-INTERVAL;VALUE=DURATION:PT1H
X-Robots-Tag:noindex
X-PUBLISHED-TTL:PT1H
BEGIN:VTIMEZONE
TZID:Europe/Prague
BEGIN:DAYLIGHT
TZOFFSETFROM:+0100
TZOFFSETTO:+0200
TZNAME:CEST
DTSTART:20220327T010000
END:DAYLIGHT
BEGIN:STANDARD
TZOFFSETFROM:+0200
TZOFFSETTO:+0100
TZNAME:CET
DTSTART:20221030T010000
END:STANDARD
BEGIN:DAYLIGHT
TZOFFSETFROM:+0100
TZOFFSETTO:+0200
TZNAME:CEST
DTSTART:20230326T010000
END:DAYLIGHT
BEGIN:STANDARD
TZOFFSETFROM:+0200
TZOFFSETTO:+0100
TZNAME:CET
DTSTART:20231029T010000
END:STANDARD
BEGIN:DAYLIGHT
TZOFFSETFROM:+0100
TZOFFSETTO:+0200
TZNAME:CEST
DTSTART:20240331T010000
END:DAYLIGHT
BEGIN:STANDARD
TZOFFSETFROM:+0200
TZOFFSETTO:+0100
TZNAME:CET
DTSTART:20241027T010000
END:STANDARD
END:VTIMEZONE
BEGIN:VEVENT
DTSTART;TZID=Europe/Prague:20230120T173000
DTEND;TZID=Europe/Prague:20230120T233000
DTSTAMP:20260421T150210
CREATED:20221202T125237Z
LAST-MODIFIED:20221202T125237Z
UID:64449-1674235800-1674257400@rocksound.cz
SUMMARY:Palaye Royale (CA) + Special Guests: Yonaka (UK) - Fever Dream Tour - PRAHA
DESCRIPTION:PALAYE ROYALE MILUJÍ PRAHU\, PRAHA MILUJE PALAYE ROYALE! \nV rámci evropské části turné k novému albu Fever Dream se populární kanadsko-americká kapela v čele s bratry Remingtonem Leithem\, Sebastianem Danzigem a Emersonem Barrettem vrátí do Prahy!\nPražský koncert se uskuteční 20. ledna 2023 v Malé sportovní hale\, jako speciální host turné vystoupí fanouškům Rock for People velmi dobře známá kapela YONAKA.\n Prodej vstupenek na pražský koncert bude zahájen 15. srpna v 10:00 v síti GoOut.net.\nAlbum Fever Dream vychází 28. října.
URL:https://rocksound.cz/akce/palaye-royale-ca-special-guests-yonaka-uk-fever-dream-tour-praha/
LOCATION:Malá sportovní hala\, Výstaviště 67\, Praha
ATTACH;FMTTYPE=image/jpeg:https://rocksound.cz/wp-content/uploads/2022/12/315871360_670238781136785_2902564208611696021_n.jpg
END:VEVENT
END:VCALENDAR