BEGIN:VCALENDAR
VERSION:2.0
PRODID:-//Rocksound - ECPv6.15.18//NONSGML v1.0//EN
CALSCALE:GREGORIAN
METHOD:PUBLISH
X-WR-CALNAME:Rocksound
X-ORIGINAL-URL:https://rocksound.cz
X-WR-CALDESC:Akce na Rocksound
REFRESH-INTERVAL;VALUE=DURATION:PT1H
X-Robots-Tag:noindex
X-PUBLISHED-TTL:PT1H
BEGIN:VTIMEZONE
TZID:Europe/Prague
BEGIN:DAYLIGHT
TZOFFSETFROM:+0100
TZOFFSETTO:+0200
TZNAME:CEST
DTSTART:20190331T010000
END:DAYLIGHT
BEGIN:STANDARD
TZOFFSETFROM:+0200
TZOFFSETTO:+0100
TZNAME:CET
DTSTART:20191027T010000
END:STANDARD
BEGIN:DAYLIGHT
TZOFFSETFROM:+0100
TZOFFSETTO:+0200
TZNAME:CEST
DTSTART:20200329T010000
END:DAYLIGHT
BEGIN:STANDARD
TZOFFSETFROM:+0200
TZOFFSETTO:+0100
TZNAME:CET
DTSTART:20201025T010000
END:STANDARD
BEGIN:DAYLIGHT
TZOFFSETFROM:+0100
TZOFFSETTO:+0200
TZNAME:CEST
DTSTART:20210328T010000
END:DAYLIGHT
BEGIN:STANDARD
TZOFFSETFROM:+0200
TZOFFSETTO:+0100
TZNAME:CET
DTSTART:20211031T010000
END:STANDARD
END:VTIMEZONE
BEGIN:VEVENT
DTSTART;TZID=Europe/Prague:20200725T130000
DTEND;TZID=Europe/Prague:20200725T233000
DTSTAMP:20260422T181427
CREATED:20200709T130734Z
LAST-MODIFIED:20200709T130734Z
UID:34687-1595682000-1595719800@rocksound.cz
SUMMARY:Rockové Školy 2020 - Bučovice
DESCRIPTION:Již pošesté se můžete těšit na skvělé kapely\, výborné streetfoodové občerstvení a zajímavý doprovodný program v krásném prostředí mezi základními školami v Bučovicích! \n\n\nVystoupí: \n\nDavid Koller \n Cocotte Minute \n Zoči Voči \n Dark Gamballe \n Forrest Jump \n Záviš \n Xavier Baumaxa\n\nVstupenka: v předprodeji 440 Kč\nKupujte vstupenky na www.rockoveskoly.cz nebo v kamenných prodejnách v Bučovicích\, Slavkově u Brna nebo Brně.
URL:https://rocksound.cz/akce/rockove-skoly-2020-bucovice/
LOCATION:Základní školy ZŠ 710 a ZŠ 711 v Bučovicích.
END:VEVENT
END:VCALENDAR