BEGIN:VCALENDAR
VERSION:2.0
PRODID:-//Rocksound - ECPv6.15.18//NONSGML v1.0//EN
CALSCALE:GREGORIAN
METHOD:PUBLISH
X-WR-CALNAME:Rocksound
X-ORIGINAL-URL:https://rocksound.cz
X-WR-CALDESC:Akce na Rocksound
REFRESH-INTERVAL;VALUE=DURATION:PT1H
X-Robots-Tag:noindex
X-PUBLISHED-TTL:PT1H
BEGIN:VTIMEZONE
TZID:Europe/Prague
BEGIN:DAYLIGHT
TZOFFSETFROM:+0100
TZOFFSETTO:+0200
TZNAME:CEST
DTSTART:20180325T010000
END:DAYLIGHT
BEGIN:STANDARD
TZOFFSETFROM:+0200
TZOFFSETTO:+0100
TZNAME:CET
DTSTART:20181028T010000
END:STANDARD
BEGIN:DAYLIGHT
TZOFFSETFROM:+0100
TZOFFSETTO:+0200
TZNAME:CEST
DTSTART:20190331T010000
END:DAYLIGHT
BEGIN:STANDARD
TZOFFSETFROM:+0200
TZOFFSETTO:+0100
TZNAME:CET
DTSTART:20191027T010000
END:STANDARD
BEGIN:DAYLIGHT
TZOFFSETFROM:+0100
TZOFFSETTO:+0200
TZNAME:CEST
DTSTART:20200329T010000
END:DAYLIGHT
BEGIN:STANDARD
TZOFFSETFROM:+0200
TZOFFSETTO:+0100
TZNAME:CET
DTSTART:20201025T010000
END:STANDARD
END:VTIMEZONE
BEGIN:VEVENT
DTSTART;TZID=Europe/Prague:20190201T200000
DTEND;TZID=Europe/Prague:20190201T235900
DTSTAMP:20260426T040304
CREATED:20190108T184114Z
LAST-MODIFIED:20190108T184114Z
UID:8164-1549051200-1549065540@rocksound.cz
SUMMARY:Avatar - Zlín
DESCRIPTION:AVATAR zamíří v roce 2019 na headliner tour napříč Evropou! \n\n\nŠiřte tuto zprávu: \n„Král je věčný a AVATAR země je nekonečná. Cyklus každého alba však přichází a zase odchází. Přestože legendy nikdy neumírají\, ságy někdy musí mít svůj konec. My tam sice ještě nejsme\, ale jsme blíž než kdy jindy. Jak temné síly pomalu zakrývají naši mysl\, vyzýváme vás\, abyste se připojili k oslavě AVATAR country ještě\, než se dveře do království nadobro zavřou a my začneme putovat v novém\, dosud neprozkoumaném území. Vstupte a spojte se s námi na věky!“ \nJeho královská výsost země AVATAR a jeho elitní orchestr zavítají v rámci evropského headliner turné také do Zlína! \nPředprodej vstupenek: www.mastersofrock.cz
URL:https://rocksound.cz/akce/avatar-zlin/
LOCATION:Hala Euronics\, U Zimního stadionu 4286\, Zlín
END:VEVENT
BEGIN:VEVENT
DTSTART;TZID=Europe/Prague:20190217T200000
DTEND;TZID=Europe/Prague:20190217T230000
DTSTAMP:20260426T040304
CREATED:20190113T085305Z
LAST-MODIFIED:20190113T090003Z
UID:8295-1550433600-1550444400@rocksound.cz
SUMMARY:U.D.O. - Zlín
DESCRIPTION:Mistr Dirkschneider a jeho U.D.O. vyráží začátkem roku na tour\, kde hodlá představit své nové album! \n\n\nNěmecká heavy metalová skupina U.D.O. v čele s nestárnoucím matadorem Udem Dirkschneiderem se těší mimořádné pozornosti již více než dvě desetiletí. Bez ohledu na změny na metalové scéně nebo v sestavě U.D.O. se skupina nikdy neodchýlila od představy Dirkschneidera a to servírovat svým fanouškům pořádnou dávku klasického heavy metalu. \nPo uctění největších hitů ACCEPT s Udovým projektem pod hlavičkou DIRKSCHNEIDER nastal čas na novou kapitolu! \nMetalové monstrum U.D.O. vyráží na „STEELFACTORY WORLD TOUR 2019“\, aby představili novou desku! A je opravdu na co se těšit. Nové album „Steelfactory“ je totiž opravdu nadité pořádně říznými peckami! \nPředprodej vstupenek – www.mastersofrock.cz
URL:https://rocksound.cz/akce/u-d-o-zlin/
LOCATION:Masters of Rock Cafe\, Tyršovo nábřeží 5497\, Zlín
END:VEVENT
BEGIN:VEVENT
DTSTART;TZID=Europe/Prague:20190222T190000
DTEND;TZID=Europe/Prague:20190222T230000
DTSTAMP:20260426T040304
CREATED:20190113T115814Z
LAST-MODIFIED:20190113T115814Z
UID:8345-1550862000-1550876400@rocksound.cz
SUMMARY:Traktor - Šachoffnice Tour 2019 (Zlín)
DESCRIPTION:vstup: 18:00\nstart: 19:30 \n\n\nVstupenky na celé Šachoffnice tour v síti Ticketstream.
URL:https://rocksound.cz/akce/traktor-sachoffnice-tour-2019-zlin/
LOCATION:Hala Euronics\, U Zimního stadionu 4286\, Zlín
END:VEVENT
BEGIN:VEVENT
DTSTART;TZID=Europe/Prague:20190223T200000
DTEND;TZID=Europe/Prague:20190223T230000
DTSTAMP:20260426T040304
CREATED:20190113T131948Z
LAST-MODIFIED:20190113T131948Z
UID:8378-1550952000-1550962800@rocksound.cz
SUMMARY:Alestorm - Zlín
DESCRIPTION:Piráti ALESTORM jsou připraveni opět spojit síly s kapelou SKÁLMÖLD a už v únoru vyráží na druhou část SKÁLSTORM TOUR.  \n\n\nPo jejich mimořádném úspěchu v loňském roce\, kdy vyplenili místa jako Bukurešť\, Miláno\, Limoges\, Bolognu a Lisabon\, se tito bukanýři znovu vydávají na cestu po Evropě. \nSkotští piráti ALESTORM znovu napnou plachty na podporu svého pátého alba „No Grave But the Sea“\, zatímco islandští vikingové SKÁLMÖLD se vrací s pátým opusem „Sorgir“\, který byl vydán v říjnu. \nPočínaje Českou republikou\, přes Německo\, Polsko\, Finsko\, Estonsko\, Litvu\, Lotyšsko\, Švédsko\, Norsko\, Dánsko a Nizozemsko vás na SKALSTORM Tour 2019 budou vítat kovboji BOOTYARD BANDITS se zbrusu novým projektem z Divokého západu Spojeného království. \nAlestorm\, Skálmöld a Bootyard Bandits přivezou pořádnou nálož zábavy a explozi pozitivní energie také do Zlína a 23. února předvedou v klubu Masters of Rock Café takovou show\, která nenechá nikoho v klidu! \nPředprodej vstupenek na www.mastersofrock.cz
URL:https://rocksound.cz/akce/alestorm-zlin/
LOCATION:Masters of Rock Cafe\, Tyršovo nábřeží 5497\, Zlín
END:VEVENT
END:VCALENDAR