BEGIN:VCALENDAR
VERSION:2.0
PRODID:-//Rocksound - ECPv6.15.18//NONSGML v1.0//EN
CALSCALE:GREGORIAN
METHOD:PUBLISH
X-WR-CALNAME:Rocksound
X-ORIGINAL-URL:https://rocksound.cz
X-WR-CALDESC:Akce na Rocksound
REFRESH-INTERVAL;VALUE=DURATION:PT1H
X-Robots-Tag:noindex
X-PUBLISHED-TTL:PT1H
BEGIN:VTIMEZONE
TZID:Europe/Prague
BEGIN:DAYLIGHT
TZOFFSETFROM:+0100
TZOFFSETTO:+0200
TZNAME:CEST
DTSTART:20180325T010000
END:DAYLIGHT
BEGIN:STANDARD
TZOFFSETFROM:+0200
TZOFFSETTO:+0100
TZNAME:CET
DTSTART:20181028T010000
END:STANDARD
BEGIN:DAYLIGHT
TZOFFSETFROM:+0100
TZOFFSETTO:+0200
TZNAME:CEST
DTSTART:20190331T010000
END:DAYLIGHT
BEGIN:STANDARD
TZOFFSETFROM:+0200
TZOFFSETTO:+0100
TZNAME:CET
DTSTART:20191027T010000
END:STANDARD
BEGIN:DAYLIGHT
TZOFFSETFROM:+0100
TZOFFSETTO:+0200
TZNAME:CEST
DTSTART:20200329T010000
END:DAYLIGHT
BEGIN:STANDARD
TZOFFSETFROM:+0200
TZOFFSETTO:+0100
TZNAME:CET
DTSTART:20201025T010000
END:STANDARD
END:VTIMEZONE
BEGIN:VEVENT
DTSTART;TZID=Europe/Prague:20191012T200000
DTEND;TZID=Europe/Prague:20191012T230000
DTSTAMP:20260424T073819
CREATED:20190721T091640Z
LAST-MODIFIED:20190721T091640Z
UID:19679-1570910400-1570921200@rocksound.cz
SUMMARY:FREEDOM CALL - Zlín
DESCRIPTION:Melodická cháska z Norimberku FREEDOM CALL chystá pro své fanoušky zbrusu novou desku s názvem „M.E.T.A.L.“\, která vyjde už 23. srpna. K této příležitosti a zároveň k oslavě 20 let na hudební scéně naplánovala německá power metalová parta podzimní M.E.T.A.L. TOUR 2019 a do téměř dvaceti měst po Evropě přijedou představit své nové hymny. \n\n\nSe svou energetickou show a nakažlivým optimismem dorazí 11. října do MeetFactory v Praze a o den později 12. října do zlínského klubu Masters of Rock Café. \nSpeciálním hostem budou rakouští symfonici VISIONS OF ATLANTIS. \nPředprodej vstupenek na www.mastersofrock.cz.
URL:https://rocksound.cz/akce/freedom-call-zlin/
LOCATION:Masters of Rock Cafe\, Tyršovo nábřeží 5497\, Zlín
END:VEVENT
BEGIN:VEVENT
DTSTART;TZID=Europe/Prague:20191018T200000
DTEND;TZID=Europe/Prague:20191018T233000
DTSTAMP:20260424T073819
CREATED:20190914T052205Z
LAST-MODIFIED:20190914T052205Z
UID:22477-1571428800-1571441400@rocksound.cz
SUMMARY:Die Happy - Zlín
DESCRIPTION:DIE HAPPY – LOVE SUICIDE TOUR 2019 \n\n\nPo posledním turné\, které bylo akustické\, se bude opět hrát hodně nahlas\, s rockovými kytarami! Zpět na značky. Zpět na jeviště a představit nové písně\, které teprve nedávno napsali. Zpět ke svému publiku\, které se nedá ničím obalamutit a ždímá kapelu až do posledního taktu. \nKromě známých hitů\, jako je Supersonic Speed\, Goodbye a Big Boy\, uslyšíte tedy nový materiál\, jako například Give me a break a Killer. \nPředprodej vstupenek na www.mastersofrock.cz.
URL:https://rocksound.cz/akce/die-happy-zlin/
LOCATION:Masters of Rock Cafe\, Tyršovo nábřeží 5497\, Zlín
END:VEVENT
BEGIN:VEVENT
DTSTART;TZID=Europe/Prague:20191025T200000
DTEND;TZID=Europe/Prague:20191025T233000
DTSTAMP:20260424T073819
CREATED:20190914T054044Z
LAST-MODIFIED:20190914T054157Z
UID:22487-1572033600-1572046200@rocksound.cz
SUMMARY:Arakain - Zlín
DESCRIPTION:Legenda české metalové scény\, kapela Arakain\, vyráží na své podzimní turné a hned s novým CD! \n\n\nTo přichází tři roky od vydání poslední řadové desky ARAKADABRA a fanoušci jej tak budou moci na koncertech tour slyšet poprvé v jeho live podání. Každopádně dojde i na nejoblíbenější songy z bohaté diskografie kapely. \nHosté: The Agony\, Booters \nPředprodej vstupenek na www.mastersofrock.cz. \nPOZOR! V omezeném počtu kusů je možné si zakoupit na baru v klubu Masters of Rock Café VIP vstupenku na balkon!
URL:https://rocksound.cz/akce/arakain-zlin/
LOCATION:Masters of Rock Cafe\, Tyršovo nábřeží 5497\, Zlín
END:VEVENT
BEGIN:VEVENT
DTSTART;TZID=Europe/Prague:20191026T200000
DTEND;TZID=Europe/Prague:20191026T233000
DTSTAMP:20260424T073819
CREATED:20190914T053629Z
LAST-MODIFIED:20190914T053629Z
UID:22485-1572120000-1572132600@rocksound.cz
SUMMARY:The Unity - Zlín
DESCRIPTION:RISE LIVE 2019 \n\n\nNěmecko-italská partička THE UNITY vyráží na turné a u nás se na podzim zastaví v Praze a ve Zlíně! \nJen asi rok a půl poté\, co na jaře 2017 skupina The Unity vydala své debutové album\, byla tato parta vynikajících muzikantů připravena znovu zasáhnout a 14. září 2018 vydali další desku RISE\, které se probojovalo na 69. místo v německé hitparádě. Šlo o vůbec první umístění The Unity v jakékoliv albové hitparádě. \n„Nové písně odrážejí úžasnou energii a mimořádné reakce na našich show\, ale také velmi pozitivní reakce od médií\, “dodává k aktuálnímu albu bubeník Michael Ehré. \nPředprodej vstupenek na www.mastersofrock.cz
URL:https://rocksound.cz/akce/the-unity-zlin/
LOCATION:Masters of Rock Cafe\, Tyršovo nábřeží 5497\, Zlín
END:VEVENT
END:VCALENDAR