BEGIN:VCALENDAR
VERSION:2.0
PRODID:-//Rocksound - ECPv6.15.18//NONSGML v1.0//EN
CALSCALE:GREGORIAN
METHOD:PUBLISH
X-WR-CALNAME:Rocksound
X-ORIGINAL-URL:https://rocksound.cz
X-WR-CALDESC:Akce na Rocksound
REFRESH-INTERVAL;VALUE=DURATION:PT1H
X-Robots-Tag:noindex
X-PUBLISHED-TTL:PT1H
BEGIN:VTIMEZONE
TZID:Europe/Prague
BEGIN:DAYLIGHT
TZOFFSETFROM:+0100
TZOFFSETTO:+0200
TZNAME:CEST
DTSTART:20180325T010000
END:DAYLIGHT
BEGIN:STANDARD
TZOFFSETFROM:+0200
TZOFFSETTO:+0100
TZNAME:CET
DTSTART:20181028T010000
END:STANDARD
BEGIN:DAYLIGHT
TZOFFSETFROM:+0100
TZOFFSETTO:+0200
TZNAME:CEST
DTSTART:20190331T010000
END:DAYLIGHT
BEGIN:STANDARD
TZOFFSETFROM:+0200
TZOFFSETTO:+0100
TZNAME:CET
DTSTART:20191027T010000
END:STANDARD
BEGIN:DAYLIGHT
TZOFFSETFROM:+0100
TZOFFSETTO:+0200
TZNAME:CEST
DTSTART:20200329T010000
END:DAYLIGHT
BEGIN:STANDARD
TZOFFSETFROM:+0200
TZOFFSETTO:+0100
TZNAME:CET
DTSTART:20201025T010000
END:STANDARD
END:VTIMEZONE
BEGIN:VEVENT
DTSTART;TZID=Europe/Prague:20191207T190000
DTEND;TZID=Europe/Prague:20191207T230000
DTSTAMP:20260424T211506
CREATED:20190925T200120Z
LAST-MODIFIED:20190925T200120Z
UID:23094-1575745200-1575759600@rocksound.cz
SUMMARY:ELUVEITIE
DESCRIPTION:Švýcarští mistři ELUVEITIE naplánovali k novému albu velkolepé turné po Evropě. \n\n\nNa konci letošního roku se zastaví také ve Zlíně a doprovázet je budou Lacuna Coil a Infected Rain! \nFolkmetalová družina ELUVEITIE vydala v dubnu své prozatím nejsilnější album. Nová deska s názvem »Ategnatos« má skutečné kouzlo. Oslavuje lidskou jedinečnost\, objasňuje škálu archetypů\, jak je přijmout jako součást života a dosáhnout tak vnitřního klidu a osvícení mysli.\nKeltský kmen ELUVEITIE proto na podporu tohoto výjimečného díla naplánoval na závěr tohoto roku turné napříč Evropou.\nJak dodává kapela: „Už se nemůžeme dočkat\, až naše nové písně přivezeme k vám a podělíme se o naše nadšení s vámi“ \nPředprodej vstupenek na www.mastersofrock.cz.
URL:https://rocksound.cz/akce/eluveitie/
LOCATION:Sportovní hala DATART\, U Zimního stadionu 4286\, Zlín
END:VEVENT
BEGIN:VEVENT
DTSTART;TZID=Europe/Prague:20191216T200000
DTEND;TZID=Europe/Prague:20191216T220000
DTSTAMP:20260424T211506
CREATED:20190925T202509Z
LAST-MODIFIED:20190925T202509Z
UID:23104-1576526400-1576533600@rocksound.cz
SUMMARY:Tarja - Christmas Together (Zlín)
DESCRIPTION:Finská zpěvačka TARJA TURUNEN si již tradičně pro své české fanoušky připravila speciální vánoční koncerty. Po loňských naprosto úchvatných a také beznadějně vyprodaných koncertech odehraje Tarja v tomto roce před Vánoci hned čtyři vystoupení se zbrusu novým programem a úplně novým hudebním seskupením. \n\n\nRocková\, operní a metalová zpěvačka si pro Českou republiku připravila vánoční set plný tradičních písní za speciálního doprovodu violoncella\, kláves a kytar. V tomto složení bude Tarja hrát vůbec poprvé! A jako tečku přidá take část s oblíbenou písní Ave Maria. Přijďte si užít tuto jedinečnou show a naladit se na přicházející svátky! \nPředprodej vstupenek na www.mastersofrock.cz.
URL:https://rocksound.cz/akce/tarja-christmas-together-zlin/
LOCATION:Kongresové centrum Zlín\, nám. T. G. Masaryka 5556\, Zlín
END:VEVENT
END:VCALENDAR